{"text_format":"1","workbook":"xlsx","n_sheets":2,"sheets":["Helium Gas","AUX"],"not_rendered":{"charts":0,"images":5,"macros":1,"external_links":1,"defined_names":35,"comments":0,"pivot_tables":0},"unopened":[],"bounds":{"document_bytes":16777216,"sheet_cells":100000,"rows_first":2000,"rows_last":500,"rows_between":2000,"halvings":0,"cell_chars":16384,"cell_head_chars":4096},"cells_cut":0,"cells_raw":0,"read":"whole","date_system":"1900"}

{"sheet":"Helium Gas","index":0,"n_rows":48,"n_cols":26,"rows_kept":48,"cut":false,"hidden":false,"merged":[[14,1,14,3],[9,0,9,3],[2,1,2,2],[8,1,8,2],[0,1,0,6],[12,1,12,3]]}
["Simulation","D:\\Users\\golo.zick\\Documents\\04_Divers\\Design to Cost - G&C\\HX predesign\\Simu Guillaume\\ST!TCC_MMM_10kW\\ST!TCC_MMM_10kW.hsc",null,null,null,null,null,null,"Side",1,2,3,4,5,6,7,8,9,10]
[null,null,null,null,null,null,null,null,"Name",{"$f":"MakeName(J8,J9)","v":"T4Lb>>8MPa"},{"$f":"MakeName(K8,K9)","v":"8HPc>>9HPa"},"9LPa>>8LPa","#Error#","#Error#","#Error#","#Error#","#Error#","#Error#","#Error#"]
["Calculate data for side","8HPc>>9HPa",null,null,null,null,null,null,"Flow [kg/s]",{"$f":"VLOOKUP(_INOUTFlow,_DATA,4,FALSE)","v":0.12000000000000005},{"$f":"VLOOKUP(_INOUTFlow,_DATA,4,FALSE)","v":0.46450000000000002},0.455479065289073,{"$error":"#N/A"},{"$error":"#N/A"},{"$error":"#N/A"},{"$error":"#N/A"},{"$error":"#N/A"},{"$error":"#N/A"},{"$error":"#N/A"}]
[null,null,null,null,null,null,null,null,"T IN [K]",{"$f":"VLOOKUP(_INStr,_DATA,2,FALSE)","v":18.676692927311478},27.043577403391907,18.676692927311478,{"$error":"#N/A"},{"$error":"#N/A"},{"$error":"#N/A"},{"$error":"#N/A"},{"$error":"#N/A"},{"$error":"#N/A"},{"$error":"#N/A"}]
[null,null,null,null,null,null,null,null,"T OUT [K]",{"$f":"VLOOKUP(_OUTStr,_DATA,2,FALSE)","v":26.060519004145334},18.863448900644329,26.060517160041798,{"$error":"#N/A"},{"$error":"#N/A"},{"$error":"#N/A"},{"$error":"#N/A"},{"$error":"#N/A"},{"$error":"#N/A"},{"$error":"#N/A"}]
[null,"Min","Max","Round to",null,null,null,null,"p IN [bar]",{"$f":"VLOOKUP(_INStr,_DATA,3,FALSE)","v":5.2564806565064472},19.414999999999999,1.2675181711606096,{"$error":"#N/A"},{"$error":"#N/A"},{"$error":"#N/A"},{"$error":"#N/A"},{"$error":"#N/A"},{"$error":"#N/A"},{"$error":"#N/A"}]
["Pressure",{"$f":"FLOOR(HLOOKUP(_Side,_LNGData,6,FALSE)-_pR/10,_pR)","v":19.200000000000003},{"$f":"CEILING(HLOOKUP(_Side,_LNGData,5,FALSE)+_pR/10,_pR)","v":19.600000000000001},0.2,null,null,null,null,"p OUT [bar]",{"$f":"VLOOKUP(_OUTStr,_DATA,3,FALSE)","v":5.2412485345838222},19.395,1.2522860711606094,{"$error":"#N/A"},{"$error":"#N/A"},{"$error":"#N/A"},{"$error":"#N/A"},{"$error":"#N/A"},{"$error":"#N/A"},{"$error":"#N/A"}]
["Temperature",{"$f":"FLOOR(MIN(HLOOKUP(_Side,_LNGData,3,FALSE),HLOOKUP(_Side,_LNGData,4,FALSE))-_TR/10,_TR)","v":18.5},{"$f":"CEILING(MAX(HLOOKUP(_Side,_LNGData,3,FALSE),HLOOKUP(_Side,_LNGData,4,FALSE))+_TR/10,_TR)","v":27.5},0.5,null,null,null,null,"Stream IN","T4Lb","8HPc","9LPa"]
["Flow",{"$f":"HLOOKUP(_Side,_LNGData,2,FALSE)","v":0.46450000000000002},null,null,null,null,null,null,"Stream OUT","8MPa","9HPa","8LPa"]
[{"$f":"IF(ISNUMBER([1]!hecalc(2,0,1,_p1*100000,43,300,1)),IF(_T1>[1]!hecalc(2,0,1,_p1*100000,43,300,1),\"Data OK\",\"/!\\ Minimum point in two-phase region /!\\\"),\"Data OK\")","v":"Data OK"},null,null,null,null,null,null,null,"Flow from ","8MPa","8HPc","8LPa"]
[]
["EDR Configuration"]
["BAHX orientation","Horizontal, horizontal parting sheets"]
["Area safety factor",0.15,"(default 15% ; 30% if T<20K)"]
["Axial conduction option","Along fins and parting sheets"]
["Default fin",2912,"(default 2912)"]
[]
[{"$f":"\"@ pmin=\"& _p1  & \" bar\"","v":"@ pmin=19.2 bar"},null,1,2,3,4,5,6,7,8,9,10,11,12,13,14,15,16,17,18,19,20,21,22,23,24]
["Temperature","K",{"$f":"_T1","v":18.5},{"$f":"(_T2-_T1)/23+C19","v":18.891304347826086},{"$f":"(_T2-_T1)/23+D19","v":19.282608695652172},19.673913043478258,20.065217391304344,20.45652173913043,20.847826086956516,21.239130434782602,21.630434782608688,22.021739130434774,22.41304347826086,22.804347826086946,23.195652173913032,23.586956521739118,23.978260869565204,24.36956521739129,24.760869565217376,25.152173913043463,25.543478260869549,25.934782608695635,26.326086956521721,26.717391304347807,27.108695652173893,27.499999999999979]
["Liquid density","kg/m3"]
["Liquid specific heat","J/(kg*K)"]
["Liquid viscosity","Pa*s"]
["Liquid thermal cond.","W/(m*K)"]
["Liquid surface tension","N/m"]
["Liquid molecular weight"]
["Specific enthalpy","J/kg",{"$f":"[1]!hecalc(9,0,1,_p1*100000,2,_T*1,1)","v":101531.44517063757},{"$f":"[1]!hecalc(9,0,1,_p1*100000,2,_T*1,1)","v":103956.3852879144},{"$f":"[1]!hecalc(9,0,1,_p1*100000,2,_T*1,1)","v":106366.79565664848},{"$f":"[1]!hecalc(9,0,1,_p1*100000,2,_T*1,1)","v":108763.36929138959},{"$f":"[1]!hecalc(9,0,1,_p1*100000,2,_T*1,1)","v":111146.77034276346},{"$f":"[1]!hecalc(9,0,1,_p1*100000,2,_T*1,1)","v":113517.63257322519},{"$f":"[1]!hecalc(9,0,1,_p1*100000,2,_T*1,1)","v":115876.55877663434},{"$f":"[1]!hecalc(9,0,1,_p1*100000,2,_T*1,1)","v":118224.1208786155},{"$f":"[1]!hecalc(9,0,1,_p1*100000,2,_T*1,1)","v":120560.86051822954},{"$f":"[1]!hecalc(9,0,1,_p1*100000,2,_T*1,1)","v":122887.28996053684},{"$f":"[1]!hecalc(9,0,1,_p1*100000,2,_T*1,1)","v":125203.89322734419},{"$f":"[1]!hecalc(9,0,1,_p1*100000,2,_T*1,1)","v":127511.1273623177},{"$f":"[1]!hecalc(9,0,1,_p1*100000,2,_T*1,1)","v":129809.42376869495},{"$f":"[1]!hecalc(9,0,1,_p1*100000,2,_T*1,1)","v":132099.18957459807},{"$f":"[1]!hecalc(9,0,1,_p1*100000,2,_T*1,1)","v":134380.80899365671},{"$f":"[1]!hecalc(9,0,1,_p1*100000,2,_T*1,1)","v":136654.64465823065},{"$f":"[1]!hecalc(9,0,1,_p1*100000,2,_T*1,1)","v":138921.03890971807},{"$f":"[1]!hecalc(9,0,1,_p1*100000,2,_T*1,1)","v":141180.31503580371},{"$f":"[1]!hecalc(9,0,1,_p1*100000,2,_T*1,1)","v":143432.77844847803},{"$f":"[1]!hecalc(9,0,1,_p1*100000,2,_T*1,1)","v":145678.71779958141},{"$f":"[1]!hecalc(9,0,1,_p1*100000,2,_T*1,1)","v":147918.40603274555},{"$f":"[1]!hecalc(9,0,1,_p1*100000,2,_T*1,1)","v":150152.10137211956},{"$f":"[1]!hecalc(9,0,1,_p1*100000,2,_T*1,1)","v":152380.04824932784},{"$f":"[1]!hecalc(9,0,1,_p1*100000,2,_T*1,1)","v":154602.47817082412}]
["Vapor mass fraction",null,1,1,1,1,1,1,1,1,1,1,1,1,1,1,1,1,1,1,1,1,1,1,1,1]
["Vapor density","kg/m3",{"$f":"[1]!hecalc(3,0,1,_p1*100000,2,_T*1,1)","v":49.518377903282115},{"$f":"[1]!hecalc(3,0,1,_p1*100000,2,_T*1,1)","v":48.32673775166532},{"$f":"[1]!hecalc(3,0,1,_p1*100000,2,_T*1,1)","v":47.19605653040027},{"$f":"[1]!hecalc(3,0,1,_p1*100000,2,_T*1,1)","v":46.121722695106044},{"$f":"[1]!hecalc(3,0,1,_p1*100000,2,_T*1,1)","v":45.099560354904057},{"$f":"[1]!hecalc(3,0,1,_p1*100000,2,_T*1,1)","v":44.125783253267542},{"$f":"[1]!hecalc(3,0,1,_p1*100000,2,_T*1,1)","v":43.196953580585195},{"$f":"[1]!hecalc(3,0,1,_p1*100000,2,_T*1,1)","v":42.309945241505972},{"$f":"[1]!hecalc(3,0,1,_p1*100000,2,_T*1,1)","v":41.461911173403067},{"$f":"[1]!hecalc(3,0,1,_p1*100000,2,_T*1,1)","v":40.650254312989532},{"$f":"[1]!hecalc(3,0,1,_p1*100000,2,_T*1,1)","v":39.872601825196043},{"$f":"[1]!hecalc(3,0,1,_p1*100000,2,_T*1,1)","v":39.126782234571884},{"$f":"[1]!hecalc(3,0,1,_p1*100000,2,_T*1,1)","v":38.410805129930729},{"$f":"[1]!hecalc(3,0,1,_p1*100000,2,_T*1,1)","v":37.722843144704719},{"$f":"[1]!hecalc(3,0,1,_p1*100000,2,_T*1,1)","v":37.061215946629488},{"$f":"[1]!hecalc(3,0,1,_p1*100000,2,_T*1,1)","v":36.424375999873469},{"$f":"[1]!hecalc(3,0,1,_p1*100000,2,_T*1,1)","v":35.810895889972798},{"$f":"[1]!hecalc(3,0,1,_p1*100000,2,_T*1,1)","v":35.219457026692631},{"$f":"[1]!hecalc(3,0,1,_p1*100000,2,_T*1,1)","v":34.648839562169094},{"$f":"[1]!hecalc(3,0,1,_p1*100000,2,_T*1,1)","v":34.097913381480438},{"$f":"[1]!hecalc(3,0,1,_p1*100000,2,_T*1,1)","v":33.565630040307894},{"$f":"[1]!hecalc(3,0,1,_p1*100000,2,_T*1,1)","v":33.051015539768542},{"$f":"[1]!hecalc(3,0,1,_p1*100000,2,_T*1,1)","v":32.553163842038202},{"$f":"[1]!hecalc(3,0,1,_p1*100000,2,_T*1,1)","v":32.071231042235347}]
["Vapor specific heat","J/(kg*K)",{"$f":"[1]!hecalc(14,0,1,_p1*100000,2,_T*1,1)","v":6216.2425270695994},{"$f":"[1]!hecalc(14,0,1,_p1*100000,2,_T*1,1)","v":6178.2024377481075},{"$f":"[1]!hecalc(14,0,1,_p1*100000,2,_T*1,1)","v":6141.9681979205252},{"$f":"[1]!hecalc(14,0,1,_p1*100000,2,_T*1,1)","v":6107.4690039260322},{"$f":"[1]!hecalc(14,0,1,_p1*100000,2,_T*1,1)","v":6074.6286771170408},{"$f":"[1]!hecalc(14,0,1,_p1*100000,2,_T*1,1)","v":6043.3684773068608},{"$f":"[1]!hecalc(14,0,1,_p1*100000,2,_T*1,1)","v":6013.6091480133782},{"$f":"[1]!hecalc(14,0,1,_p1*100000,2,_T*1,1)","v":5985.2723776716966},{"$f":"[1]!hecalc(14,0,1,_p1*100000,2,_T*1,1)","v":5958.2818192071672},{"$f":"[1]!hecalc(14,0,1,_p1*100000,2,_T*1,1)","v":5932.5637776358262},{"$f":"[1]!hecalc(14,0,1,_p1*100000,2,_T*1,1)","v":5908.0476498449962},{"$f":"[1]!hecalc(14,0,1,_p1*100000,2,_T*1,1)","v":5884.6661808972603},{"$f":"[1]!hecalc(14,0,1,_p1*100000,2,_T*1,1)","v":5862.3555858781501},{"$f":"[1]!hecalc(14,0,1,_p1*100000,2,_T*1,1)","v":5841.0555744948651},{"$f":"[1]!hecalc(14,0,1,_p1*100000,2,_T*1,1)","v":5820.7093065530471},{"$f":"[1]!hecalc(14,0,1,_p1*100000,2,_T*1,1)","v":5801.2632994774713},{"$f":"[1]!hecalc(14,0,1,_p1*100000,2,_T*1,1)","v":5782.6673037192377},{"$f":"[1]!hecalc(14,0,1,_p1*100000,2,_T*1,1)","v":5764.8741578311592},{"$f":"[1]!hecalc(14,0,1,_p1*100000,2,_T*1,1)","v":5747.8396319028016},{"$f":"[1]!hecalc(14,0,1,_p1*100000,2,_T*1,1)","v":5731.522265701301},{"$f":"[1]!hecalc(14,0,1,_p1*100000,2,_T*1,1)","v":5715.8832060894838},{"$f":"[1]!hecalc(14,0,1,_p1*100000,2,_T*1,1)","v":5700.8860469545643},{"$f":"[1]!hecalc(14,0,1,_p1*100000,2,_T*1,1)","v":5686.4966738760586},{"$f":"[1]!hecalc(14,0,1,_p1*100000,2,_T*1,1)","v":5672.683115010841}]
["Vapor viscosity","Pa*s",{"$f":"[1]!hecalc(25,0,1,_p1*100000,2,_T*1,1)","v":4.1568382490019396E-6},{"$f":"[1]!hecalc(25,0,1,_p1*100000,2,_T*1,1)","v":4.1878085761285065E-6},{"$f":"[1]!hecalc(25,0,1,_p1*100000,2,_T*1,1)","v":4.2191657025438338E-6},{"$f":"[1]!hecalc(25,0,1,_p1*100000,2,_T*1,1)","v":4.2508573869902777E-6},{"$f":"[1]!hecalc(25,0,1,_p1*100000,2,_T*1,1)","v":4.2828377807953277E-6},{"$f":"[1]!hecalc(25,0,1,_p1*100000,2,_T*1,1)","v":4.3150665346642343E-6},{"$f":"[1]!hecalc(25,0,1,_p1*100000,2,_T*1,1)","v":4.3475080475882097E-6},{"$f":"[1]!hecalc(25,0,1,_p1*100000,2,_T*1,1)","v":4.3801308326680988E-6},{"$f":"[1]!hecalc(25,0,1,_p1*100000,2,_T*1,1)","v":4.4129069795341743E-6},{"$f":"[1]!hecalc(25,0,1,_p1*100000,2,_T*1,1)","v":4.4458116969093101E-6},{"$f":"[1]!hecalc(25,0,1,_p1*100000,2,_T*1,1)","v":4.4788229219374713E-6},{"$f":"[1]!hecalc(25,0,1,_p1*100000,2,_T*1,1)","v":4.511920985353583E-6},{"$f":"[1]!hecalc(25,0,1,_p1*100000,2,_T*1,1)","v":4.5450883235380082E-6},{"$f":"[1]!hecalc(25,0,1,_p1*100000,2,_T*1,1)","v":4.578309230081967E-6},{"$f":"[1]!hecalc(25,0,1,_p1*100000,2,_T*1,1)","v":4.6115696407697319E-6},{"$f":"[1]!hecalc(25,0,1,_p1*100000,2,_T*1,1)","v":4.6448569469214182E-6},{"$f":"[1]!hecalc(25,0,1,_p1*100000,2,_T*1,1)","v":4.6781598328860409E-6},{"$f":"[1]!hecalc(25,0,1,_p1*100000,2,_T*1,1)","v":4.711468134166073E-6},{"$f":"[1]!hecalc(25,0,1,_p1*100000,2,_T*1,1)","v":4.7447727132224693E-6},{"$f":"[1]!hecalc(25,0,1,_p1*100000,2,_T*1,1)","v":4.7780653504770819E-6},{"$f":"[1]!hecalc(25,0,1,_p1*100000,2,_T*1,1)","v":4.8113386484159758E-6},{"$f":"[1]!hecalc(25,0,1,_p1*100000,2,_T*1,1)","v":4.844585947018374E-6},{"$f":"[1]!hecalc(25,0,1,_p1*100000,2,_T*1,1)","v":4.8778012490029035E-6},{"$f":"[1]!hecalc(25,0,1,_p1*100000,2,_T*1,1)","v":4.9109791536062403E-6}]
["Vapor thermal cond.","W/(m*K)",{"$f":"[1]!hecalc(26,0,1,_p1*100000,2,_T*1,1)","v":3.1604923892923582E-2},{"$f":"[1]!hecalc(26,0,1,_p1*100000,2,_T*1,1)","v":3.1818424912949748E-2},{"$f":"[1]!hecalc(26,0,1,_p1*100000,2,_T*1,1)","v":3.2034124054211369E-2},{"$f":"[1]!hecalc(26,0,1,_p1*100000,2,_T*1,1)","v":3.2251749226297692E-2},{"$f":"[1]!hecalc(26,0,1,_p1*100000,2,_T*1,1)","v":3.2471064482179651E-2},{"$f":"[1]!hecalc(26,0,1,_p1*100000,2,_T*1,1)","v":3.2691864433237468E-2},{"$f":"[1]!hecalc(26,0,1,_p1*100000,2,_T*1,1)","v":3.2913969627391265E-2},{"$f":"[1]!hecalc(26,0,1,_p1*100000,2,_T*1,1)","v":3.3137222710584925E-2},{"$f":"[1]!hecalc(26,0,1,_p1*100000,2,_T*1,1)","v":3.3361485227251048E-2},{"$f":"[1]!hecalc(26,0,1,_p1*100000,2,_T*1,1)","v":3.3586634943634494E-2},{"$f":"[1]!hecalc(26,0,1,_p1*100000,2,_T*1,1)","v":3.3812563600376613E-2},{"$f":"[1]!hecalc(26,0,1,_p1*100000,2,_T*1,1)","v":3.4039175018724693E-2},{"$f":"[1]!hecalc(26,0,1,_p1*100000,2,_T*1,1)","v":3.4266383499069193E-2},{"$f":"[1]!hecalc(26,0,1,_p1*100000,2,_T*1,1)","v":3.4494112461977491E-2},{"$f":"[1]!hecalc(26,0,1,_p1*100000,2,_T*1,1)","v":3.4722293291083305E-2},{"$f":"[1]!hecalc(26,0,1,_p1*100000,2,_T*1,1)","v":3.4950864344576844E-2},{"$f":"[1]!hecalc(26,0,1,_p1*100000,2,_T*1,1)","v":3.5179770107993613E-2},{"$f":"[1]!hecalc(26,0,1,_p1*100000,2,_T*1,1)","v":3.5408960465811927E-2},{"$f":"[1]!hecalc(26,0,1,_p1*100000,2,_T*1,1)","v":3.5638390073272595E-2},{"$f":"[1]!hecalc(26,0,1,_p1*100000,2,_T*1,1)","v":3.5868017813008461E-2},{"$f":"[1]!hecalc(26,0,1,_p1*100000,2,_T*1,1)","v":3.609780632366423E-2},{"$f":"[1]!hecalc(26,0,1,_p1*100000,2,_T*1,1)","v":3.6327721589807876E-2},{"$f":"[1]!hecalc(26,0,1,_p1*100000,2,_T*1,1)","v":3.6557732584178979E-2},{"$f":"[1]!hecalc(26,0,1,_p1*100000,2,_T*1,1)","v":3.6787810954754828E-2}]
["Vapor molecular weight",null,4.0026000000000002,4.0026000000000002,4.0026000000000002,4.0026000000000002,4.0026000000000002,4.0026000000000002,4.0026000000000002,4.0026000000000002,4.0026000000000002,4.0026000000000002,4.0026000000000002,4.0026000000000002,4.0026000000000002,4.0026000000000002,4.0026000000000002,4.0026000000000002,4.0026000000000002,4.0026000000000002,4.0026000000000002,4.0026000000000002,4.0026000000000002,4.0026000000000002,4.0026000000000002,4.0026000000000002]
[]
[{"$f":"\"@ pmax= \"& _p2  & \" bar\"","v":"@ pmax= 19.6 bar"},null,1,2,3,4,5,6,7,8,9,10,11,12,13,14,15,16,17,18,19,20,21,22,23,24]
["Temperature","K",{"$f":"_T","v":18.5},18.891304347826086,19.282608695652172,19.673913043478258,20.065217391304344,20.45652173913043,20.847826086956516,21.239130434782602,21.630434782608688,22.021739130434774,22.41304347826086,22.804347826086946,23.195652173913032,23.586956521739118,23.978260869565204,24.36956521739129,24.760869565217376,25.152173913043463,25.543478260869549,25.934782608695635,26.326086956521721,26.717391304347807,27.108695652173893,27.499999999999979]
["Liquid density","kg/m3"]
["Liquid specific heat","J/(kg*K)"]
["Liquid viscosity","Pa*s"]
["Liquid thermal cond.","W/(m*K)"]
["Liquid surface tension","N/m"]
["Liquid molecular weight"]
["Specific enthalpy","J/kg",{"$f":"[1]!hecalc(9,0,1,_p2*100000,2,_T*1,1)","v":101397.11995879885},{"$f":"[1]!hecalc(9,0,1,_p2*100000,2,_T*1,1)","v":103826.2382122644},{"$f":"[1]!hecalc(9,0,1,_p2*100000,2,_T*1,1)","v":106240.85898669195},{"$f":"[1]!hecalc(9,0,1,_p2*100000,2,_T*1,1)","v":108641.65264376093},{"$f":"[1]!hecalc(9,0,1,_p2*100000,2,_T*1,1)","v":111029.26490510936},{"$f":"[1]!hecalc(9,0,1,_p2*100000,2,_T*1,1)","v":113404.3146216444},{"$f":"[1]!hecalc(9,0,1,_p2*100000,2,_T*1,1)","v":115767.39259994119},{"$f":"[1]!hecalc(9,0,1,_p2*100000,2,_T*1,1)","v":118119.06120592274},{"$f":"[1]!hecalc(9,0,1,_p2*100000,2,_T*1,1)","v":120459.85453154854},{"$f":"[1]!hecalc(9,0,1,_p2*100000,2,_T*1,1)","v":122790.27896121942},{"$f":"[1]!hecalc(9,0,1,_p2*100000,2,_T*1,1)","v":125110.81401412009},{"$f":"[1]!hecalc(9,0,1,_p2*100000,2,_T*1,1)","v":127421.91336924562},{"$f":"[1]!hecalc(9,0,1,_p2*100000,2,_T*1,1)","v":129724.00600335965},{"$f":"[1]!hecalc(9,0,1,_p2*100000,2,_T*1,1)","v":132017.49739016659},{"$f":"[1]!hecalc(9,0,1,_p2*100000,2,_T*1,1)","v":134302.77072277479},{"$f":"[1]!hecalc(9,0,1,_p2*100000,2,_T*1,1)","v":136580.18813203726},{"$f":"[1]!hecalc(9,0,1,_p2*100000,2,_T*1,1)","v":138850.09188133627},{"$f":"[1]!hecalc(9,0,1,_p2*100000,2,_T*1,1)","v":141112.80552440468},{"$f":"[1]!hecalc(9,0,1,_p2*100000,2,_T*1,1)","v":143368.6350173078},{"$f":"[1]!hecalc(9,0,1,_p2*100000,2,_T*1,1)","v":145617.86977908766},{"$f":"[1]!hecalc(9,0,1,_p2*100000,2,_T*1,1)","v":147860.78369807644},{"$f":"[1]!hecalc(9,0,1,_p2*100000,2,_T*1,1)","v":150097.63608271541},{"$f":"[1]!hecalc(9,0,1,_p2*100000,2,_T*1,1)","v":152328.67255703907},{"$f":"[1]!hecalc(9,0,1,_p2*100000,2,_T*1,1)","v":154554.12590191964}]
["Vapor mass fraction",null,1,1,1,1,1,1,1,1,1,1,1,1,1,1,1,1,1,1,1,1,1,1,1,1]
["Vapor density","kg/m3",{"$f":"[1]!hecalc(3,0,1,_p2*100000,2,_T*1,1)","v":50.485441036150171},{"$f":"[1]!hecalc(3,0,1,_p2*100000,2,_T*1,1)","v":49.27148725036681},{"$f":"[1]!hecalc(3,0,1,_p2*100000,2,_T*1,1)","v":48.119456299995157},{"$f":"[1]!hecalc(3,0,1,_p2*100000,2,_T*1,1)","v":47.024695288608967},{"$f":"[1]!hecalc(3,0,1,_p2*100000,2,_T*1,1)","v":45.982985396281904},{"$f":"[1]!hecalc(3,0,1,_p2*100000,2,_T*1,1)","v":44.990497057585934},{"$f":"[1]!hecalc(3,0,1,_p2*100000,2,_T*1,1)","v":44.043749623461096},{"$f":"[1]!hecalc(3,0,1,_p2*100000,2,_T*1,1)","v":43.139575217103562},{"$f":"[1]!hecalc(3,0,1,_p2*100000,2,_T*1,1)","v":42.275086446577546},{"$f":"[1]!hecalc(3,0,1,_p2*100000,2,_T*1,1)","v":41.447647621614166},{"$f":"[1]!hecalc(3,0,1,_p2*100000,2,_T*1,1)","v":40.654849126913525},{"$f":"[1]!hecalc(3,0,1,_p2*100000,2,_T*1,1)","v":39.894484621065793},{"$f":"[1]!hecalc(3,0,1,_p2*100000,2,_T*1,1)","v":39.164530753533846},{"$f":"[1]!hecalc(3,0,1,_p2*100000,2,_T*1,1)","v":38.463129118450937},{"$f":"[1]!hecalc(3,0,1,_p2*100000,2,_T*1,1)","v":37.788570191020163},{"$f":"[1]!hecalc(3,0,1,_p2*100000,2,_T*1,1)","v":37.139279018664951},{"$f":"[1]!hecalc(3,0,1,_p2*100000,2,_T*1,1)","v":36.513802463960594},{"$f":"[1]!hecalc(3,0,1,_p2*100000,2,_T*1,1)","v":35.910797819348815},{"$f":"[1]!hecalc(3,0,1,_p2*100000,2,_T*1,1)","v":35.329022634524463},{"$f":"[1]!hecalc(3,0,1,_p2*100000,2,_T*1,1)","v":34.767325616166204},{"$f":"[1]!hecalc(3,0,1,_p2*100000,2,_T*1,1)","v":34.224638476437939},{"$f":"[1]!hecalc(3,0,1,_p2*100000,2,_T*1,1)","v":33.699968621544748},{"$f":"[1]!hecalc(3,0,1,_p2*100000,2,_T*1,1)","v":33.192392584745022},{"$f":"[1]!hecalc(3,0,1,_p2*100000,2,_T*1,1)","v":32.701050119764304}]
["Vapor specific heat","J/(kg*K)",{"$f":"[1]!hecalc(14,0,1,_p2*100000,2,_T*1,1)","v":6226.8563398035176},{"$f":"[1]!hecalc(14,0,1,_p2*100000,2,_T*1,1)","v":6188.9317778264458},{"$f":"[1]!hecalc(14,0,1,_p2*100000,2,_T*1,1)","v":6152.7490939411},{"$f":"[1]!hecalc(14,0,1,_p2*100000,2,_T*1,1)","v":6118.2492896923886},{"$f":"[1]!hecalc(14,0,1,_p2*100000,2,_T*1,1)","v":6085.3660260503966},{"$f":"[1]!hecalc(14,0,1,_p2*100000,2,_T*1,1)","v":6054.0287493901233},{"$f":"[1]!hecalc(14,0,1,_p2*100000,2,_T*1,1)","v":6024.1650039234473},{"$f":"[1]!hecalc(14,0,1,_p2*100000,2,_T*1,1)","v":5995.7021197626354},{"$f":"[1]!hecalc(14,0,1,_p2*100000,2,_T*1,1)","v":5968.5684240273758},{"$f":"[1]!hecalc(14,0,1,_p2*100000,2,_T*1,1)","v":5942.6940894492909},{"$f":"[1]!hecalc(14,0,1,_p2*100000,2,_T*1,1)","v":5918.0117090304229},{"$f":"[1]!hecalc(14,0,1,_p2*100000,2,_T*1,1)","v":5894.4566650452061},{"$f":"[1]!hecalc(14,0,1,_p2*100000,2,_T*1,1)","v":5871.9673448740259},{"$f":"[1]!hecalc(14,0,1,_p2*100000,2,_T*1,1)","v":5850.4852438776788},{"$f":"[1]!hecalc(14,0,1,_p2*100000,2,_T*1,1)","v":5829.9549860089246},{"$f":"[1]!hecalc(14,0,1,_p2*100000,2,_T*1,1)","v":5810.3242855065191},{"$f":"[1]!hecalc(14,0,1,_p2*100000,2,_T*1,1)","v":5791.5438673506724},{"$f":"[1]!hecalc(14,0,1,_p2*100000,2,_T*1,1)","v":5773.5673598009571},{"$f":"[1]!hecalc(14,0,1,_p2*100000,2,_T*1,1)","v":5756.3511689932729},{"$f":"[1]!hecalc(14,0,1,_p2*100000,2,_T*1,1)","v":5739.8543430119362},{"$f":"[1]!hecalc(14,0,1,_p2*100000,2,_T*1,1)","v":5724.0384308971106},{"$f":"[1]!hecalc(14,0,1,_p2*100000,2,_T*1,1)","v":5708.8673405581849},{"$f":"[1]!hecalc(14,0,1,_p2*100000,2,_T*1,1)","v":5694.3071984326316},{"$f":"[1]!hecalc(14,0,1,_p2*100000,2,_T*1,1)","v":5680.3262128744109}]
["Vapor viscosity","Pa*s",{"$f":"[1]!hecalc(25,0,1,_p2*100000,2,_T*1,1)","v":4.1726763497337681E-6},{"$f":"[1]!hecalc(25,0,1,_p2*100000,2,_T*1,1)","v":4.2033120296978463E-6},{"$f":"[1]!hecalc(25,0,1,_p2*100000,2,_T*1,1)","v":4.2343531128447585E-6},{"$f":"[1]!hecalc(25,0,1,_p2*100000,2,_T*1,1)","v":4.2657457778065135E-6},{"$f":"[1]!hecalc(25,0,1,_p2*100000,2,_T*1,1)","v":4.297442770903323E-6},{"$f":"[1]!hecalc(25,0,1,_p2*100000,2,_T*1,1)","v":4.3294024898009887E-6},{"$f":"[1]!hecalc(25,0,1,_p2*100000,2,_T*1,1)","v":4.3615882127253566E-6},{"$f":"[1]!hecalc(25,0,1,_p2*100000,2,_T*1,1)","v":4.393967447485565E-6},{"$f":"[1]!hecalc(25,0,1,_p2*100000,2,_T*1,1)","v":4.4265113795250713E-6},{"$f":"[1]!hecalc(25,0,1,_p2*100000,2,_T*1,1)","v":4.4591944021618318E-6},{"$f":"[1]!hecalc(25,0,1,_p2*100000,2,_T*1,1)","v":4.4919937153180885E-6},{"$f":"[1]!hecalc(25,0,1,_p2*100000,2,_T*1,1)","v":4.5248889815482432E-6},{"$f":"[1]!hecalc(25,0,1,_p2*100000,2,_T*1,1)","v":4.5578620301852102E-6},{"$f":"[1]!hecalc(25,0,1,_p2*100000,2,_T*1,1)","v":4.5908966020457488E-6},{"$f":"[1]!hecalc(25,0,1,_p2*100000,2,_T*1,1)","v":4.6239781284452119E-6},{"$f":"[1]!hecalc(25,0,1,_p2*100000,2,_T*1,1)","v":4.6570935393354066E-6},{"$f":"[1]!hecalc(25,0,1,_p2*100000,2,_T*1,1)","v":4.6902310962458299E-6},{"$f":"[1]!hecalc(25,0,1,_p2*100000,2,_T*1,1)","v":4.7233802464173857E-6},{"$f":"[1]!hecalc(25,0,1,_p2*100000,2,_T*1,1)","v":4.7565314950997099E-6},{"$f":"[1]!hecalc(25,0,1,_p2*100000,2,_T*1,1)","v":4.7896762934630385E-6},{"$f":"[1]!hecalc(25,0,1,_p2*100000,2,_T*1,1)","v":4.8228069399721428E-6},{"$f":"[1]!hecalc(25,0,1,_p2*100000,2,_T*1,1)","v":4.8559164933992752E-6},{"$f":"[1]!hecalc(25,0,1,_p2*100000,2,_T*1,1)","v":4.8889986959271107E-6},{"$f":"[1]!hecalc(25,0,1,_p2*100000,2,_T*1,1)","v":4.9220479050217951E-6}]
["Vapor thermal cond.","W/(m*K)",{"$f":"[1]!hecalc(26,0,1,_p2*100000,2,_T*1,1)","v":3.1753988330590524E-2},{"$f":"[1]!hecalc(26,0,1,_p2*100000,2,_T*1,1)","v":3.1965472621403812E-2},{"$f":"[1]!hecalc(26,0,1,_p2*100000,2,_T*1,1)","v":3.2179254549272708E-2},{"$f":"[1]!hecalc(26,0,1,_p2*100000,2,_T*1,1)","v":3.2395051430006601E-2},{"$f":"[1]!hecalc(26,0,1,_p2*100000,2,_T*1,1)","v":3.2612618201953221E-2},{"$f":"[1]!hecalc(26,0,1,_p2*100000,2,_T*1,1)","v":3.2831741612311685E-2},{"$f":"[1]!hecalc(26,0,1,_p2*100000,2,_T*1,1)","v":3.305223540307111E-2},{"$f":"[1]!hecalc(26,0,1,_p2*100000,2,_T*1,1)","v":3.3273936311309003E-2},{"$f":"[1]!hecalc(26,0,1,_p2*100000,2,_T*1,1)","v":3.349670073456093E-2},{"$f":"[1]!hecalc(26,0,1,_p2*100000,2,_T*1,1)","v":3.3720401940880836E-2},{"$f":"[1]!hecalc(26,0,1,_p2*100000,2,_T*1,1)","v":3.3944927726372094E-2},{"$f":"[1]!hecalc(26,0,1,_p2*100000,2,_T*1,1)","v":3.4170178441507743E-2},{"$f":"[1]!hecalc(26,0,1,_p2*100000,2,_T*1,1)","v":3.4396065322399937E-2},{"$f":"[1]!hecalc(26,0,1,_p2*100000,2,_T*1,1)","v":3.4622509075075296E-2},{"$f":"[1]!hecalc(26,0,1,_p2*100000,2,_T*1,1)","v":3.4849438670364739E-2},{"$f":"[1]!hecalc(26,0,1,_p2*100000,2,_T*1,1)","v":3.5076790314704787E-2},{"$f":"[1]!hecalc(26,0,1,_p2*100000,2,_T*1,1)","v":3.5304506568349853E-2},{"$f":"[1]!hecalc(26,0,1,_p2*100000,2,_T*1,1)","v":3.5532535587513875E-2},{"$f":"[1]!hecalc(26,0,1,_p2*100000,2,_T*1,1)","v":3.576083047103322E-2},{"$f":"[1]!hecalc(26,0,1,_p2*100000,2,_T*1,1)","v":3.5989348695456932E-2},{"$f":"[1]!hecalc(26,0,1,_p2*100000,2,_T*1,1)","v":3.6218051625178153E-2},{"$f":"[1]!hecalc(26,0,1,_p2*100000,2,_T*1,1)","v":3.6446904086436464E-2},{"$f":"[1]!hecalc(26,0,1,_p2*100000,2,_T*1,1)","v":3.6675873995843086E-2},{"$f":"[1]!hecalc(26,0,1,_p2*100000,2,_T*1,1)","v":3.6904932035580512E-2}]
["Vapor molecular weight",null,4.0026000000000002,4.0026000000000002,4.0026000000000002,4.0026000000000002,4.0026000000000002,4.0026000000000002,4.0026000000000002,4.0026000000000002,4.0026000000000002,4.0026000000000002,4.0026000000000002,4.0026000000000002,4.0026000000000002,4.0026000000000002,4.0026000000000002,4.0026000000000002,4.0026000000000002,4.0026000000000002,4.0026000000000002,4.0026000000000002,4.0026000000000002,4.0026000000000002,4.0026000000000002,4.0026000000000002]

{"sheet":"AUX","index":1,"n_rows":99,"n_cols":17,"rows_kept":99,"cut":false,"hidden":true,"merged":[]}
["Name","T [K]","p [bar]","Flow [kg/s]",null,null,"Stream name",{"$f":"'Helium Gas'!J2","v":"T4Lb>>8MPa"},{"$f":"'Helium Gas'!K2","v":"8HPc>>9HPa"},{"$f":"'Helium Gas'!L2","v":"9LPa>>8LPa"},{"$f":"'Helium Gas'!M2","v":"#Error#"},{"$f":"'Helium Gas'!N2","v":"#Error#"},{"$f":"'Helium Gas'!O2","v":"#Error#"},{"$f":"'Helium Gas'!P2","v":"#Error#"},{"$f":"'Helium Gas'!Q2","v":"#Error#"},{"$f":"'Helium Gas'!R2","v":"#Error#"},{"$f":"'Helium Gas'!S2","v":"#Error#"}]
[1,4.5028728003981087,1.3029999999999999,0.46350000000000002,null,null,"Total mass flow rate",{"$f":"'Helium Gas'!J3","v":0.12000000000000005},{"$f":"'Helium Gas'!K3","v":0.46450000000000002},{"$f":"'Helium Gas'!L3","v":0.455479065289073},{"$f":"'Helium Gas'!M3","v":{"$error":"#N/A"}},{"$f":"'Helium Gas'!N3","v":{"$error":"#N/A"}},{"$f":"'Helium Gas'!O3","v":{"$error":"#N/A"}},{"$f":"'Helium Gas'!P3","v":{"$error":"#N/A"}},{"$f":"'Helium Gas'!Q3","v":{"$error":"#N/A"}},{"$f":"'Helium Gas'!R3","v":{"$error":"#N/A"}},{"$f":"'Helium Gas'!S3","v":{"$error":"#N/A"}}]
[2,300,1.05,9.8548833355720563E-3,null,null,"Mass flow multiplier",1,1,1,1,1,1,1,1,1,1]
["0HPa",300,19.740000000000002,0.90736723011687614,null,null,"Inlet temperature",{"$f":"'Helium Gas'!J4","v":18.676692927311478},{"$f":"'Helium Gas'!K4","v":27.043577403391907},{"$f":"'Helium Gas'!L4","v":18.676692927311478},{"$f":"'Helium Gas'!M4","v":{"$error":"#N/A"}},{"$f":"'Helium Gas'!N4","v":{"$error":"#N/A"}},{"$f":"'Helium Gas'!O4","v":{"$error":"#N/A"}},{"$f":"'Helium Gas'!P4","v":{"$error":"#N/A"}},{"$f":"'Helium Gas'!Q4","v":{"$error":"#N/A"}},{"$f":"'Helium Gas'!R4","v":{"$error":"#N/A"}},{"$f":"'Helium Gas'!S4","v":{"$error":"#N/A"}}]
["0HPb",299.99564396960596,19.809999999999999,0.90736723011687626,null,null,"Outlet temperature",{"$f":"'Helium Gas'!J5","v":26.060519004145334},{"$f":"'Helium Gas'!K5","v":18.863448900644329},{"$f":"'Helium Gas'!L5","v":26.060517160041798},{"$f":"'Helium Gas'!M5","v":{"$error":"#N/A"}},{"$f":"'Helium Gas'!N5","v":{"$error":"#N/A"}},{"$f":"'Helium Gas'!O5","v":{"$error":"#N/A"}},{"$f":"'Helium Gas'!P5","v":{"$error":"#N/A"}},{"$f":"'Helium Gas'!Q5","v":{"$error":"#N/A"}},{"$f":"'Helium Gas'!R5","v":{"$error":"#N/A"}},{"$f":"'Helium Gas'!S5","v":{"$error":"#N/A"}}]
["0HPc",299.99564396960596,19.809999999999999,0.97494966880569101,null,null,"Inlet quality(vapor mass fraction)"]
["0HPd",300,20.309999999999999,0.97494966880569101,null,null,"Outlet quality (vapor mass fraction)"]
["0HPe",598.17607993193906,20.309999999999999,0.97494966880569101,null,null,"Inlet pressure",{"$f":"'Helium Gas'!J6","v":5.2564806565064472},{"$f":"'Helium Gas'!K6","v":19.414999999999999},{"$f":"'Helium Gas'!L6","v":1.2675181711606096},{"$f":"'Helium Gas'!M6","v":{"$error":"#N/A"}},{"$f":"'Helium Gas'!N6","v":{"$error":"#N/A"}},{"$f":"'Helium Gas'!O6","v":{"$error":"#N/A"}},{"$f":"'Helium Gas'!P6","v":{"$error":"#N/A"}},{"$f":"'Helium Gas'!Q6","v":{"$error":"#N/A"}},{"$f":"'Helium Gas'!R6","v":{"$error":"#N/A"}},{"$f":"'Helium Gas'!S6","v":{"$error":"#N/A"}}]
["0LPa",296.97209047286481,1.1022122487690507,0.455479065289073,null,null,"Outlet pressure",{"$f":"'Helium Gas'!J7","v":5.2412485345838222},{"$f":"'Helium Gas'!K7","v":19.395},{"$f":"'Helium Gas'!L7","v":1.2522860711606094},{"$f":"'Helium Gas'!M7","v":{"$error":"#N/A"}},{"$f":"'Helium Gas'!N7","v":{"$error":"#N/A"}},{"$f":"'Helium Gas'!O7","v":{"$error":"#N/A"}},{"$f":"'Helium Gas'!P7","v":{"$error":"#N/A"}},{"$f":"'Helium Gas'!Q7","v":{"$error":"#N/A"}},{"$f":"'Helium Gas'!R7","v":{"$error":"#N/A"}},{"$f":"'Helium Gas'!S7","v":{"$error":"#N/A"}}]
["0LPd",296.97534087248999,1.05,0.455479065289073,null,null,"Inlet specific enthalpy"]
["0LPh",297.26108136245728,1.05,0.53294243868881486,null,null,"Outlet specific enthalpy"]
["0MPa",640.88478360347119,5,0.53294243868881486,null,null,"Allowed pressure drop",{"$f":"'Helium Gas'!J6-'Helium Gas'!J7","v":1.5232121922625019E-2},{"$f":"'Helium Gas'!K6-'Helium Gas'!K7","v":1.9999999999999574E-2},{"$f":"'Helium Gas'!L6-'Helium Gas'!L7","v":1.5232100000000193E-2},{"$f":"'Helium Gas'!M6-'Helium Gas'!M7","v":{"$error":"#N/A"}},{"$f":"'Helium Gas'!N6-'Helium Gas'!N7","v":{"$error":"#N/A"}},{"$f":"'Helium Gas'!O6-'Helium Gas'!O7","v":{"$error":"#N/A"}},{"$f":"'Helium Gas'!P6-'Helium Gas'!P7","v":{"$error":"#N/A"}},{"$f":"'Helium Gas'!Q6-'Helium Gas'!Q7","v":{"$error":"#N/A"}},{"$f":"'Helium Gas'!R6-'Helium Gas'!R7","v":{"$error":"#N/A"}},{"$f":"'Helium Gas'!S6-'Helium Gas'!S7","v":{"$error":"#N/A"}}]
["0MPb",300,5,0.53294243868881486,null,null,"Estimated pressure loss"]
["0MPc",296.97209052787986,5.07,0.44200723011687615,null,null,"Heat load"]
["0MPd",296.97644863379082,5,0.44200723011687615,null,null,"Fraction of maximum heat load"]
["0MPe",298.6292297613245,5,0.97494966880569101,null,null,"Number of sides",{"$f":"SUM(ISNUMBER(H2:Q2)*1)","v":3}]
["11LPa",8.0900776968173318,1.2707643610785462,0.455479065289073]
["12HPa",5.0947083556321218,7.99,0.46430000000000005]
["12HPb",5.1083846869656782,7.84,0.46430000000000005,null,null,"Along parting sheets",{"$f":"MATCH(_EDR_Cond,_ct_EDR_Cond,0)","v":2}]
["12LPa",4.6000000000000227,1.2815017584994137,0.455479065289073,null,null,"Along fins and parting sheets"]
["12MPa",4.8104027966874696,3,0.46430000000000005,null,null,"None"]
["12MPb",4.8104027966874696,3,0.46350000000000002]
["13LPa",4.5003510433140832,1.3029999999999999,0.46350000000000002,null,null,"Vertical, end A at top",{"$f":"MATCH(_EDR_Orient,_cT_EDR_Orient,0)","v":4}]
["13LPb",4.5028728003981087,1.3029999999999999,0.45364511666442797,null,null,"Vertical, end A at bottom"]
["13LPc",4.5028672442621769,1.3029999999999999,0.455479065289073,null,null,"Horizontal, vertical parting sheets"]
["13LPd",4.4856276395139503,1.2829999999999999,0.455479065289073,null,null,"Horizontal, horizontal parting sheets"]
["13MPa",4.5850276349439127,2.99,0.46350000000000002]
["1HPa",153.5922904271948,19.690000000000001,0.90736723011687614]
["1HPb",153.5922904271948,19.690000000000001,0.75236723011687612]
["1LPa",148.89441673545551,1.1476589076201642,0.455479065289073]
["1MPa",148.89438031699942,5.12,0.44200723011687615]
["2HPa",132.50525102244234,19.670000000000002,0.75236723011687612]
["2LPa",131.18512573871368,1.15714777045721,0.455479065289073]
["2MPa",131.18516450575584,5.14,0.44200723011687615]
["3HPa",63.635125832121759,19.650000000000002,0.75236723011687612]
["3LPa",61.200818846843958,1.2065897399765535,0.455479065289073]
["3MPa",61.200818936587865,5.16,0.44200723011687615]
["4HPa",50.203038712446727,19.63,0.75236723011687612]
["4HPb",50.207809642655263,19.54,0.75236723011687612]
["4LPa",49.740000000000009,1.2203236203985932,0.455479065289073]
["4MPa",49.740000000000009,5.18,0.28740723011687613]
["4MPb",49.739999999995234,5.18,0.44200723011687615]
["5HPa",50.08693953058966,19.52,0.75236723011687612]
["5HPb",50.08693953058966,19.52,0.72200032944616255]
["5LPa",49.612836541525098,1.221572154982415,0.455479065289073]
["5MPa",49.612835192247957,5.2,0.28740723011687613]
["6HPa",35.900000000000006,19.5,0.72200032944616255]
["6HPb",35.900000000000006,19.5,0.58474000000000004]
["6LPa",35.353425109672969,1.2497890365767876,0.455479065289073]
["6MPa",35.353424801361655,5.22,0.28740723011687613]
["7HPa",34.76937839541435,19.48,0.58474000000000004]
["7LPa",34.420797667437171,1.2510375711606094,0.455479065289073]
["7MPa",34.420797667441036,5.24,0.12]
["7MPb",34.420797667437171,5.24,0.28740723011687613]
["8HPa",27.043098520144014,19.46,0.58474000000000004]
["8HPb",27.043577403391907,19.414999999999999,0.58474000000000004]
["8HPc",27.043577403391907,19.414999999999999,0.46450000000000002]
["8LPa",26.060517160041798,1.2522860711606094,0.455479065289073]
["8MPa",26.060519004145334,5.2412485345838222,0.12000000000000005]
["9HPa",18.863448900644329,19.395,0.46450000000000002]
["9LPa",18.676692927311478,1.2675181711606096,0.455479065289073]
["From Buffer",300,1.05,0]
["From TS",50.099999999999994,19,0.13726032944616254]
["From Turbines",287.71498913526676,3,3.835999999999911E-2]
["From Turbines 2",296.97534087248999,1.05,3.835999999999911E-2]
["HP-LPa",299.99564396960596,19.809999999999999,2.9248490064170726E-2]
["HP-LPb",301.16275679975121,1.05,2.9248490064170726E-2]
["LevelCompensation",4.5014899779526445,1.3029999999999999,1.833948624645073E-3]
["LHe",4.5028728003981087,1.3029999999999999,9.8548833355720563E-3]
["T1_Loss",132.50525102244234,12,2.0000000000000001E-4]
["T1Ha",153.5922904271948,19.690000000000001,0.155]
["T1Hb",153.60146597370664,19.54,0.155]
["T1La",132.50525102244234,12,0.155]
["T1Lb",132.50525102244234,12,0.15479999999999999]
["T2_Loss",49.740000000000009,5.18,2.0000000000000001E-4]
["T2Ha",63.635125832121759,11.98,0.15479999999999999]
["T2Hb",63.640810625374712,11.83,0.15479999999999999]
["T2La",49.740000000000009,5.18,0.15479999999999999]
["T2Lb",49.740000000000009,5.18,0.15459999999999999]
["T3_Loss",34.420797667441036,5.24,2.2000000000000001E-4]
["T3Ha",50.08693953058966,19.52,3.0366900670713612E-2]
["T3Hb",50.099999999999994,19,3.0366900670713615E-2]
["T3Hc",50.099999998082069,19,0.16762723011687614]
["T3La",34.420797667441036,5.24,0.16762723011687614]
["T3Lb",34.420797667441036,5.24,0.16740723011687614]
["T4_Loss",18.676692927311478,5.2564806565064472,2.4000000000000001E-4]
["T4Ha",27.043577403391907,19.414999999999999,0.12024000000000006]
["T4Hb",27.040146868769625,19.265000000000001,0.12024000000000006]
["T4La",18.676692927311478,5.2564806565064472,0.12024000000000006]
["T4Lb",18.676692927311478,5.2564806565064472,0.12]
["T5_Loss",8.1897089553993396,8,2.0000000000000001E-4]
["T5Ha",10.432976606473119,19.375,0.46450000000000002]
["T5Hb",10.429280223813805,19.225000000000001,0.46450000000000002]
["T5La",8.1897089553993396,8,0.46450000000000002]
["T5Lb",8.1897089553993396,8,0.46430000000000005]
["T6_Loss",4.8104027966874696,3,8.0000000000000004E-4]
["To Buffer",299.99564396960596,19.809999999999999,1.8339486246450459E-3]
["To TS",35.900000000000006,19.5,0.13726032944616251]
["Turbine Bearings",299.99564396960596,19.809999999999999,3.6499999999999089E-2]