{"text_format":"1","workbook":"xlsx","n_sheets":7,"sheets":["Sheet1","Exergie","Property HePak","Fluides","Pipe diameter","Sheet2","Sheet2 (2)"],"not_rendered":{"charts":3,"images":6,"macros":1,"external_links":7,"defined_names":448,"comments":0,"pivot_tables":0},"unopened":[],"bounds":{"document_bytes":16777216,"sheet_cells":100000,"rows_first":2000,"rows_last":500,"rows_between":2000,"halvings":0,"cell_chars":16384,"cell_head_chars":4096},"cells_cut":0,"cells_raw":0,"read":"whole","date_system":"1900"}

{"sheet":"Sheet1","index":0,"n_rows":32,"n_cols":12,"rows_kept":32,"cut":false,"hidden":false,"merged":[]}
[]
[]
[]
[]
[]
[]
[null,null,null,"Cacul Efficacité et puissance comp attendu selon Green 2007"]
[null,null,null,"Puissance Equ",null,9.1,"kW"]
[null,null,null,"Efficacité Carnot",null,{"$f":"15.5*F8^0.23/100","v":0.25757945407650285}]
[null,null,null,"Carnot",null,{"$f":"(300-4.5)/4.5","v":65.666666666666671},"W/W",null,9,"kW"]
[null,null,null,"Puissance comp.",null,{"$f":"F10/F9*F8","v":2319.9314122670098},"kW",null,{"$f":"I10*I12/I13","v":0.227459584295612}]
[null,null,null,null,null,null,null,null,65.66]
[null,null,null,null,null,null,null,null,2598,"kW"]
[]
[null,null,null,null,null,null,null,null,null,"Solution ESS"]
[]
[null,null,null,"Price According Grren 2007"]
[]
[null,null,null,"Price = 2,6*(PowerEq@4,55)^0.63",null,null,null,"Cost Barebone",null,{"$f":"2.6*(F8)^0.63*1.12","v":11.705432038480664},null,{"$f":"1-SUM(L20:L24)","v":0.73}]
[null,null,null,{"$f":"2.6*F8^0.63","v":10.451278605786307},"M US in 2007",null,null,"Control System",null,{"$f":"L20*$J$26","v":0.80174192044388115},null,0.05]
[null,null,0.68129579236425319,0.12,"Cumulative inflation",null,null,"Machine Monitoring System",null,{"$f":"L21*$J$26","v":0},1]
[null,{"$f":"D22-C22","v":6.2621809949447993E-4},{"$f":"2.6*F8^C21","v":11.70480582038117},{"$f":"D20*(D21+1)","v":11.705432038480664},"M US in 2015",null,null,"Test Tools",null,{"$f":"L22*$J$26","v":1.443135456798986},1,0.09]
[null,null,null,null,11.9,null,null,"Capital Spares",null,{"$f":"L23*$J$26","v":0.48104515226632866},1,0.03]
[null,null,null,null,null,null,null,"Under Vacuum compress",null,{"$f":"L24*$J$26","v":1.6034838408877623},1,0.1]
[null,null,null,null,{"$f":"E23/0.8","v":14.875}]
[null,null,null,null,null,null,null,"Total Price",null,{"$f":"J19/L19","v":16.034838408877622}]
[]
[]
[]
[]
[]
[null,null,null,null,null,null,null,null,null,{"$f":"12/0.75","v":16}]

{"sheet":"Exergie","index":1,"n_rows":274,"n_cols":25,"rows_kept":274,"cut":false,"hidden":false,"merged":[[1,1,1,17],[161,17,161,20]]}
[]
[null,"EXERGIE"]
[]
[null,"DTC TARGET"]
[]
[null,"Twarm reference",null,300,null,null,null,"P = m*ΔH"]
[null,"Tcold Reference",null,4.5,null,null,null,"E = m(ΔH - TΔS)"]
[null,"Equivalence [Watt]/ [Watt",null,{"$f":"+(D6-D7)/D7","v":65.666666666666671},null,null,null,"Peq@4,5K = E / 65,67"]
[]
[null,null,null,"Equivalent\nPower at 4,5K","Tin [K]","Tout [K]","flow [g/s]","Hin [J/g]","Hout [J/g]","ΔH","Sin [J/g.K]","Sout [J/g.K]","ΔS","TrefΔS","Pin [bara]","Pout [bara]","Exergy [Watt]","Power [W]",null,"Tmoy","Tbar"]
[{"$f":"D11/$D$14","v":0.76450676816746144},"Refrigeration @ 4,3/4,5K",null,{"$f":"Q11/D$60","v":6998.3230066600227},4.5,4.5999999999999996,{"$f":"R11/J11","v":111.87610140966324},{"$f":"[6]!h_(10,O11,E11)","v":11.780634278983511},39.042935713957881,{"$f":"I11-H11","v":27.262301434974368},{"$f":"[6]!S_(10,O11,E11)","v":3.6211559242890519},17.404455433748328,{"$f":"L11-K11","v":13.783299509459276},{"$f":"M11*$D$58","v":4134.9898528377826},3,2.7E-2,{"$f":"G11*((H11-I11)-$D$58*(K11-L11))","v":459556.54410400818},3050,null,{"$f":"(F11-E11)/LN(F11/E11)","v":4.5498168439186317},{"$f":"T11*Q11/$Q$66","v":3.3140397163122337}]
[{"$f":"D12/$D$14","v":0.10155054751908449},"Liquefaction",null,{"$f":"Q12/D$60","v":929.59743802563571},4.5,300,9,11.836103818760341,1573.546861778626,{"$f":"I12-H12","v":1561.7107579598655},3.5992919381549644,31.413722278397756,{"$f":"L12-K12","v":27.814430340242794},{"$f":"M12*$D$58","v":8344.3291020728375},3.2,1.1000000000000001,{"$f":"G12*((H12-I12)-$D$58*(K12-L12))","v":61043.565097016748},{"$f":"+(I12-H12)*G12","v":14055.396821638789},{"$f":"R12/G12","v":1561.7107579598655},{"$f":"(F12-E12)/LN(F12/E12)","v":70.362083651162649},{"$f":"T12*Q12/$Q$66","v":6.8077472155462697}]
[{"$f":"D13/$D$14","v":0.13394268431345407},"ThermalShields",null,{"$f":"Q13/D$60","v":1226.1162467554752},35,50,{"$f":"R13/J13","v":143.44977217664965},196.41702594451021,276.58445894564773,{"$f":"I13-H13","v":80.16743300113751},14.701215416937636,16.839361414524522,{"$f":"L13-K13","v":2.1381459975868857},{"$f":"M13*$D$58","v":641.44379927606576},15.2,13.66,{"$f":"G13*((H13-I13)-$D$58*(K13-L13))","v":80514.966870276214},11500,null,{"$f":"(F13-E13)/LN(F13/E13)","v":42.055098780856937},{"$f":"T13*Q13/$Q$66","v":5.3668581380243205}]
[null,"Total Power @4.5K",null,{"$f":"SUM(D11:D13)","v":9154.0366914411334},null,null,null,null,null,null,null,null,null,null,null,null,{"$f":"SUM(Q11:Q13)","v":601115.07607130113},null,null,null,{"$f":"SUM(U11:U13)","v":15.488645069882825}]
[null,"Carnot",null,{"$f":"(300-4.5)/4.5","v":65.666666666666671}]
[null,"Cold Box",null,{"$f":" (-0.004132783*U14 + 0.5866340621)","v":0.5226228530621545}]
[null,"Comp efficiency",null,0.55000000000000004]
[null,"Carnot efficiency",null,{"$f":"D17*D16","v":0.28744256918418498}]
[null,"Carnot efficiency (Green)",null,{"$f":"15.5*(D14/1000)^0.23/100","v":0.25793044499342505},null,null,null,null,null,null,null,null,null,null,null,null,null,null,null,null,null,300,300]
[null,"Efficiency W/W",null,{"$f":"D15/D19","v":254.5905996802378},"W/W",null,2598000,{"$f":"D13/G20*D14","v":4.3202128986804125},null,null,null,null,null,null,null,null,null,{"$f":"11900*0.95","v":11305},null,null,null,4.5,15]
[null,"Power comp",null,{"$f":"D20*D14","v":2330531.690768898},"kW",null,2598000,{"$f":"D14/G21*D15","v":0.23137608778725985},null,null,null,null,null,null,null,null,null,null,null,null,null,{"$f":"(V19-V20)/V20","v":65.666666666666671},{"$f":"(W19-W20)/W20","v":19}]
[null,"Cost Barebone",null,{"$f":"2.6*(D14/1000)^0.65","v":10.965326553085298},null,{"$f":"1-SUM(F23:F27)","v":0.86},"2.6∗(Power)^0.68",null,null,null,null,null,null,null,null,null,null,null,null,null,null,{"$f":"W22*W21/V21","v":10.633248730964466},{"$f":"35*1.05","v":36.75},"kW",{"$f":"W22*1.05","v":38.587499999999999}]
[null,"Test Tools",null,{"$f":"F23*$D$28","v":0.19125569569334822},1,1.4999999999999999E-2,null,null,null,null,null,null,null,null,null,null,null,null,null,null,null,{"$f":"15.5*(V22)^0.23/100","v":0.26697148176132507}]
[null,"Machine Monitoring System",null,{"$f":"F24*$D$28","v":0.19125569569334822},1,1.4999999999999999E-2,null,null,null,null,null,null,null,null,null,null,null,null,null,null,null,{"$f":"V21*V22/V23","v":2615.4478950086582}]
[null,"Heat Recovery System",null,{"$f":"F25*$D$28","v":0},1,null,null,null,null,null,null,{"$f":"[6]!h_(11,1,300)","v":4201.0112007589951}]
[null,"Test Tools",null,{"$f":"F26*$D$28","v":1.1475341741600893},1,0.09]
[null,"Capital Spares",null,{"$f":"F27*$D$28","v":0.25500759425779762},1,0.02]
[null,"Total Price",null,{"$f":"D22/F22","v":12.750379712889881}]
[]
[null,"SLAC"]
[]
[null,"Twarm reference",null,300,null,null,null,"P = m*ΔH"]
[null,"Tcold Reference",null,4.5,null,null,null,"E = m(ΔH - TΔS)"]
[null,"Equivalence [Watt]/ [Watt",null,{"$f":"+(D32-D33)/D33","v":65.666666666666671},null,null,null,"Peq@4,5K = E / 65,67"]
[]
[null,null,null,"Equivalent\nPower at 4,5K","Tin [K]","Tout [K]","flow [g/s]","Hin [J/g]","Hout [J/g]","ΔH","Sin [J/g.K]","Sout [J/g.K]","ΔS","TrefΔS","Pin [bara]","Pout [bara]","Exergy [Watt]","Power [W]",null,"Tmoy","Tbar"]
[null,"Refrigeration @ 4,3/4,5K",null,{"$f":"Q37/D$60","v":10457.743270696708},4.55,35,145.5,{"$f":"[6]!h_(10,O37,E37)","v":12.066391566601121},{"$f":"[6]!h_(10,P37,F37)","v":196.95601030207382},{"$f":"I37-H37","v":184.88961873547271},{"$f":"[6]!S_(10,O37,E37)","v":3.6501835156571687},19.999016985724261,{"$f":"L37-K37","v":16.348833470067092},{"$f":"M37*$D$58","v":4904.6500410201279},3.2,1.24,{"$f":"G37*((H37-I37)-$D$58*(K37-L37))","v":686725.14144241728},{"$f":"+(I37-H37)*G37","v":26901.43952601128},null,{"$f":"(F37-E37)/LN(F37/E37)","v":14.924854983463215},{"$f":"T37*Q37/$Q$66","v":16.244932356127308}]
[null,"Liquefaction",null,{"$f":"Q38/D$60","v":1545.8941732865826},4.55,300,15,12.066391566601121,1573.546861778626,{"$f":"I38-H38","v":1561.4804702120248},3.6501835156571687,31.413722278397756,{"$f":"L38-K38","v":27.763538762740588},{"$f":"M38*$D$58","v":8329.0616288221754},3.2,1.1000000000000001,{"$f":"G38*((H38-I38)-$D$58*(K38-L38))","v":101513.71737915227},{"$f":"+(I38-H38)*G38","v":23422.207053180373},{"$f":"R38/G38","v":1561.4804702120248},{"$f":"(F38-E38)/LN(F38/E38)","v":70.535764571676424},{"$f":"T38*Q38/$Q$66","v":11.349035375105434}]
[null,"Cold Intercept",null,{"$f":"Q39/D$60","v":1205.6402059112368},5.43,7.5,40.590000000000003,19.084784383975173,51.003546630248536,{"$f":"I39-H39","v":31.918762246273364},5.0669292154654055,11.674957143615261,{"$f":"L39-K39","v":6.6080279281498555},{"$f":"M39*$D$58","v":1982.4083784449567},3,1.28,{"$f":"G39*((H39-I39)-$D$58*(K39-L39))","v":79170.37352150456},{"$f":"+(I39-H39)*G39","v":1295.582559576236},null,{"$f":"(F39-E39)/LN(F39/E39)","v":6.4093853396887539},{"$f":"T39*Q39/$Q$66","v":0.80427379072152194}]
[null,"ThermalShields",null,{"$f":"Q40/D$60","v":1806.1886997621748},35,55,145.5,196.83108763323708,301.26998726112208,{"$f":"I40-H40","v":104.43889962788501},17.827852797168312,20.893196466818715,{"$f":"L40-K40","v":3.0653436696504031},{"$f":"M40*$D$58","v":919.60310089512086},3.5,2.5,{"$f":"G40*((H40-I40)-$D$58*(K40-L40))","v":118606.39128438281},{"$f":"+(I40-H40)*G40","v":15195.859895857269},null,{"$f":"(F40-E40)/LN(F40/E40)","v":44.249243944961172},{"$f":"T40*Q40/$Q$66","v":8.3183805891711042}]
[null,"Total Power @4.5K",null,{"$f":"SUM(D37:D40)","v":15015.466349656703},null,null,null,null,null,null,null,null,null,null,null,null,{"$f":"SUM(Q37:Q40)","v":986015.62362745695},null,null,null,{"$f":"SUM(U37:U40)","v":36.716622111125368}]
[null,"Carnot",null,{"$f":"(300-4.5)/4.5","v":65.666666666666671}]
[null,"Cold Box",null,{"$f":" (-0.004132783*U41 + 0.5866340621)","v":0.43489223042171699}]
[null,"Comp efficiency",null,0.55000000000000004]
[null,"Efficiency W/W",null,{"$f":"D42/D43/D44","v":274.53684164042789},"W/W"]
[null,"Power comp",null,{"$f":"D45*D41","v":4122298.707392876},"kW"]
[null,"Cost Barebone",null,{"$f":"2.6*(D41/1000)^0.68","v":16.406643786684121},null,{"$f":"1-SUM(F48:F52)","v":0.86},"2.6∗(Power)^0.68"]
[null,"Test Tools",null,{"$f":"F78*$D$143","v":0},1,1.4999999999999999E-2]
[null,"Machine Monitoring System",null,{"$f":"F49*$D$143","v":0.44773892561370127},1,1.4999999999999999E-2]
[null,"Heat Recovery System",null,{"$f":"F50*$D$143","v":0},1]
[null,"Test Tools",null,{"$f":"F51*$D$143","v":2.6864335536822073},1,0.09]
[null,"Capital Spares",null,{"$f":"F52*$D$143","v":0.59698523415160165},1,0.02]
[null,"Total Price",null,{"$f":"D47/F47","v":19.077492775214093}]
[]
[]
[null,"Stage 2 : ESS with margins "]
[]
[null,"Twarm reference",null,300,null,null,null,"P = m*ΔH"]
[null,"Tcold Reference",null,4.5,null,null,null,"E = m(ΔH - TΔS)"]
[null,"Equivalence [Watt]/ [Watt",null,{"$f":"+(D58-D59)/D59","v":65.666666666666671},null,null,null,"Peq@4,5K = E / 65,67"]
[null,null,null,null,null,null,null,null,null,null,null,null,null,null,{"$f":"[6]!T_sat(10,O63)","v":0},{"$f":"[6]!T_sat(10,P63)","v":1.9509461640089363}]
[null,null,null,"Equivalent\nPower at 4,5K","Tin [K]","Tout [K]","flow [g/s]","Hin [J/g]","Hout [J/g]","ΔH","Sin [J/g.K]","Sout [J/g.K]","ΔS","TrefΔS","Pin [bara]","Pout [bara]","Exergy [Watt]","Power [W]",null,"Tmoy","Tbar"]
[{"$f":"D63/$D$66","v":0.76492859091219334},"Refrigeration @ 4,3/4,5K",null,{"$f":"Q63/D$60","v":7349.3864230596901},4.5,4.5999999999999996,{"$f":"R63/J63","v":117.48824682463979},{"$f":"[6]!h_(10,O63,E63)","v":11.780634278983511},39.042935713957881,{"$f":"I63-H63","v":27.262301434974368},{"$f":"[6]!S_(10,O63,E63)","v":3.6211559242890519},17.404455433748328,{"$f":"L63-K63","v":13.783299509459276},{"$f":"M63*$D$58","v":4134.9898528377826},3,2.7E-2,{"$f":"G63*((H63-I63)-$D$58*(K63-L63))","v":482609.70844758634},3203,3050,{"$f":"(F63-E63)/LN(F63/E63)","v":4.5498168439186317},{"$f":"T63*Q63/$Q$66","v":3.4802849873272415},{"$f":"R63/S63","v":1.0501639344262295}]
[{"$f":"D64/$D$66","v":0.10246535848683087},"Liquefaction",null,{"$f":"Q64/D$60","v":984.4808044094965},4.5,300,9.5,11.780634278983511,1573.5307111486329,{"$f":"I64-H64","v":1561.7500768696493},3.6211559242890519,31.510348399079206,{"$f":"L64-K64","v":27.889192474790153},{"$f":"M64*$D$58","v":8366.7577424370465},3,1.05,{"$f":"G64*((H64-I64)-$D$58*(K64-L64))","v":64647.572822890274},{"$f":"+(I64-H64)*G64","v":14836.625730261669},14055.396821638789,{"$f":"(F64-E64)/LN(F64/E64)","v":70.362083651162649},{"$f":"T64*Q64/$Q$66","v":7.2096761251967605},{"$f":"R64/S64","v":1.0555821310871956}]
[{"$f":"D65/$D$66","v":0.13260605060097574},"ThermalShields",null,{"$f":"Q65/D$60","v":1274.0707034367465},36.5,49.5,{"$f":"R65/J65","v":171.50776742336956},204.55250698681004,273.93711958353674,{"$f":"I65-H65","v":69.384612596726697},14.92881771289716,16.786148095616703,{"$f":"L65-K65","v":1.8573303827195424},{"$f":"M65*$D$58","v":557.19911481586269},15.2,13.66,{"$f":"G65*((H65-I65)-$D$58*(K65-L65))","v":83663.976192346367},11900,11300,{"$f":"(F65-E65)/LN(F65/E65)","v":42.670460672127902},{"$f":"T65*Q65/$Q$66","v":5.6583612670551391},{"$f":"R65/S65","v":1.0530973451327434}]
[{"$f":"SUM(A63:A65)","v":1},"Total Power @4.5K",null,{"$f":"SUM(D63:D65)","v":9607.9379309059332},null,null,null,null,null,null,null,null,null,null,null,null,{"$f":"SUM(Q63:Q65)","v":630921.25746282306},null,null,null,{"$f":"SUM(U63:U65)","v":16.348322379579141}]
[null,"Carnot",null,{"$f":"(300-4.5)/4.5","v":65.666666666666671}]
[null,"Cold Box",null,{"$f":" (-0.004132783*U66 + 0.5866340621)","v":0.51906999329115577}]
[null,"Comp efficiency",null,0.55000000000000004]
[null,"Efficiency W/W",null,{"$f":"D67/D68/D69","v":230.01510574118117},"W/W"]
[null,"Power comp",null,{"$f":"D70*D66","v":2209970.8591320338},"kW"]
[null,"Cost Barebone",null,{"$f":"2.6*(D66/1000)^0.68","v":12.110494488001004},null,{"$f":"1-SUM(F73:F77)","v":0.86},"2.6∗(Power)^0.68"]
[null,"Test Tools",null,{"$f":"F103*$D$143","v":0.59698523415160165},1,1.4999999999999999E-2]
[null,"Machine Monitoring System",null,{"$f":"F74*$D$143","v":0.44773892561370127},1,1.4999999999999999E-2]
[null,"Heat Recovery System",null,{"$f":"F75*$D$143","v":0},1]
[null,"Test Tools",null,{"$f":"F76*$D$143","v":2.6864335536822073},1,0.09]
[null,"Capital Spares",null,{"$f":"F77*$D$143","v":0.59698523415160165},1,0.02]
[null,"Total Price",null,{"$f":"D72/F72","v":14.081970334884888}]
[]
[null,"KSTAR"]
[]
[null,"Twarm reference",null,300,null,null,null,"P = m*ΔH"]
[null,"Tcold Reference",null,4.5,null,null,null,"E = m(ΔH - TΔS)"]
[]
[]
[null,null,null,"Equivalent\nPower at 4,5K","Tin [K]","Tout [K]","flow [g/s]","Hin [J/g]","Hout [J/g]","ΔH","Sin [J/g.K]","Sout [J/g.K]","ΔS","TrefΔS","Pin [bara]","Pout [bara]","Exergy [Watt]","Power [W]",null,"Tmoy","Tbar"]
[null,"Refrigeration @ 4,3/4,5K",null,{"$f":"Q87/D$60","v":6023.088140065227},4.3,4.3099999999999996,261.71071461729184,{"$f":"[6]!h_(10,O87,E87)","v":10.898891980066754},31.18304902478749,{"$f":"I87-H87","v":20.284157044720736},{"$f":"[6]!S_(10,O87,E87)","v":3.4208038039675284},8.5259915812344875,{"$f":"L87-K87","v":5.1051877772669592},{"$f":"M87*D82","v":1531.5563331800877},3,1.05,{"$f":"G87*((H87-I87)-$D$82*(K87-L87))","v":395516.12119761662},{"$f":"+(I87-H87)*G87","v":5308.5812355832386},null,{"$f":"(F87-E87)/LN(F87/E87)","v":4.3049980642654786},{"$f":"T87*Q87/$Q$91","v":2.6648833114073733}]
[null,"Liquefaction",null,{"$f":"Q88/D$60","v":1895.5481962991819},4.5,315,18.296646103448044,11.780634278983511,1651.4253992474898,{"$f":"I88-H88","v":1639.6447649685063},3.6211559242890519,31.763714708668044,{"$f":"L88-K88","v":28.142558784378991},{"$f":"M88*D81","v":0},3,1.05,{"$f":"G88*((H88-I88)-$D$82*(K88-L88))","v":124474.33155697963},{"$f":"+(I88-H88)*G88","v":30000.000000000004},null,{"$f":"(F88-E88)/LN(F88/E88)","v":73.084699949016112},{"$f":"T88*Q88/$Q$91","v":14.237945218832094}]
[null,"SC BUS",null,{"$f":"Q89/D$60","v":237.47914719498738},4.3,4.4000000000000004,9.9680320108205418,10.898891980066754,31.966240055598597,{"$f":"I89-H89","v":21.067348075531843},3.4208038039675284,8.7058537121745427,{"$f":"L89-K89","v":5.2850499082070144},{"$f":"M89*D82","v":1585.5149724621042},3,1.05,{"$f":"G89*((H89-I89)-$D$82*(K89-L89))","v":15594.463999137506},{"$f":"+(I89-H89)*G89","v":209.99999999999994},null,{"$f":"(F89-E89)/LN(F89/E89)","v":4.3498084223690068},{"$f":"T89*Q89/$Q$91","v":0.1061650646511717}]
[null,"ThermalShields",null,{"$f":"Q90/D$60","v":1573.9100950042609},55,70,280.03297786950503,303.2451103022313,381.80728596945562,{"$f":"I90-H90","v":78.562175667224324},17.117977167921989,18.610104161031124,{"$f":"L90-K90","v":1.4921269931091352},{"$f":"M90*D82","v":447.63809793274055},15.2,13.66,{"$f":"G90*((H90-I90)-$D$82*(K90-L90))","v":103353.42957194647},{"$f":"+(I90-H90)*G90","v":21999.999999999996},null,{"$f":"(F90-E90)/LN(F90/E90)","v":62.198839228632686},{"$f":"T90*Q90/$Q$91","v":10.061163783080547}]
[null,"Total Power @4.5K",null,{"$f":"SUM(D87:D90)","v":9730.0255785636564},null,null,null,null,null,null,null,null,null,null,null,null,{"$f":"SUM(Q87:Q90)","v":638938.34632568026},null,null,null,{"$f":"SUM(U87:U90)","v":27.070157377971185}]
[null,"Carnot",null,{"$f":"(300-4.5)/4.5","v":65.666666666666671}]
[null,"Barycentrique Temp",null,{"$f":"U91","v":27.070157377971185},"K"]
[null,"Efficiency",null,{"$f":" -0.004132783*D93 + 0.5866340621","v":0.47475897588099614}]
[null,"Comp efficiency",null,0.55000000000000004]
[null,"Efficiency W/W",null,{"$f":"D92/D94/D95","v":251.4832693207824},"W/W"]
[null,"Power comp",null,{"$f":"D96*D91","v":2446938.6430720254},"kW"]
[null,"Cost Barebone",null,{"$f":"2.6*(D91/1000)^0.68","v":12.214926433401565},null,{"$f":"1-SUM(F99:F103)","v":0.86},"2.6∗(Power)^0.68"]
[null,"Test Tools",null,{"$f":"F140*$D$143","v":0},1,1.4999999999999999E-2]
[null,"Machine Monitoring System",null,{"$f":"F100*$D$143","v":0.44773892561370127},1,1.4999999999999999E-2]
[null,"Heat Recovery System",null,{"$f":"F101*$D$143","v":0},1]
[null,"Test Tools",null,{"$f":"F102*$D$143","v":2.6864335536822073},1,0.09]
[null,"Capital Spares",null,{"$f":"F103*$D$143","v":0.59698523415160165},1,0.02]
[null,"Total Price",null,{"$f":"D98/F98","v":14.203402829536705}]
[]
[]
[null,"ITER"]
[]
[null,"Twarm reference",null,300,null,null,null,"P = m*ΔH"]
[null,"Tcold Reference",null,4.5,null,null,null,"E = m(ΔH - TΔS)"]
[null,"Equivalence [Watt]/ [Watt",null,{"$f":"+(D109-D110)/D110","v":65.666666666666671},null,null,null,"Peq@4,5K = E / 65,67"]
[]
[null,null,null,"Equivalent\nPower at 4,5K","Tin [K]","Tout [K]","flow [g/s]","Hin [J/g]","Hout [J/g]","ΔH","Sin [J/g.K]","Sout [J/g.K]","ΔS","TrefΔS","Pin [bara]","Pout [bara]","Exergy [Watt]","Power [W]",null,"Tmoy","Tbar"]
[null,"magnet 10->12",null,{"$f":"Q114/D$111","v":55846.836922352748},4.55,5,2187.4264587518214,{"$f":"[6]!h_(10,O114,E114)","v":12.673314932116673},35.302647132955762,{"$f":"I114-H114","v":22.629332200839087},{"$f":"[6]!S_(10,O114,E114)","v":3.4860739911412653},9.1499224978299267,{"$f":"L114-K114","v":5.6638485066886615},{"$f":"M114*$D$109","v":1699.1545520065984},5,1.25,{"$f":"G114*((H114-I114)-$D$109*(K114-L114))","v":3667275.6245678309},{"$f":"+(I114-H114)*G114","v":49500.000000000007},null,{"$f":"(F114-E114)/LN(F114/E114)","v":4.7714638736880346},{"$f":"T114*Q114/$Q$118","v":3.6340609351484536}]
[null,"Current Leads 20->22",null,{"$f":"Q115/D$111","v":4405.7348816737294},50.4,300,145,277.5217726332566,1573.8052732955771,{"$f":"I115-H115","v":1296.2835006623204},19.306782841549502,30.278530691954362,{"$f":"L115-K115","v":10.97174785040486},{"$f":"M115*$D$109","v":3291.524355121458},4.3,1.9,{"$f":"G115*((H115-I115)-$D$109*(K115-L115))","v":289309.92389657494},{"$f":"+(I115-H115)*G115","v":187961.10759603645},null,{"$f":"(F115-E115)/LN(F115/E115)","v":139.92668316014669},{"$f":"T115*Q115/$Q$118","v":8.4073840041020205}]
[null,"Cooling loop  30->32",null,{"$f":"Q116/D$111","v":7408.8478269803263},4.55,5.3,270.12144620708159,12.673314932116673,37.476973042489817,{"$f":"I116-H116","v":24.803658110373142},3.4860739911412653,9.5724022898115955,{"$f":"L116-K116","v":6.0863282986703302},1825.8984896010991,5,1.25,{"$f":"G116*((H116-I116)-$D$109*(K116-L116))","v":486514.34063837479},{"$f":"+(I116-H116)*G116","v":6700.0000000000018},null,4.9154674738648323,{"$f":"T116*Q116/$Q$118","v":0.49665805820723902}]
[null,"Cool down 50 ->",null,{"$f":"Q117/D$111","v":5664.5838648227746},4.55,300,55,12.673314932116673,1573.5791630710819,{"$f":"I117-H117","v":1560.9058481389652},3.4860739911412653,31.232992906555726,{"$f":"L117-K117","v":27.746918915414462},8324.0756746243387,5,1.2,{"$f":"G117*((H117-I117)-$D$109*(K117-L117))","v":371974.34045669553},{"$f":"+(I117-H117)*G117","v":85849.821647643083},null,70.535764571676424,{"$f":"T117*Q117/$Q$118","v":5.4490321964483028}]
[null,null,null,null,null,null,null,null,null,null,null,null,null,null,null,null,{"$f":"SUM(Q114:Q117)","v":4815074.2295594756},null,null,null,{"$f":"SUM(U114:U117)","v":17.987135193906017}]
[null,null,null,null,null,null,null,null,null,null,null,null,null,null,null,null,null,null,null,null,null,null,"Compress"]
[null,"Cryopump 100K-470K regen",null,{"$f":"Q120/D$111","v":1221.2269486340922},300,300,100,{"$f":"[6]!h_(10,O120,E120)","v":1579.0061397188529},1574.8066410417307,{"$f":"I120-H120","v":-4.1994986771221647},{"$f":"[6]!S_(10,O120,E120)","v":25.609906262269778},28.269038032022884,{"$f":"L120-K120","v":2.6591317697531061},797.73953092593183,18,5,{"$f":"G120*((H120-I120)-$D$109*(K120-L120))","v":80193.902960305393},{"$f":"+(I120-H120)*G120","v":-419.94986771221647},null,{"$f":"(F120-E120)/LN(F120/E120)","v":{"$error":"#DIV/0!"}},{"$f":"T120*Q120/$Q$118","v":{"$error":"#DIV/0!"}},null,{"$f":"G120*8.314*E120*LN(O120/P120)/4/D131","v":169941.76581656814}]
[null,"Cryopump 120K regen",null,{"$f":"Q121/D$111","v":3350.3263468581995},300,301,130,1579.0061397188529,1578.7721333449952,{"$f":"I121-H121","v":-0.23400637385771006},25.609906262269778,31.250274021630982,{"$f":"L121-K121","v":5.6403677593612045},1692.1103278083613,18,1.2,{"$f":"G121*((H121-I121)-$D$109*(K121-L121))","v":220004.76344368845},{"$f":"+(I121-H121)*G121","v":-30.420828601502308},null,{"$f":"(F121-E121)/LN(F121/E121)","v":300.49972268420322},{"$f":"T121*Q121/$Q$118","v":13.73008332834789},null,{"$f":"G121*8.314*E121*LN(O121/P121)/4/D134","v":702.31469640791454}]
[null,"80K loop make-up",null,{"$f":"Q122/D$111","v":0},300,301,0,1579.0061397188529,1578.7882801955352,{"$f":"I122-H122","v":-0.21785952331765657},25.609906262269778,31.165483958375798,{"$f":"L122-K122","v":5.5555776961060204},1666.673308831806,18,1.25,{"$f":"G122*((H122-I122)-$D$109*(K122-L122))","v":0},{"$f":"+(I122-H122)*G122","v":0},null,300.49972268420322,{"$f":"T122*Q122/$Q$118","v":0}]
[null,null,null,null,null,null,null,null,null,null,null,null,null,null,null,null,null,null,null,null,null,null,{"$f":"W120+W121","v":170644.08051297604}]
[]
[null,"Total Power @4.5K",null,{"$f":"SUM(D114:D118)","v":73326.003495829587},{"$f":"D125/3","v":24442.001165276528}]
[null,"Carnot",null,{"$f":"(300-4.5)/4.5","v":65.666666666666671}]
[null,"Barycentrique Temp",null,{"$f":"U118","v":17.987135193906017},"K"]
[null,"Efficiency",null,0.44700000000000001]
[null,"Ideal Power",null,{"$f":"D125*(D126/D128)/1000","v":10771.978142191221},"kW"]
[null,"Add power for 300K",null,{"$f":"W123/1000","v":170.64408051297605},"kW"]
[null,"Comp efficiency",null,0.47,{"$f":"D131*D128","v":0.21009},{"$f":"44.7%*47%","v":0.21009}]
[null,"Total Compress power",null,{"$f":"(D129+D130)/D131","v":23282.174941923826},null,null,null,null,null,null,null,null,null,null,null,null,null,null,23.5,{"$f":"1-(SUM(T134:T139))","v":0.76},{"$f":"S132*3","v":70.5}]
[]
[null,"Efficiency W/W",null,{"$f":"D126/D128/D131","v":312.56445650276868},"W/W","Nota : LN2 NOT CONSIDERED !  Case average fortement liquefacteur",null,null,null,null,null,null,null,null,null,null,null,null,{"$f":"$S$132*T134","v":1.175},0.05,{"$f":"S134*3","v":3.5250000000000004}]
[null,"Power comp",null,{"$f":"D136*D134","v":7639700.8100646967},"kW",null,null,null,null,null,null,null,null,null,null,null,null,null,{"$f":"$S$132*T135","v":0.35249999999999998},1.4999999999999999E-2,{"$f":"S135*3","v":1.0574999999999999}]
[null,"Equivalent power for one plant",null,{"$f":"E125","v":24442.001165276528},"kW"]
[null,"Cost Barebone",null,{"$f":"2.6*(D136/1000)^P137","v":22.685438897760864},{"$f":"1-SUM(E138:E142)","v":0.76},null,"2.6∗(Power)^x",null,null,null,null,null,null,null,"x =",0.67772417304175381,null,null,{"$f":"$S$132*T137","v":1.5275000000000001},6.5000000000000002E-2,{"$f":"S137*3","v":4.5825000000000005}]
[null,"Control Syst. (PLC & PIS)",null,{"$f":"E138*$D$143","v":1.4924630853790042},0.05,null,null,null,null,null,null,null,null,null,null,null,null,null,{"$f":"$S$132*T138","v":2.1149999999999998},0.09]
[null,"Machine Monitoring System",null,{"$f":"E139*$D$143","v":0.44773892561370127},1.4999999999999999E-2,null,null,null,null,null,null,null,null,null,null,null,null,null,{"$f":"$S$132*T139","v":0.47000000000000003},0.02]
[null,"Heat Recovery System",null,{"$f":"E140*$D$143","v":1.9402020109927054},6.5000000000000002E-2,null,null,null,null,null,null,null,null,null,null,null,null,null,{"$f":"SUM(S132:S139)","v":29.139999999999997}]
[null,"Test Tools",null,{"$f":"E141*$D$143","v":2.6864335536822073},0.09,null,null,null,null,null,null,null,null,null,null,null,null,null,{"$f":"S140*3","v":87.419999999999987},null,{"$f":"SUM(U132:U140)+S139+S138","v":82.25}]
[null,"Capital Spares",null,{"$f":"E142*$D$143","v":0.59698523415160165},0.02,null,null,null,null,null,null,null,null,null,null,null,null,null,{"$f":"S132/T132","v":30.921052631578949},null,82.8]
[null,"Total Price one plant",null,{"$f":"D137/E137","v":29.849261707580084},null,{"$f":"83/3","v":27.666666666666668},null,null,null,null,null,null,null,null,null,null,null,null,{"$f":"S142*3","v":92.76315789473685}]
[null,"For 3 trains",null,{"$f":"SUM(D137:D140)*3+D141+D142","v":82.980947547072645},"(only one test tools and one set of capital spares)"]
[]
[]
[null,"Stage 2 : ESS TMCP"]
[]
[null,"Twarm reference",null,300,null,null,null,"P = m*ΔH"]
[null,"Tcold Reference",null,4.5,null,null,null,"E = m(ΔH - TΔS)"]
[null,"Equivalence [Watt]/ [Watt",null,{"$f":"+(D149-D150)/D150","v":65.666666666666671},null,null,null,"Peq@4,5K = E / 65,67"]
[]
[null,null,null,"Equivalent\nPower at 4,5K","Tin [K]","Tout [K]","flow [g/s]","Hin [J/g]","Hout [J/g]","ΔH","Sin [J/g.K]","Sout [J/g.K]","ΔS","TrefΔS","Pin [bara]","Pout [bara]","Exergy [Watt]","Power [W]",null,"Tmoy","Tbar"]
[null,"Refrigeration ",null,{"$f":"Q154/D$60","v":8694.7881256419314},15,21,925.33777041812971,{"$f":"[6]!h_(10,O154,E154)","v":79.160666451116498},{"$f":"[6]!h_(10,P154,F154)","v":116.98469257315045},{"$f":"I154-H154","v":37.824026122033956},{"$f":"[6]!S_(10,O154,E154)","v":9.1829584076404682},{"$f":"[6]!S_(10,P154,F154)","v":11.365792874345557},{"$f":"L154-K154","v":2.1828344667050885},{"$f":"M154*$D$58","v":654.85034001152655},19,18.5,{"$f":"G154*((H154-I154)-$D$149*(K154-L154))","v":570957.75358382019},{"$f":"+(I154-H154)*G154","v":35000},null,{"$f":"(F154-E154)/LN(F154/E154)","v":17.83208047193077},{"$f":"T154*Q154/$Q$157","v":17.83208047193077}]
[null,"Liquefaction"]
[null,"ThermalShields"]
[null,"Total Power @4.5K",null,{"$f":"SUM(D154:D156)","v":8694.7881256419314},null,null,null,null,null,null,null,null,null,null,null,null,{"$f":"SUM(Q154:Q156)","v":570957.75358382019},null,null,null,{"$f":"SUM(U154:U156)","v":17.83208047193077}]
[null,"Carnot",null,{"$f":"(300-4.5)/4.5","v":65.666666666666671}]
[null,"Barycentrique Temp",null,{"$f":"U157","v":17.83208047193077},"K"]
[null,"Efficiency",null,{"$f":" (-0.004132783*D159 + 0.5866340621)*0.95","v":0.48729104591742384}]
[null,"Comp efficiency",null,0.5]
[null,"Efficiency W/W",null,{"$f":"D158/D160/D161","v":269.51723089036409},"W/W",null,null,null,null,null,null,null,null,null,null,null,null,"Hydrogen fluid parameters"]
[null,"Power comp",null,{"$f":"D162*D157","v":2343395.2188014323},"kW",null,null,null,null,null,null,null,null,null,null,null,null,"Pressure (MPa)","Flow rate (kg/s)","T(inlet) (K)","T(outlet) (K)"]
[null,"Cost Barebone",null,{"$f":"2.6*(D157/1000)^0.68","v":11.315388523384279},null,{"$f":"1-SUM(F165:F169)","v":0.86},"2.6∗(Power)^0.68",null,null,null,null,null,null,null,null,null,null,1.5,0.8,17,20,{"$f":"S164*1000*([6]!h_(15,R164*10,U164)-[6]!h_(15,R164*10,T164))","v":{"$error":"#VALUE!"}}]
[null,"Test Tools",null,{"$f":"F165*$D$170","v":0.19736142773344673},1,1.4999999999999999E-2]
[null,"Machine Monitoring System",null,{"$f":"F166*$D$170","v":0.19736142773344673},1,1.4999999999999999E-2]
[null,"Heat Recovery System",null,{"$f":"F167*$D$170","v":0},1]
[null,"Test Tools",null,{"$f":"F168*$D$170","v":1.1841685664006802},1,0.09]
[null,"Capital Spares",null,{"$f":"F169*$D$170","v":0.26314857031126232},1,0.02]
[null,"Total Price",null,{"$f":"D164/F164","v":13.157428515563115}]
[]
[null,"HIAF1"]
[]
[null,"Twarm reference",null,300,null,null,null,"P = m*ΔH"]
[null,"Tcold Reference",null,4.4000000000000004,null,null,null,"E = m(ΔH - TΔS)"]
[null,"Equivalence [Watt]/ [Watt",null,{"$f":"+(D174-D175)/D175","v":67.181818181818187},null,null,null,"Peq@4,5K = E / 65,67"]
[]
[]
[null,null,null,"Equivalent\nPower at 4,5K","Tin [K]","Tout [K]","flow [g/s]","Hin [J/g]","Hout [J/g]","ΔH","Sin [J/g.K]","Sout [J/g.K]","ΔS","TrefΔS","Pin [bara]","Pout [bara]","Exergy [Watt]","Power [W]",null,"Tmoy","Tbar"]
[null,"Refrigeration",null,{"$f":"Q180/$D$176","v":2489.9647934388104},4.4000000000000004,4.5,121.93915299368726,{"$f":"[6]!h_(10,O180,E180)","v":11.024111997536089},{"$f":"[6]!h_(10,P180,F180)","v":31.526140580016268},{"$f":"I180-H180","v":20.502028582480179},{"$f":"[6]!S_(10,O180,E180)","v":3.7728932771345827},{"$f":"[6]!S_(10,P180,F180)","v":8.414015723964658},{"$f":"L180-K180","v":4.6411224468300754},{"$f":"M180*D174","v":1392.3367340490227},1.2,1.2,{"$f":"G180*((H180-I180)-$D$174*(K180-L180))","v":167280.36203193464},{"$f":"+(I180-H180)*G180","v":2499.9999999999995},null,{"$f":"(F180-E180)/LN(F180/E180)","v":4.4498127277775144},{"$f":"T180*Q180/$Q$183","v":3.7447007482625447}]
[null,"TS",null,{"$f":"Q181/$D$176","v":468.85028269317041},50,80,50.695739587369445,{"$f":"[6]!h_(10,O181,E181)","v":277.14733608897961},{"$f":"[6]!h_(10,P181,F181)","v":434.95152368176019},{"$f":"I181-H181","v":157.80418759278058},{"$f":"[6]!S_(10,O181,E181)","v":16.255243886882813},{"$f":"[6]!S_(10,P181,F181)","v":18.852320404415092},{"$f":"L181-K181","v":2.5970765175322796},{"$f":"M181*D175","v":11.427136677142032},18,17,{"$f":"G181*((H181-I181)-$D$174*(K181-L181))","v":31498.214446386632},{"$f":"+(I181-H181)*G181","v":8000.0000000000009},null,{"$f":"(F181-E181)/LN(F181/E181)","v":63.829294357033291},{"$f":"T181*Q181/$Q$183","v":10.114313309003077}]
[]
[null,"Total Power @4.5K",null,{"$f":"SUM(D180:D181)","v":2958.8150761319807},null,null,null,null,null,null,null,null,null,null,null,null,{"$f":"SUM(Q180:Q182)","v":198778.57647832128},null,null,null,{"$f":"SUM(U180:U182)","v":13.859014057265622}]
[null,"Carnot",null,{"$f":"(300-4.5)/4.5","v":65.666666666666671}]
[null,"Barycentrique Temp",null,{"$f":"U183","v":13.859014057265622},"K"]
[null,"Efficiency",null,{"$f":" (-0.004132783*D185 + 0.5866340621)*0.95","v":0.50288987618700298}]
[null,"Comp efficiency",null,0.55000000000000004]
[null,"Efficiency W/W",null,{"$f":"D184/D186/D187","v":237.41567497680538},"W/W"]
[null,"Power comp",null,{"$f":"D188*D183","v":702469.07843142201},"kW"]
[null,"Cost Barebone",null,{"$f":"2.6*(D183/1000)^0.68","v":5.4366761960189987},null,{"$f":"1-SUM(F191:F195)","v":0.86},"2.6∗(Power)^0.68"]
[null,"Test Tools",null,{"$f":"F191*$D$196","v":9.4825747604982538E-2},1,1.4999999999999999E-2]
[null,"Machine Monitoring System",null,{"$f":"F192*$D$196","v":9.4825747604982538E-2},1,1.4999999999999999E-2]
[null,"Heat Recovery System",null,{"$f":"F193*$D$196","v":0},1]
[null,"Test Tools",null,{"$f":"F194*$D$196","v":0.56895448562989526},1,0.09]
[null,"Capital Spares",null,{"$f":"F195*$D$196","v":0.12643433013997674},1,0.02]
[null,"Total Price",null,{"$f":"D190/F190","v":6.3217165069988361}]
[]
[]
[null,"Qatar III"]
[]
[null,"Twarm reference",null,300,null,null,null,"P = m*ΔH"]
[null,"Tcold Reference",null,4.4000000000000004,null,null,null,"E = m(ΔH - TΔS)"]
[null,"Equivalence [Watt]/ [Watt",null,{"$f":"+(D201-D202)/D202","v":67.181818181818187},null,null,null,"Peq@4,5K = E / 65,67"]
[]
[null,null,null,"Equivalent\nPower at 4,4K","Tin [K]","Tout [K]","flow [g/s]","Hin [J/g]","Hout [J/g]","ΔH","Sin [J/g.K]","Sout [J/g.K]","ΔS","TrefΔS","Pin [bara]","Pout [bara]","Exergy [Watt]","Power [W]",null,"Tmoy","Tbar"]
[null,"Liquefaction",null,{"$f":"Q206/$D$203","v":10104.905691825505},4.5,300,{"$f":"128","v":128},{"$f":"[6]!h_(10,O206,E206)","v":31.526140580016268},{"$f":"[6]!h_(10,P206,F206)","v":1573.5791630710819},{"$f":"I206-H206","v":1542.0530224910656},{"$f":"[6]!S_(10,O206,E206)","v":8.414015723964658},{"$f":"[6]!S_(10,P206,F206)","v":31.232992906555726},{"$f":"L206-K206","v":22.81897718259107},{"$f":"M206*D201","v":6845.6931547773211},1.2,1.2,{"$f":"G206*((H206-I206)-$D$174*(K206-L206))","v":678865.93693264073},{"$f":"+(I206-H206)*G206","v":197382.78687885639},null,{"$f":"(F206-E206)/LN(F206/E206)","v":70.362083651162649},{"$f":"T206*Q206/$Q$209","v":70.362083651162649}]
[]
[]
[null,"Total Power @4.5K",null,{"$f":"SUM(D206:D207)","v":10104.905691825505},null,null,{"$f":"G206*3600*24/1000000","v":11.059200000000001},null,null,null,null,null,null,null,null,null,{"$f":"SUM(Q206:Q208)","v":678865.93693264073},null,null,null,{"$f":"SUM(U206:U208)","v":70.362083651162649}]
[null,"Carnot",null,{"$f":"(300-4.5)/4.5","v":65.666666666666671}]
[null,"Barycentrique Temp",null,{"$f":"U209","v":70.362083651162649},"K"]
[null,"Efficiency",null,{"$f":" (-0.004132783*D211 + 0.5866340621)*0.95","v":0.28105069699480217}]
[null,"Comp efficiency",null,0.5]
[null,"Efficiency W/W",null,{"$f":"D210/D212/D213","v":467.29410294172749},"W/W"]
[null,"Power comp",null,{"$f":"D214*D209","v":4721962.8405723553},"kW"]
[null,"Cost Barebone",null,{"$f":"2.6*(D209/1000)^0.68","v":12.533007164249899},null,{"$f":"1-SUM(F217:F221)","v":0.98},"2.6∗(Power)^0.68"]
[]
[]
[]
[]
[null,"Capital Spares",null,{"$f":"F221*$D$222","v":0.25577565641326322},1,0.02]
[null,"Total Price",null,{"$f":"D216/F216","v":12.788782820663162},null,"WITH COMPRESSOR STATION ! AND WITHOUT DISTRIBUTION"]
[]
[]
[null,"Qatar II"]
[]
[null,"Twarm reference",null,300,null,null,null,"P = m*ΔH"]
[null,"Tcold Reference",null,4.4000000000000004,null,null,null,"E = m(ΔH - TΔS)"]
[null,"Equivalence [Watt]/ [Watt",null,{"$f":"+(D227-D228)/D228","v":67.181818181818187},null,null,null,"Peq@4,5K = E / 65,67"]
[]
[null,null,null,"Equivalent\nPower at 4,4K","Tin [K]","Tout [K]","flow [g/s]","Hin [J/g]","Hout [J/g]","ΔH","Sin [J/g.K]","Sout [J/g.K]","ΔS","TrefΔS","Pin [bara]","Pout [bara]","Exergy [Watt]","Power [W]",null,"Tmoy","Tbar"]
[null,"Liquefaction",null,{"$f":"Q232/$D$203","v":23112.277767146363},4.5,300,231,{"$f":"[6]!h_(10,O232,E232)","v":11.780634278983511},{"$f":"[6]!h_(10,P232,F232)","v":1573.5791630710819},{"$f":"I232-H232","v":1561.7985287920983},{"$f":"[6]!S_(10,O232,E232)","v":3.6211559242890519},{"$f":"[6]!S_(10,P232,F232)","v":31.232992906555726},{"$f":"L232-K232","v":27.611836982266674},{"$f":"M232*D227","v":8283.5510946800023},3,1.2,{"$f":"G232*((H232-I232)-$D$227*(K232-L232))","v":1552724.8427201058},{"$f":"+(I232-H232)*G232","v":360775.46015097469},null,{"$f":"(F232-E232)/LN(F232/E232)","v":70.362083651162649},{"$f":"T232*Q232/$Q$235","v":70.362083651162649}]
[]
[]
[null,"Total Power @4.5K",null,{"$f":"SUM(D232:D233)","v":23112.277767146363},null,null,{"$f":"G232*3600*24/1000000","v":19.958400000000001},null,null,null,null,null,null,null,null,null,{"$f":"SUM(Q232:Q234)","v":1552724.8427201058},null,null,null,{"$f":"SUM(U232:U234)","v":70.362083651162649}]
[null,"Carnot",null,{"$f":"(300-4.5)/4.5","v":65.666666666666671}]
[null,"Barycentrique Temp",null,{"$f":"U235","v":70.362083651162649},"K"]
[null,"Efficiency",null,{"$f":" (-0.004132783*D237 + 0.5866340621)*0.95","v":0.28105069699480217}]
[null,"Comp efficiency",null,0.55000000000000004,null,null,null,null,null,null,886,1.05,4.8,{"$f":"K239*8.314*315*LN(M239/L239)/4/0.5/1000","v":1763.2670810792797}]
[null,"Efficiency W/W",null,{"$f":"D236/D238/D239","v":424.81282085611588},"W/W",null,null,null,null,null,4067,4.8,21,{"$f":"K240*8.314*315*LN(M240/L240)/4/0.55/1000","v":7145.4719182782892}]
[null,"Power comp",null,{"$f":"D240*D235","v":9818391.9146715384},"kW",null,null,null,null,null,null,null,null,{"$f":"SUM(N239:N240)","v":8908.7389993575689}]
[null,"Cost Barebone",null,{"$f":"2.6*(D235/1000)^0.68","v":21.998163055162486},null,{"$f":"1-SUM(F243:F247)","v":0.98},"2.6∗(Power)^0.68"]
[null,"Test Tools"]
[null,"Machine Monitoring System"]
[null,"Heat Recovery System"]
[null,"Test Tools"]
[null,"Capital Spares",null,{"$f":"F247*$D$248","v":0.4489421031665814},1,0.02]
[null,"Total Price",null,{"$f":"D242/F242","v":22.447105158329069},null,null,"WITH COMPRESSOR STATION ! AND WITHOUT DISTRIBUTION"]
[]
[]
[null,"RUSSIA"]
[]
[null,"Twarm reference",null,300,null,null,null,"P = m*ΔH"]
[null,"Tcold Reference",null,4.4000000000000004,null,null,null,"E = m(ΔH - TΔS)"]
[null,"Equivalence [Watt]/ [Watt",null,{"$f":"+(D253-D254)/D254","v":67.181818181818187},null,null,null,"Peq@4,5K = E / 65,67"]
[]
[null,null,null,"Equivalent\nPower at 4,4K","Tin [K]","Tout [K]","flow [g/s]","Hin [J/g]","Hout [J/g]","ΔH","Sin [J/g.K]","Sout [J/g.K]","ΔS","TrefΔS","Pin [bara]","Pout [bara]","Exergy [Watt]","Power [W]",null,"Tmoy","Tbar"]
[null,"Liquefaction",null,{"$f":"Q258/$D$203","v":11005.846555783983},4.5,300,110,{"$f":"[6]!h_(10,O258,E258)","v":11.780634278983511},{"$f":"[6]!h_(10,P258,F258)","v":1573.5791630710819},{"$f":"I258-H258","v":1561.7985287920983},{"$f":"[6]!S_(10,O258,E258)","v":3.6211559242890519},{"$f":"[6]!S_(10,P258,F258)","v":31.232992906555726},{"$f":"L258-K258","v":27.611836982266674},{"$f":"M258*D253","v":8283.5510946800023},3,1.2,{"$f":"G258*((H258-I258)-$D$227*(K258-L258))","v":739392.78224766941},{"$f":"+(I258-H258)*G258","v":171797.8381671308},null,{"$f":"(F258-E258)/LN(F258/E258)","v":70.362083651162649},{"$f":"T258*Q258/$Q$235","v":33.505754119601256}]
[]
[]
[null,"Total Power @4.5K",null,{"$f":"SUM(D258:D259)","v":11005.846555783983},null,null,{"$f":"G258*3600*24/1000000","v":9.5039999999999996},null,null,null,null,null,null,null,null,null,{"$f":"SUM(Q258:Q260)","v":739392.78224766941},null,null,null,{"$f":"SUM(U258:U260)","v":33.505754119601256}]
[null,"Carnot",null,{"$f":"(300-4.5)/4.5","v":65.666666666666671}]
[null,"Barycentrique Temp",null,{"$f":"U261","v":33.505754119601256},"K"]
[null,"Efficiency",null,{"$f":" (-0.004132783*D263 + 0.5866340621)*0.95","v":0.42575394851871534}]
[null,"Comp efficiency",null,0.55000000000000004,null,null,null,null,null,null,886,1.05,4.8,{"$f":"K265*8.314*315*LN(M265/L265)/4/0.5/1000","v":1763.2670810792797}]
[null,"Efficiency W/W",null,{"$f":"D262/D264/D265","v":280.42943538007154},"W/W",null,null,null,null,null,4067,4.8,21,{"$f":"K266*8.314*315*LN(M266/L266)/4/0.55/1000","v":7145.4719182782892}]
[null,"Power comp",null,{"$f":"D266*D261","v":3086363.3355182074},"kW",null,null,null,null,null,null,null,null,{"$f":"SUM(N265:N266)","v":8908.7389993575689}]
[null,"Cost Barebone",null,{"$f":"2.6*(D261/1000)^0.68","v":13.282422677753894},null,{"$f":"1-SUM(F269:F273)","v":0.98},"2.6∗(Power)^0.68"]
[null,"Test Tools"]
[null,"Machine Monitoring System"]
[null,"Heat Recovery System"]
[null,"Test Tools"]
[null,"Capital Spares",null,{"$f":"F273*$D$248","v":0.4489421031665814},1,0.02]
[null,"Total Price",null,{"$f":"D268/F268","v":13.5534925283203},null,null,"WITH COMPRESSOR STATION ! AND WITHOUT DISTRIBUTION"]

{"sheet":"Property HePak","index":2,"n_rows":61,"n_cols":9,"rows_kept":61,"cut":false,"hidden":false,"merged":[[0,0,0,6],[1,0,1,6],[2,0,2,6],[4,2,4,3]]}
["HePak Spreadsheet Example"]
["Using HeCalc, HeProperty, HeUnit and HeInput"]
["Try new input values (shown in red)"]
[]
[null,null,"Thermodynamic state definition"]
[null,null,"Input 1","Input 2","Validate"]
[null,"Index",1,2,{"$f":"[7]!heProperty(Input2)","v":{"$error":"#NAME?"}}]
[null,"Name",{"$f":"[7]!heProperty(Input1)","v":{"$error":"#NAME?"}},{"$f":"[7]!heProperty(Input2)","v":{"$error":"#NAME?"}}]
[null,"Value",{"$f":"1.2*10^5","v":120000},4.3,"Unit System",1]
[null,"Units",{"$f":"[7]!heunit(Input1,Units)","v":{"$error":"#NAME?"}},{"$f":"[7]!heunit(Input2,Units)","v":{"$error":"#NAME?"}}]
[]
[null,2,"Error Message"]
[null,3]
[]
[null,"Property","Property",null,"Property"]
[null,"Index","Name","Value","Units"]
[null,0,{"$f":"[7]!heProperty(B17)","v":{"$error":"#NAME?"}},{"$f":"[7]!Hecalc(B17,0,Input1,Value1,Input2,Value2,Units)","v":{"$error":"#NAME?"}},{"$f":"[7]!heunit(B17,Units)","v":{"$error":"#NAME?"}},null,null,{"$f":"D17","v":{"$error":"#NAME?"}}]
[null,1,{"$f":"[7]!heProperty(B18)","v":{"$error":"#NAME?"}},{"$f":"[7]!Hecalc(B18,0,Input1,Value1,Input2,Value2,Units)","v":{"$error":"#NAME?"}},{"$f":"[7]!heunit(B18,Units)","v":{"$error":"#NAME?"}}]
[null,2,{"$f":"[7]!heProperty(B19)","v":{"$error":"#NAME?"}},{"$f":"[7]!Hecalc(B19,0,Input1,Value1,Input2,Value2,Units)","v":{"$error":"#NAME?"}},{"$f":"[7]!heunit(B19,Units)","v":{"$error":"#NAME?"}}]
[null,3,{"$f":"[7]!heProperty(B20)","v":{"$error":"#NAME?"}},{"$f":"[7]!Hecalc(B20,0,Input1,Value1,Input2,Value2,Units)","v":{"$error":"#NAME?"}},{"$f":"[7]!heunit(B20,Units)","v":{"$error":"#NAME?"}}]
[null,4,{"$f":"[7]!heProperty(B21)","v":{"$error":"#NAME?"}},{"$f":"[7]!Hecalc(B21,0,Input1,Value1,Input2,Value2,Units)","v":{"$error":"#NAME?"}},{"$f":"[7]!heunit(B21,Units)","v":{"$error":"#NAME?"}}]
[null,5,{"$f":"[7]!heProperty(B22)","v":{"$error":"#NAME?"}},{"$f":"[7]!Hecalc(B22,0,Input1,Value1,Input2,Value2,Units)","v":{"$error":"#NAME?"}},{"$f":"[7]!heunit(B22,Units)","v":{"$error":"#NAME?"}}]
[null,6,{"$f":"[7]!heProperty(B23)","v":{"$error":"#NAME?"}},{"$f":"[7]!Hecalc(B23,0,Input1,Value1,Input2,Value2,Units)","v":{"$error":"#NAME?"}},{"$f":"[7]!heunit(B23,Units)","v":{"$error":"#NAME?"}}]
[null,7,{"$f":"[7]!heProperty(B24)","v":{"$error":"#NAME?"}},{"$f":"[7]!Hecalc(B24,0,Input1,Value1,Input2,Value2,Units)","v":{"$error":"#NAME?"}},{"$f":"[7]!heunit(B24,Units)","v":{"$error":"#NAME?"}}]
[null,8,{"$f":"[7]!heProperty(B25)","v":{"$error":"#NAME?"}},{"$f":"[7]!Hecalc(B25,0,Input1,Value1,Input2,Value2,Units)","v":{"$error":"#NAME?"}},{"$f":"[7]!heunit(B25,Units)","v":{"$error":"#NAME?"}}]
[null,9,{"$f":"[7]!heProperty(B26)","v":{"$error":"#NAME?"}},{"$f":"[7]!Hecalc(B26,0,Input1,Value1,Input2,Value2,Units)","v":{"$error":"#NAME?"}},{"$f":"[7]!heunit(B26,Units)","v":{"$error":"#NAME?"}},null,null,null,9407.9237518543996]
[null,10,{"$f":"[7]!heProperty(B27)","v":{"$error":"#NAME?"}},{"$f":"[7]!Hecalc(B27,0,Input1,Value1,Input2,Value2,Units)","v":{"$error":"#NAME?"}},{"$f":"[7]!heunit(B27,Units)","v":{"$error":"#NAME?"}}]
[null,11,{"$f":"[7]!heProperty(B28)","v":{"$error":"#NAME?"}},{"$f":"[7]!Hecalc(B28,0,Input1,Value1,Input2,Value2,Units)","v":{"$error":"#NAME?"}},{"$f":"[7]!heunit(B28,Units)","v":{"$error":"#NAME?"}}]
[null,12,{"$f":"[7]!heProperty(B29)","v":{"$error":"#NAME?"}},{"$f":"[7]!Hecalc(B29,0,Input1,Value1,Input2,Value2,Units)","v":{"$error":"#NAME?"}},{"$f":"[7]!heunit(B29,Units)","v":{"$error":"#NAME?"}}]
[null,13,{"$f":"[7]!heProperty(B30)","v":{"$error":"#NAME?"}},{"$f":"[7]!Hecalc(B30,0,Input1,Value1,Input2,Value2,Units)","v":{"$error":"#NAME?"}}]
[null,14,{"$f":"[7]!heProperty(B31)","v":{"$error":"#NAME?"}},{"$f":"[7]!Hecalc(B31,0,Input1,Value1,Input2,Value2,Units)","v":{"$error":"#NAME?"}},{"$f":"[7]!heunit(B31,Units)","v":{"$error":"#NAME?"}}]
[null,15,{"$f":"[7]!heProperty(B32)","v":{"$error":"#NAME?"}},{"$f":"[7]!Hecalc(B32,0,Input1,Value1,Input2,Value2,Units)","v":{"$error":"#NAME?"}},{"$f":"[7]!heunit(B32,Units)","v":{"$error":"#NAME?"}}]
[null,16,{"$f":"[7]!heProperty(B33)","v":{"$error":"#NAME?"}},{"$f":"[7]!Hecalc(B33,0,Input1,Value1,Input2,Value2,Units)","v":{"$error":"#NAME?"}},{"$f":"[7]!heunit(B33,Units)","v":{"$error":"#NAME?"}}]
[null,17,{"$f":"[7]!heProperty(B34)","v":{"$error":"#NAME?"}},{"$f":"[7]!Hecalc(B34,0,Input1,Value1,Input2,Value2,Units)","v":{"$error":"#NAME?"}},{"$f":"[7]!heunit(B34,Units)","v":{"$error":"#NAME?"}}]
[null,18,{"$f":"[7]!heProperty(B35)","v":{"$error":"#NAME?"}},{"$f":"[7]!Hecalc(B35,0,Input1,Value1,Input2,Value2,Units)","v":{"$error":"#NAME?"}},{"$f":"[7]!heunit(B35,Units)","v":{"$error":"#NAME?"}}]
[null,19,{"$f":"[7]!heProperty(B36)","v":{"$error":"#NAME?"}},{"$f":"[7]!Hecalc(B36,0,Input1,Value1,Input2,Value2,Units)","v":{"$error":"#NAME?"}},{"$f":"[7]!heunit(B36,Units)","v":{"$error":"#NAME?"}},null,null,null,{"$f":"[7]!Hecalc(19,0,1,Value1,2,Value2,1)","v":{"$error":"#NAME?"}}]
[null,20,{"$f":"[7]!heProperty(B37)","v":{"$error":"#NAME?"}},{"$f":"[7]!Hecalc(B37,0,Input1,Value1,Input2,Value2,Units)","v":{"$error":"#NAME?"}},{"$f":"[7]!heunit(B37,Units)","v":{"$error":"#NAME?"}},null,null,null,{"$f":"[7]!Hecalc(20,0,1,P,2,T,1)","v":{"$error":"#NAME?"}}]
[null,21,{"$f":"[7]!heProperty(B38)","v":{"$error":"#NAME?"}},{"$f":"[7]!Hecalc(B38,0,Input1,Value1,Input2,Value2,Units)","v":{"$error":"#NAME?"}},{"$f":"[7]!heunit(B38,Units)","v":{"$error":"#NAME?"}}]
[null,22,{"$f":"[7]!heProperty(B39)","v":{"$error":"#NAME?"}},{"$f":"[7]!Hecalc(B39,0,Input1,Value1,Input2,Value2,Units)","v":{"$error":"#NAME?"}},{"$f":"[7]!heunit(B39,Units)","v":{"$error":"#NAME?"}}]
[null,23,{"$f":"[7]!heProperty(B40)","v":{"$error":"#NAME?"}},{"$f":"[7]!Hecalc(B40,0,Input1,Value1,Input2,Value2,Units)","v":{"$error":"#NAME?"}},{"$f":"[7]!heunit(B40,Units)","v":{"$error":"#NAME?"}}]
[null,24,{"$f":"[7]!heProperty(B41)","v":{"$error":"#NAME?"}},{"$f":"[7]!Hecalc(B41,0,Input1,Value1,Input2,Value2,Units)","v":{"$error":"#NAME?"}},{"$f":"[7]!heunit(B41,Units)","v":{"$error":"#NAME?"}}]
[null,25,{"$f":"[7]!heProperty(B42)","v":{"$error":"#NAME?"}},{"$f":"[7]!Hecalc(B42,0,Input1,Value1,Input2,Value2,Units)","v":{"$error":"#NAME?"}},{"$f":"[7]!heunit(B42,Units)","v":{"$error":"#NAME?"}}]
[null,26,{"$f":"[7]!heProperty(B43)","v":{"$error":"#NAME?"}},{"$f":"[7]!Hecalc(B43,0,Input1,Value1,Input2,Value2,Units)","v":{"$error":"#NAME?"}},{"$f":"[7]!heunit(B43,Units)","v":{"$error":"#NAME?"}},null,null,null,{"$f":"[6]!lambda_(11,1,300)","v":0.18776735094889735}]
[null,27,{"$f":"[7]!heProperty(B44)","v":{"$error":"#NAME?"}},{"$f":"[7]!Hecalc(B44,0,Input1,Value1,Input2,Value2,Units)","v":{"$error":"#NAME?"}},{"$f":"[7]!heunit(B44,Units)","v":{"$error":"#NAME?"}}]
[null,28,{"$f":"[7]!heProperty(B45)","v":{"$error":"#NAME?"}},{"$f":"[7]!Hecalc(B45,0,Input1,Value1,Input2,Value2,Units)","v":{"$error":"#NAME?"}},{"$f":"[7]!heunit(B45,Units)","v":{"$error":"#NAME?"}}]
[null,29,{"$f":"[7]!heProperty(B46)","v":{"$error":"#NAME?"}},{"$f":"[7]!Hecalc(B46,0,Input1,Value1,Input2,Value2,Units)","v":{"$error":"#NAME?"}},{"$f":"[7]!heunit(B46,Units)","v":{"$error":"#NAME?"}}]
[null,30,{"$f":"[7]!heProperty(B47)","v":{"$error":"#NAME?"}},{"$f":"[7]!Hecalc(B47,0,Input1,Value1,Input2,Value2,Units)","v":{"$error":"#NAME?"}},{"$f":"[7]!heunit(B47,Units)","v":{"$error":"#NAME?"}}]
[null,31,{"$f":"[7]!heProperty(B48)","v":{"$error":"#NAME?"}},{"$f":"[7]!Hecalc(B48,0,Input1,Value1,Input2,Value2,Units)","v":{"$error":"#NAME?"}},{"$f":"[7]!heunit(B48,Units)","v":{"$error":"#NAME?"}}]
[null,32,{"$f":"[7]!heProperty(B49)","v":{"$error":"#NAME?"}},{"$f":"[7]!Hecalc(B49,0,Input1,Value1,Input2,Value2,Units)","v":{"$error":"#NAME?"}},{"$f":"[7]!heunit(B49,Units)","v":{"$error":"#NAME?"}}]
[null,33,{"$f":"[7]!heProperty(B50)","v":{"$error":"#NAME?"}},{"$f":"[7]!Hecalc(B50,0,Input1,Value1,Input2,Value2,Units)","v":{"$error":"#NAME?"}},{"$f":"[7]!heunit(B50,Units)","v":{"$error":"#NAME?"}}]
[null,34,{"$f":"[7]!heProperty(B51)","v":{"$error":"#NAME?"}},{"$f":"[7]!Hecalc(B51,0,Input1,Value1,Input2,Value2,Units)","v":{"$error":"#NAME?"}},{"$f":"[7]!heunit(B51,Units)","v":{"$error":"#NAME?"}}]
[null,35,{"$f":"[7]!heProperty(B52)","v":{"$error":"#NAME?"}},{"$f":"[7]!Hecalc(B52,0,Input1,Value1,Input2,Value2,Units)","v":{"$error":"#NAME?"}},{"$f":"[7]!heunit(B52,Units)","v":{"$error":"#NAME?"}}]
[null,36,{"$f":"[7]!heProperty(B53)","v":{"$error":"#NAME?"}},{"$f":"[7]!Hecalc(B53,0,Input1,Value1,Input2,Value2,Units)","v":{"$error":"#NAME?"}},{"$f":"[7]!heunit(B53,Units)","v":{"$error":"#NAME?"}}]
[null,37,{"$f":"[7]!heProperty(B54)","v":{"$error":"#NAME?"}},{"$f":"[7]!Hecalc(B54,0,Input1,Value1,Input2,Value2,Units)","v":{"$error":"#NAME?"}},{"$f":"[7]!heunit(B54,Units)","v":{"$error":"#NAME?"}}]
[null,38,{"$f":"[7]!heProperty(B55)","v":{"$error":"#NAME?"}},{"$f":"[7]!Hecalc(B55,0,Input1,Value1,Input2,Value2,Units)","v":{"$error":"#NAME?"}},{"$f":"[7]!heunit(B55,Units)","v":{"$error":"#NAME?"}}]
[null,39,{"$f":"[7]!heProperty(B56)","v":{"$error":"#NAME?"}},{"$f":"[7]!Hecalc(B56,0,Input1,Value1,Input2,Value2,Units)","v":{"$error":"#NAME?"}},{"$f":"[7]!heunit(B56,Units)","v":{"$error":"#NAME?"}}]
[null,40," reserved"]
[null,41,{"$f":"[7]!heProperty(B58)","v":{"$error":"#NAME?"}},"Input only"," N/A"]
[null,42,{"$f":"[7]!heProperty(B59)","v":{"$error":"#NAME?"}},"Input only"," N/A"]
[null,43,{"$f":"[7]!heProperty(B60)","v":{"$error":"#NAME?"}},"Input only"," N/A"]
[null,44,{"$f":"[7]!heProperty(B61)","v":{"$error":"#NAME?"}},"Input only"," N/A"]

{"sheet":"Fluides","index":3,"n_rows":53,"n_cols":8,"rows_kept":53,"cut":false,"hidden":false,"merged":[]}
[null,null,"Liste des fluides disponibles"]
[1,1,"Ammoniac","C:\\Program files\\GaspakDemo5\\NH379.gas",null,null,null,1]
[2,2,"Argon","C:\\Program files\\GaspakDemo5\\ARGON83.gas",null,null,null,2]
[3,21,"Azote","C:\\Program files\\GaspakDemo5\\N273.gas",null,null,null,21]
[4,22,"Azote","C:\\Program files\\GaspakDemo5\\N286.gas",null,null,null,22]
[5,4,"Butane Normal","C:\\Program files\\GaspakDemo5\\NORB86.gas",null,null,null,4]
[6,7,"Deutérium","C:\\Program files\\GaspakDemo5\\D286.gas",null,null,null,7]
[7,5,"Dioxide de carbone","C:\\Program files\\GaspakDemo5\\CO289.gas",null,null,null,5]
[8,27,"Eau","C:\\Program files\\GaspakDemo5\\H2O89.gas",null,null,null,27]
[9,8,"Ethane","C:\\Program files\\GaspakDemo5\\C2H686.gas",null,null,null,8]
[10,9,"Ethylène","C:\\Program files\\GaspakDemo5\\C2H481.gas",null,null,null,9]
[11,10,"Ethylène","C:\\Program files\\GaspakDemo5\\C2H486.gas",null,null,null,10]
[12,11,"Helium","C:\\Program files\\GaspakDemo5\\HE89.gas",null,null,null,11]
[13,16,"Hydrogen Sulfide","C:\\Program files\\GaspakDemo5\\H2S93.gas",null,null,null,16]
[14,3,"Isobutane","C:\\Program files\\GaspakDemo5\\ISOB86.gas",null,null,null,3]
[15,17,"Krypton","C:\\Program files\\GaspakDemo5\\KR90.gas",null,null,null,17]
[16,18,"Méthane","C:\\Program files\\GaspakDemo5\\METH86.gas",null,null,null,18]
[17,19,"Méthane","C:\\Program files\\GaspakDemo5\\CH489.gas",null,null,null,19]
[18,6,"Monoxide de carbone","C:\\Program files\\GaspakDemo5\\CO85.gas",null,null,null,6]
[19,20,"Néon","C:\\Program files\\GaspakDemo5\\NE91.gas",null,null,null,20]
[20,23,"Nitrogene Trifluoride","C:\\Program files\\GaspakDemo5\\NF380.gas",null,null,null,23]
[21,13,"Normal Hydrogene","C:\\Program files\\GaspakDemo5\\NH291.gas",null,null,null,13]
[22,24,"Oxygène","C:\\Program files\\GaspakDemo5\\O278.gas",null,null,null,24]
[23,25,"Oxygène","C:\\Program files\\GaspakDemo5\\O285.gas",null,null,null,25]
[24,15,"Hydrogène Para","C:\\Program files\\GaspakDemo5\\PH275.gas",null,null,null,15]
[25,26,"Propane","C:\\Program files\\GaspakDemo5\\C3H886.gas",null,null,null,26]
[26,29,"R11","C:\\Program files\\GaspakDemo5\\R1191.gas",null,null,null,29]
[27,30,"R12","C:\\Program files\\GaspakDemo5\\R1291.gas",null,null,null,30]
[28,33,"R123","C:\\Program files\\GaspakDemo5\\R123N93.gas",null,null,null,33]
[29,34,"R124","C:\\Program files\\GaspakDemo5\\R124N93.gas",null,null,null,34]
[30,35,"R125","C:\\Program files\\GaspakDemo5\\R125N93.gas",null,null,null,35]
[31,36,"R134","C:\\Program files\\GaspakDemo5\\R134AN92.gas",null,null,null,36]
[32,37,"R134","C:\\Program files\\GaspakDemo5\\R134AT93.gas",null,null,null,37]
[33,38,"R152","C:\\Program files\\GaspakDemo5\\R152AT94.gas",null,null,null,38]
[34,31,"R22","C:\\Program files\\GaspakDemo5\\R2291.gas",null,null,null,31]
[35,32,"R32","C:\\Program files\\GaspakDemo5\\R32N93.gas",null,null,null,32]
[36,50,"R32","C:\\Program files\\GaspakDemo5\\R32N94.gas",null,null,null,50]
[37,28,"Xénon","C:\\Program files\\GaspakDemo5\\\\XE90.gas",null,null,null,28]
[38,"Phosphine",1.45,10.6]
[39,"Protoxyde d'azote",1.8720000000000001,13.6]
[40,"R11 gaz",6.2,10.16]
[41,"R12 gaz",5.75,11.99]
[42,"R22 gaz",4.2300000000000004,11.8]
[43,"Silane",1.36,10.8]
[44,"Sulfure d'hydrogène",1.45,11.79]
[45,"R11 liq",1500,567.5]
[46,"R12 liq",1350,260]
[47,"R22 liq",1250,210]
[48,"R32 liq",1000,193.2]
[49,"R123 liq",1500,569.6]
[50,"R124 liq",1400,346]
[51,"R125 liq",1250,205]
[52,"R152a liq",950,214]

{"sheet":"Pipe diameter","index":4,"n_rows":56,"n_cols":9,"rows_kept":56,"cut":false,"hidden":false,"merged":[[3,2,3,6],[3,7,3,8],[26,2,26,6],[26,7,26,8]]}
[]
["I/ PN10"]
[]
[null,null,"Service limit",null,null,null,null,"Design data*"]
[null,"Pressure (Bar)",10,10,10,10,"Vacuum",10,"Vacuum"]
[null,"Temperature (°C)",-273,38,50,100,20,100,100]
[]
[]
[null,"Diam","DN","D out","Ep","D in"]
[null,"3/8\"",10,17.2,1.6,{"$f":"D10-2*E10","v":14}]
[null,"1/2\"",15,21.3,1.6,18.100000000000001]
[null,"3/4\"",20,26.9,1.6,23.7]
[null,"1\"",25,33.700000000000003,1.6,30.500000000000004]
[null,"1\"1/4",32,42.4,1.6,39.199999999999996]
[null,"1\"1/2",40,48.3,1.6,45.099999999999994]
[null,"2\"",50,60.3,2,56.3]
[null,"2\"1/2",65,76.099999999999994,2.9,70.3]
[null,"3\"",80,86.9,3.05,80.800000000000011]
[null,"4\"",100,114.3,6.02,102.25999999999999]
[null,"6\"",150,168.3,7.11,154.08000000000001]
[null,"8\"",200,219.1,8.18,202.74]
[null,"10\"",250,273,9.27,254.46]
[null,"12\"",300,323.89999999999998,9.5299999999999994,304.83999999999997]
[]
["II/ PN27"]
[]
[null,null,"Service limit",null,null,null,null,"Design data*"]
[null,"Pressure (Bar)",27,27,27,27,"Vacuum",27,"Vacuum"]
[null,"Temperature (°C)",-273,38,50,100,20,100,100]
[]
[]
[null,"Diam","DN","D out","Ep","D in"]
[null,"3/8\"",10,17.2,1.6,{"$f":"D33-2*E33","v":14}]
[null,"1/2\"",15,21.3,1.6,18.100000000000001]
[null,"3/4\"",20,26.9,1.6,23.7]
[null,"1\"",25,33.700000000000003,1.6,30.500000000000004]
[null,"1\"1/4",32,42.4,1.6,39.199999999999996]
[null,"1\"1/2",40,48.3,1.6,45.099999999999994]
[null,"2\"",50,60.3,1.6,57.099999999999994]
[null,"2\"1/2",65,76.099999999999994,1.6,72.899999999999991]
[null,"3\"",80,86.9,1.6,83.7]
[null,"4\"",100,114.3,2,110.3]
[null,"6\"",150,168.3,3.4,161.5]
[null,"8\"",200,219.1,3.76,211.57999999999998]
[null,"10\"",250,273,4.1900000000000004,264.62]
[null,"12\"",300,323.89999999999998,4.57,314.76]
[]
[]
["III/ Nombre de coudes"]
[]
[null,0]
[null,1]
[null,2]
[null,3]
[null,4]
[null,5]

{"sheet":"Sheet2","index":5,"n_rows":24,"n_cols":20,"rows_kept":24,"cut":false,"hidden":false,"merged":[]}
[]
[]
[]
[]
[]
[null,null,null,null,"Cycles","Caractéristiques","Puissance équivalente calculée en cas design à 4,5K","Tmoy","Puissance compresseurs nécessaire si idéaux",null,null,"Rdt cycle en W/W@4,5K (compresseurs isoT)","Rendement de Carnot","Puissance compresseurs non idéaux (mode design)","Rdt cycle en W/W@4,5K (mode design avec compresseurs non idéaux)","Puissance compresseurs réelle (mesurée)","Puissance compresseurs réelle (mesurée)","Rdt cycle en W/W@4,5K","Sources","Remarques"]
[null,null,null,null,"SKIKDA","Liquéfacteur à 3 niveaux de pression :\n1.06, 3.8, 20.5 bar. Avec LN2. 5 turbines. Production de 116,3\ng/s de LHe.",9.1999999999999993,null,1523,{"$f":"(300-4.5)/4.5*G7/M7","v":{"$error":"#VALUE!"}},{"$f":"J7/55%","v":{"$error":"#VALUE!"}},"179 (avec N2 à\n1W/W) / 235 (avec N2 à 5W/W)","37,9%(avec\nN2 à 1W/W)\n/\n28,8%(avec\nN2 à 5W/W)",null,null,null,null,null,"Calcul process : SKIKDA.HSC ; Calcul de rdt : Efficiency_SKIKDA_LINDE.xls"]
[null,null,null,null,"JT 60\n3T","Cycle à 3 niveaux de pression : 1.05, 4.45,\n18.6 bar. Avec LN2.\n3 turbines.",10.6,null,1174,{"$f":"(300-4.5)/4.5*G8/M8","v":{"$error":"#VALUE!"}},{"$error":"#VALUE!"},"119 (avec N2 à\n1W/W) / 154 (avec N2 à 5W/W)","56,3%(avec\nN2 à 1W/W)\n/\n43,7%(avec\nN2 à 5W/W)",null,null,null,null,null,"Calcul process : JT60 POS - MAX POWER NIV. CST 4,3K- 18BARS (DESIGN).HSC ; Calcul de rdt : Efficiency_JT60_3T.xls"]
[null,null,null,null,"JT 60\n6T","Cycle à 3 niveaux de pression : 1.05, 4.80,\n22.0 bar. Pas de N2.\n6 turbines.",10.7,null,1506,{"$f":"(300-4.5)/4.5*G9/M9","v":{"$error":"#VALUE!"}},{"$error":"#VALUE!"},141,"46,2%",null,null,null,null,null,"Calcul process : JT60 POS - MAX POWER NIV. CST 4,3K - 22BARS (DESIGN).HSC ; Calcul de rdt: Efficiency_JT60_6T.xls"]
[null,null,null,null,"ITER","Cycle à 3 niveaux de pressions : 1.0, 4.2,\n16.8 bar. Avec LN2.\n4 turbines. Production de LHe selon régime de fonctionnement",26.9,null,3224,{"$f":"(300-4.5)/4.5*G10/M10","v":{"$error":"#VALUE!"}},{"$error":"#VALUE!"},"120 (avec N2 à\n1W/W) / 155 (avec N2 à 8W/W)","57,2%(avec\nN2 à 1W/W)\n/\n44,3%(avec\nN2 à 8W/W)","5942 kW avec un rdt de 52%","261 (avec N2 à\n8W/W)",null,null,null,"Calcul process : MAGNETS HTS REFRIGERATOR 4 TURBINES (4) mean load .HSC ; Calcul de rdt : Efficiency-meanload.xls","Calculé en mode charge moyenne. L'azote est considéré avoir un rdt de 8\nW/W."]
[null,null,null,null,"KSTAR","Cycle à 3 niveaux de pressions : 1.0, 5, 22 bar. Pas de N2. 6 turbines. Production de 18 g/s de LHe",9.6,null,1498,{"$f":"(300-4.5)/4.5*G11/M11","v":{"$error":"#VALUE!"}},{"$error":"#VALUE!"},156,"43,4%","2492 kW avec un rdt de 54% au 1er étage et 64% au second",260,"2567 kW avec un rdt de 49% au\n1er étage et 65%\nau second",{"$f":"L11/R11","v":0.58208955223880599},268,"Calcul process : C1119 SH 011- AVEC_VANNE.HSC ; Calcul de rdt\n: Efficiency_KSTAR.xls ; Mesures : C1119-TR-118 (0).pdf","Calculé en mode design. Le compresseur froid n'est pas pris en compte dans la puissance utile."]
[null,null,null,null,"LEP 6 kW AL","Cycle à 3 niveaux de pression : 1,\n5.80,19.4 bar. 5\ncompresseurs (Stal\n(Suède)). Pas de N2.\n3 Turbines. Production de 8 g/s de LHe.",6.3,null,895,{"$f":"(300-4.5)/4.5*G12/M12","v":{"$error":"#VALUE!"}},{"$error":"#VALUE!"},143,"45,9%",null,null,"1790 kW avec un rdt global de 50% sur la station de compression",{"$f":"L12/R12","v":0.5},286,"Calcul process : CERN-6KW- DesignOriginal.HSC ; Calcul de rdt\n: Efficiency-design_original.xls","Calculé en mode design original. Info sur les compresseurs dans Advances in cryogenic engineering volume 39 p.548"]
[null,null,null,null,"LEP 6 kW LINDE","Cycle à 3 niveaux de pression : 1.01, 4, 19 bar. 3 compresseurs (Stal (Suède)). Pas de N2. 7 turbines. Production de 8 g/s\nde LHe.",6.1,null,765,{"$error":"#VALUE!"},{"$f":"J13/M13","v":{"$error":"#VALUE!"}},126,"53,5%",null,null,"1395/1459 kW avec un rdt global de\n54,8/52,4% sur la station de compression",0.54782608695652169,230,"Calcul process : LINDE_LEP_6KW\n; Calcul de rdt : Efficiency_LEP6kW-LINDE.xls","Calculé en mode design. Info sur les compresseurs dans Advances in cryogenic engineering volume 39 p.554"]
[null,null,null,null,"LEP 12 kW AL","Cycle à 3 niveaux de pression : 1.04, 4.30,\n17.56 bar. 4+1 compresseurs (Stal (Suède)). Pas de N2.\n7 turbines. 13g/s de\nLHe",11.9,null,1397,{"$error":"#VALUE!"},{"$f":"J14/M14","v":{"$error":"#VALUE!"}},115,"58,5%",null,null,"2765 kW avec un rdt de 50,5% sur la station de compression",0.49568965517241381,232,"Calcul process : AL_LEP_12KW.HSC ; Calcul de rdt\n: Efficiency_LEP12kW.xls"]
[null,null,null,null,"LEP 12 kW LINDE","Cycle à 3 niveaux de pression : 1.01, 4.20,\n20,13 bar. 3+2 compresseurs (Stal (Suède)). Pas de N2.\n7 turbines. 13g/s de\nLHe",11.9,null,1385,{"$error":"#VALUE!"},{"$error":"#VALUE!"},116,"57,6%",null,null,"2603 kW avec un rdt global de\n53,2% sur la station de compresssion",0.5321100917431193,218,"Calcul process : LINDE_LEP_12KW.HSC ; Calcul de rdt : Efficiency_LEP12kW- LINDE.xls"]
[null,null,null,null,"LEP 18 kW","Cycle à 3 niveaux de pression : 1.0, 4.4,\n20.2 bar. Pas des\nN2. 6 Turbines.",19.5,null,2779,{"$error":"#VALUE!"},{"$error":"#VALUE!"},142,"45,5%",null,null,null,{"$error":"#DIV/0!"},null,"Calcul process : LEP-LHC(3) SANS T08_modifié.HSC ; Calcul de rdt : Efficiency-LEP-LHC(3) SANS T08.xls","Calculé sans turbines 3 et 8."]
[null,null,null,null,"LHC 18 kW AL","Cycle à 3 niveaux de pression : 1.0, 3.9,\n20.5 bar. Pas des\nN2. 8 Turbines.",17.899999999999999,null,2311,{"$error":"#VALUE!"},{"$error":"#VALUE!"},129,"50,9%",null,null,"4129kW avec un rdt global de la station de 56,0%",0.56086956521739129,230,"Calcul process : 980605IN.HSC ; Calcul de rdt : Efficiency-LHC.xls"]
[null,null,null,null,"LHC 18 kW LINDE","Cycle à 3 niveaux de pression : 1.01, 4.1,\n21.6 bar. Pas de N2.\n10 turbines.",18.3,null,2446,{"$error":"#VALUE!"},{"$error":"#VALUE!"},134,"49,0%",null,null,"4381 kW avec un rdt global de la station de 55,8%",0.55833333333333335,240,"Calcul process : LHC-LINDE.HSC ; Calcul de rdt : Efficiency_LHC- LINDE.xls","Le débit au niveau des 3 étages turbines a été choisi de telle sorte que les échangeurs aient des pertes thermiques cohérentes"]
[null,null,null,null,"QATAR","Liquéfacteur à 3 niveaux de pression :\n1.07, 4.0, 20.6 bar.\nPas de N2. 6 turbines. Production de 116,6 g/s de LHe.",9,null,2087,{"$error":"#VALUE!"},{"$f":"J19/55%","v":{"$error":"#VALUE!"}},231,"28,4%",null,null,null,{"$error":"#DIV/0!"},null,"Calcul process : QATAR.HSC ; Calcul de rdt : Efficiency_QATAR.xls"]
[null,null,null,null,"Rhéa","Liquéfacteur à 3 niveaux de pression :\n1.08, 4.0, 21.1 bar.\nPas de N2. 6 turbines. Production de 238,5 g/s de LHe.",21.8,null,4573,{"$error":"#VALUE!"},{"$f":"J20/55%","v":{"$error":"#VALUE!"}},210,"33,0%",null,null,null,{"$error":"#DIV/0!"},null,"Calcul process : RHEA - DESIGN - EX8 2.1.2 - SANS LN2(4).HSC ; Calcul de rdt : Efficiency_Rhea_design.xls"]
[]
[]
[]
[null,null,null,null,null,null,{"$f":"68*210*9.2","v":131376}]

{"sheet":"Sheet2 (2)","index":6,"n_rows":51,"n_cols":21,"rows_kept":51,"cut":false,"hidden":false,"merged":[]}
[]
[]
[]
[]
[]
[null,null,null,null,"Cycles","Caractéristiques","Puissance équivalente calculée en cas design à 4,5K","Tmoy","Puissance compresseurs nécessaire si idéaux",null,null,"Rdt cycle en W/W@4,5K (compresseurs isoT)","Rendement de Carnot","Puissance compresseurs non idéaux (mode design)","Rdt cycle en W/W@4,5K (mode design avec compresseurs non idéaux)","Puissance compresseurs réelle (mesurée)","Puissance compresseurs réelle (mesurée)","Rdt cycle en W/W@4,5K",null,"Sources","Remarques"]
[null,null,null,null,"SKIKDA","Liquéfacteur à 3 niveaux de pression :\n1.06, 3.8, 20.5 bar. Avec LN2. 5 turbines. Production de 116,3\ng/s de LHe.",9.1999999999999993,69,1523,{"$f":"(300-4.5)/4.5*G7/M7","v":2097.6851851851852},{"$f":"J7/55%","v":3813.9730639730637},"179 (avec N2 à\n1W/W) / 235 (avec N2 à 5W/W)",0.28799999999999998,null,null,null,null,111111,{"$f":"(300-4.5)/4.5/R7","v":5.9100059100059108E-4},"Calcul process : SKIKDA.HSC ; Calcul de rdt : Efficiency_SKIKDA_LINDE.xls"]
[null,null,null,null,"JT 60\n3T","Cycle à 3 niveaux de pression : 1.05, 4.45,\n18.6 bar. Avec LN2.\n3 turbines.",10.6,36,1174,{"$f":"(300-4.5)/4.5*G8/M8","v":1592.8299008390543},2896.0543651619168,"119 (avec N2 à\n1W/W) / 154 (avec N2 à 5W/W)",0.437,null,null,null,null,111111111,5.9100000059100002E-7,"Calcul process : JT60 POS - MAX POWER NIV. CST 4,3K- 18BARS (DESIGN).HSC ; Calcul de rdt : Efficiency_JT60_3T.xls"]
[null,null,null,null,"JT 60\n6T","Cycle à 3 niveaux de pression : 1.05, 4.80,\n22.0 bar. Pas de N2.\n6 turbines.",10.7,36,1506,{"$f":"(300-4.5)/4.5*G9/M9","v":1520.8513708513708},2765.184310638856,141,0.46200000000000002,null,null,null,null,111111111111,5.9100000000059105E-10,"Calcul process : JT60 POS - MAX POWER NIV. CST 4,3K - 22BARS (DESIGN).HSC ; Calcul de rdt: Efficiency_JT60_6T.xls"]
[null,null,null,null,"ITER","Cycle à 3 niveaux de pressions : 1.0, 4.2,\n16.8 bar. Avec LN2.\n4 turbines. Production de LHe selon régime de fonctionnement",26.9,29,3224,{"$f":"(300-4.5)/4.5*G10/M10","v":3987.4341610233259},7249.8802927696834,"120 (avec N2 à\n1W/W) / 155 (avec N2 à 8W/W)",0.443,"5942 kW avec un rdt de 52%","261 (avec N2 à\n8W/W)",null,null,1111111111,5.9100000005910007E-8,"Calcul process : MAGNETS HTS REFRIGERATOR 4 TURBINES (4) mean load .HSC ; Calcul de rdt : Efficiency-meanload.xls","Calculé en mode charge moyenne. L'azote est considéré avoir un rdt de 8\nW/W."]
[null,null,null,null,"KSTAR","Cycle à 3 niveaux de pressions : 1.0, 5, 22 bar. Pas de N2. 6 turbines. Production de 18 g/s de LHe",9.6,28,1498,{"$f":"(300-4.5)/4.5*G11/M11","v":1452.5345622119814},2640.9719312945117,156,0.434,"2492 kW avec un rdt de 54% au 1er étage et 64% au second",260,"2567 kW avec un rdt de 49% au\n1er étage et 65%\nau second",{"$f":"L11/R11","v":0.58208955223880599},268,0.24502487562189057,"Calcul process : C1119 SH 011- AVEC_VANNE.HSC ; Calcul de rdt\n: Efficiency_KSTAR.xls ; Mesures : C1119-TR-118 (0).pdf","Calculé en mode design. Le compresseur froid n'est pas pris en compte dans la puissance utile."]
[null,null,null,null,"LEP 6 kW AL","Cycle à 3 niveaux de pression : 1,\n5.80,19.4 bar. 5\ncompresseurs (Stal\n(Suède)). Pas de N2.\n3 Turbines. Production de 8 g/s de LHe.",6.3,16,895,{"$f":"(300-4.5)/4.5*G12/M12","v":901.30718954248368},1638.7403446226974,143,0.45900000000000002,null,null,"1790 kW avec un rdt global de 50% sur la station de compression",0.5,286,0.22960372960372963,"Calcul process : CERN-6KW- DesignOriginal.HSC ; Calcul de rdt\n: Efficiency-design_original.xls","Calculé en mode design original. Info sur les compresseurs dans Advances in cryogenic engineering volume 39 p.548"]
[null,null,null,null,"LEP 6 kW LINDE","Cycle à 3 niveaux de pression : 1.01, 4, 19 bar. 3 compresseurs (Stal (Suède)). Pas de N2. 7 turbines. Production de 8 g/s\nde LHe.",6.1,15,765,748.72274143302172,{"$f":"J13/M13","v":1399.4817596878911},126,0.53500000000000003,null,null,"1395/1459 kW avec un rdt global de\n54,8/52,4% sur la station de compression",0.54782608695652169,230,{"$f":"(300-4.5)/4.5/R13","v":0.28550724637681163},"Calcul process : LINDE_LEP_6KW\n; Calcul de rdt : Efficiency_LEP6kW-LINDE.xls","Calculé en mode design. Info sur les compresseurs dans Advances in cryogenic engineering volume 39 p.554"]
[null,null,null,null,"LEP 12 kW AL","Cycle à 3 niveaux de pression : 1.04, 4.30,\n17.56 bar. 4+1 compresseurs (Stal (Suède)). Pas de N2.\n7 turbines. 13g/s de\nLHe",11.9,13.5,1397,1335.783475783476,{"$f":"J14/M14","v":2283.3905568948308},115,0.58499999999999996,null,null,"2765 kW avec un rdt de 50,5% sur la station de compression",0.49568965517241381,232,0.28304597701149425,"Calcul process : AL_LEP_12KW.HSC ; Calcul de rdt\n: Efficiency_LEP12kW.xls"]
[null,null,null,null,"LEP 12 kW LINDE","Cycle à 3 niveaux de pression : 1.01, 4.20,\n20,13 bar. 3+2 compresseurs (Stal (Suède)). Pas de N2.\n7 turbines. 13g/s de\nLHe",11.9,13.6,1385,1356.6550925925928,2466.6456228956231,116,0.57599999999999996,null,null,"2603 kW avec un rdt global de\n53,2% sur la station de compresssion",0.5321100917431193,218,0.30122324159021407,"Calcul process : LINDE_LEP_12KW.HSC ; Calcul de rdt : Efficiency_LEP12kW- LINDE.xls"]
[null,null,null,null,"LEP 18 kW","Cycle à 3 niveaux de pression : 1.0, 4.4,\n20.2 bar. Pas des\nN2. 6 Turbines.",19.5,19.8,2779,2814.2857142857142,5116.8831168831166,142,0.45500000000000002,null,null,null,1.2780000000012779E-9,111111111111,5.9100000000059105E-10,"Calcul process : LEP-LHC(3) SANS T08_modifié.HSC ; Calcul de rdt : Efficiency-LEP-LHC(3) SANS T08.xls","Calculé sans turbines 3 et 8."]
[null,null,null,null,"LHC 18 kW AL","Cycle à 3 niveaux de pression : 1.0, 3.9,\n20.5 bar. Pas des\nN2. 8 Turbines.",17.899999999999999,24.5,2311,2309.2992796332678,4198.7259629695773,129,0.50900000000000001,null,null,"4129kW avec un rdt global de la station de 56,0%",0.56086956521739129,230,0.28550724637681163,"Calcul process : 980605IN.HSC ; Calcul de rdt : Efficiency-LHC.xls"]
[null,null,null,null,"LHC 18 kW LINDE","Cycle à 3 niveaux de pression : 1.01, 4.1,\n21.6 bar. Pas de N2.\n10 turbines.",18.3,25,2446,2452.4489795918371,4458.998144712431,134,0.49,null,null,"4381 kW avec un rdt global de la station de 55,8%",0.55833333333333335,240,0.27361111111111114,"Calcul process : LHC-LINDE.HSC ; Calcul de rdt : Efficiency_LHC- LINDE.xls","Le débit au niveau des 3 étages turbines a été choisi de telle sorte que les échangeurs aient des pertes thermiques cohérentes"]
[null,null,null,null,"QATAR","Liquéfacteur à 3 niveaux de pression :\n1.07, 4.0, 20.6 bar.\nPas de N2. 6 turbines. Production de 116,6 g/s de LHe.",9,70.3,2087,2080.9859154929582,3783.6107554417417,231,0.28399999999999997,null,null,null,2.0790000020789999E-6,111111111,5.9100000059100002E-7,"Calcul process : QATAR.HSC ; Calcul de rdt : Efficiency_QATAR.xls"]
[null,null,null,null,"Rhéa","Liquéfacteur à 3 niveaux de pression :\n1.08, 4.0, 21.1 bar.\nPas de N2. 6 turbines. Production de 238,5 g/s de LHe.",21.8,70.3,4573,4337.9797979797986,7887.2359963269055,210,0.33,null,null,null,1.8900000189000002E-5,11111111,5.9100000591000012E-6,"Calcul process : RHEA - DESIGN - EX8 2.1.2 - SANS LN2(4).HSC ; Calcul de rdt : Efficiency_Rhea_design.xls"]
[]
[]
[]
[null,null,null,null,null,null,{"$f":"68*210*9.2","v":131376}]
[]
[]
[]
[]
[]
[]
[]
[]
[]
[]
[]
[]
[]
[]
[]
[null,null,null,null,null,null,"Power","Tmoy","Eff","Rendement de Carnot"]
[null,null,null,null,null,"SKIKDA",9.1999999999999993,69,0.28799999999999998]
[null,null,null,null,null,"KSTAR",9.6,28,0.434]
[null,null,null,null,null,"LEP 6 kW AL",6.3,16,0.45900000000000002]
[null,null,null,null,null,"LEP 6 kW LINDE",6.1,15,0.53500000000000003]
[null,null,null,null,null,"LEP 12 kW AL",11.9,13.5,0.58499999999999996]
[null,null,null,null,null,"LEP 12 kW LINDE",11.9,13.6,0.57599999999999996]
[null,null,null,null,null,"LEP 18 kW",19.5,19.8,0.45500000000000002]
[null,null,null,null,null,"LHC 18 kW AL",17.899999999999999,24.5,0.50900000000000001]
[null,null,null,null,null,"LHC 18 kW LINDE",18.3,25,0.49]
[null,null,null,null,null,"QATAR",9,70.3,0.28399999999999997]
[null,null,null,null,null,"Rhéa",21.8,70.3,0.33]