{"text_format":"1","workbook":"xlsx","n_sheets":4,"sheets":["Sheet5","Property HePak","Fluides","Pipe diameter"],"not_rendered":{"charts":0,"images":0,"macros":1,"external_links":8,"defined_names":358,"comments":0,"pivot_tables":0},"unopened":[],"bounds":{"document_bytes":16777216,"sheet_cells":100000,"rows_first":2000,"rows_last":500,"rows_between":2000,"halvings":0,"cell_chars":16384,"cell_head_chars":4096},"cells_cut":0,"cells_raw":0,"read":"whole","date_system":"1900"}

{"sheet":"Sheet5","index":0,"n_rows":30,"n_cols":17,"rows_kept":30,"cut":false,"hidden":false,"merged":[]}
[]
[]
[]
[null,null,null,null,"m",null,null,100]
[null,null,null,null,null,null,null,{"$f":"4","v":4}]
[null,null,null,null,"losses",400,null,{"$f":"H5*H4","v":400}]
[null,null,null,null,"h_out",{"$f":"D17-F6","v":19344.618110640888}]
[]
[]
[]
[]
[]
[]
[null,null,"P = ",1,null,50,null,"P = ",{"$f":"D14-F14/1000","v":0.95},null,null,null,null,"P = ",1.1499999999999999]
[null,null,"T = ",{"$f":"T_sat(21,D14)","v":77.250978705448887},null,null,null,"T = ",{"$f":"T_P_H_(21,I14, I16)","v":76.819065711153812},null,null,null,null,"T = ",{"$f":"T_P_H_(21,O14, O16)","v":78.454904974481792}]
[null,null,"h_in = ",{"$f":"H_(21,D14,D15)","v":77.429874943689754},null,null,null,"h_out = ",{"$f":"I17/F21","v":75.861247492709367},null,null,null,null,"h_out = ",{"$f":"I16","v":75.861247492709367}]
[null,null,"Power input = ",{"$f":"D16*F21","v":19744.618110640888},null,null,null,"Power output = ",{"$f":"D17-F24","v":19344.618110640888}]
[]
[]
[]
[null,null,null,null,null,255,null,"Tsat",{"$f":"T_sat(21,I14)","v":76.819065711153812},null,null,null,null,"Tsat",{"$f":"T_sat(21,O14)","v":78.454904974481792}]
[null,null,null,null,null,4,null,"H_liq",{"$f":"H_(21,I14,I21-0.01)","v":-122.26166778220788},79.599999999999994,{"$f":"I22-J22","v":-201.86166778220786},null,null,"H_liq",{"$f":"H_(21,O14,O21-0.001)","v":-118.8532042139725},79.599999999999994,{"$f":"O22-P22","v":-198.4532042139725}]
[null,null,null,null,null,100,null,"H_Gas",{"$f":"H_(21,I14,I21+0.01)","v":77.109250762424566},44.3,{"$f":"I23-J23","v":32.809250762424568},null,null,"H_Gas",{"$f":"H_(21,O14,O21+0.001)","v":78.337408290952993},44.3,{"$f":"O23-P23","v":34.037408290952996}]
[null,null,null,null,null,{"$f":"F22*F23","v":400},null,"x=(H-Hg)/(Hl-Hg)",{"$f":"(I16-I23)/(I22-I23)","v":6.2597056723486602E-3},null,null,null,null,"x=(H-Hg)/(Hl-Hg)",{"$f":"(O16-O23)/(O22-O23)","v":1.2557194111772311E-2}]
[null,null,null,null,null,null,null,"Rho_liq",{"$f":"Rho(21,I14,I21-0.01)","v":811.06741032494449},"g/L",null,null,null,"Rho_liq",{"$f":"Rho(21,O14,O21-0.01)","v":803.53822944044396},"g/L"]
[null,null,null,null,null,null,null,"Rho_gas",{"$f":"Rho(21,I14,I21+0.01)","v":4.3447929814987321},"g/L",null,null,null,"Rho_gas",{"$f":"Rho(21,O14,O21+0.01)","v":5.1819609886073437},"g/L"]
[null,null,null,null,null,null,null,"m_liq",{"$f":"(1-I24)*F21","v":253.40377505355107},"g/s",{"$f":"I27/(I27+I28)","v":0.99374029432765143},null,null,"m_liq",{"$f":"(1-O24)*L21","v":0},"g/s",{"$f":"O27/(O27+O28)","v":{"$error":"#DIV/0!"}}]
[null,null,null,null,null,null,null,"m_gas",{"$f":"I24*F21","v":1.5962249464489084},"g/s",{"$f":"I28/(I28+I27)","v":6.2597056723486611E-3},null,null,"m_gas",{"$f":"O24*L21","v":0},"g/s",{"$f":"O28/(O28+O27)","v":{"$error":"#DIV/0!"}}]
[null,null,null,null,null,null,null,"Q_liq",{"$f":"(1-I24)*F21/I25*3.6","v":1.1247568063760573},"m3/h",{"$f":"I29/(I29+I30)","v":0.45958080971965776},null,null,"Q_liq",{"$f":"(1-O24)*L21/O25*3.6","v":0},"m3/h",{"$f":"O29/(O29+O30)","v":{"$error":"#DIV/0!"}}]
[null,null,null,null,null,null,null,"Q_gas",{"$f":"(I24)*F21/I26*3.6","v":1.3225969181237842},"m3/h",{"$f":"I30/(I30+I29)","v":0.54041919028034224},null,null,"Q_gas",{"$f":"(O24)*L21/O26*3.6","v":0},"m3/h",{"$f":"O30/(O30+O29)","v":{"$error":"#DIV/0!"}}]

{"sheet":"Property HePak","index":1,"n_rows":61,"n_cols":9,"rows_kept":61,"cut":false,"hidden":false,"merged":[[0,0,0,6],[1,0,1,6],[2,0,2,6],[4,2,4,3]]}
["HePak Spreadsheet Example"]
["Using HeCalc, HeProperty, HeUnit and HeInput"]
["Try new input values (shown in red)"]
[]
[null,null,"Thermodynamic state definition"]
[null,null,"Input 1","Input 2","Validate"]
[null,"Index",1,2,{"$f":"[8]!heProperty(Input2)","v":" Temperature "}]
[null,"Name",{"$f":"[8]!heProperty(Input1)","v":" Pressure "},{"$f":"[8]!heProperty(Input2)","v":" Temperature "}]
[null,"Value",{"$f":"1.2*10^5","v":120000},4.3,"Unit System",1]
[null,"Units",{"$f":"[8]!heunit(Input1,Units)","v":" [Pa] "},{"$f":"[8]!heunit(Input2,Units)","v":" [K] "}]
[]
[null,2,"Error Message"]
[null,3]
[]
[null,"Property","Property",null,"Property"]
[null,"Index","Name","Value","Units"]
[null,0,{"$f":"[8]!heProperty(B17)","v":" Quality "},{"$f":"[8]!HeCalc(B17,0,Input1,Value1,Input2,Value2,Units)","v":-1},{"$f":"[8]!heunit(B17,Units)","v":" [-] "},null,null,{"$f":"D17","v":-1}]
[null,1,{"$f":"[8]!heProperty(B18)","v":" Pressure "},{"$f":"[8]!HeCalc(B18,0,Input1,Value1,Input2,Value2,Units)","v":120000.00000086553},{"$f":"[8]!heunit(B18,Units)","v":" [Pa] "}]
[null,2,{"$f":"[8]!heProperty(B19)","v":" Temperature "},{"$f":"[8]!HeCalc(B19,0,Input1,Value1,Input2,Value2,Units)","v":4.3},{"$f":"[8]!heunit(B19,Units)","v":" [K] "}]
[null,3,{"$f":"[8]!heProperty(B20)","v":" Density "},{"$f":"[8]!HeCalc(B20,0,Input1,Value1,Input2,Value2,Units)","v":124.16830334961141},{"$f":"[8]!heunit(B20,Units)","v":" [kg/m3] "}]
[null,4,{"$f":"[8]!heProperty(B21)","v":" Specific Volume "},{"$f":"[8]!HeCalc(B21,0,Input1,Value1,Input2,Value2,Units)","v":8.0535851181309515E-3},{"$f":"[8]!heunit(B21,Units)","v":" [m3/kg] "}]
[null,5,{"$f":"[8]!heProperty(B22)","v":" Z = PV/RT "},{"$f":"[8]!HeCalc(B22,0,Input1,Value1,Input2,Value2,Units)","v":0.10819730967751783},{"$f":"[8]!heunit(B22,Units)","v":" [-] "}]
[null,6,{"$f":"[8]!heProperty(B23)","v":" DPTSat "},{"$f":"[8]!HeCalc(B23,0,Input1,Value1,Input2,Value2,Units)","v":0},{"$f":"[8]!heunit(B23,Units)","v":" [Pa/K] "}]
[null,7,{"$f":"[8]!heProperty(B24)","v":" Latent Heat "},{"$f":"[8]!HeCalc(B24,0,Input1,Value1,Input2,Value2,Units)","v":0},{"$f":"[8]!heunit(B24,Units)","v":" [J/kg] "}]
[null,8,{"$f":"[8]!heProperty(B25)","v":" Entropy "},{"$f":"[8]!HeCalc(B25,0,Input1,Value1,Input2,Value2,Units)","v":3641.112501293926},{"$f":"[8]!heunit(B25,Units)","v":" [J/kg-K] "}]
[null,9,{"$f":"[8]!heProperty(B26)","v":" Enthalpy "},{"$f":"[8]!HeCalc(B26,0,Input1,Value1,Input2,Value2,Units)","v":10450.765595043842},{"$f":"[8]!heunit(B26,Units)","v":" [J/kg] "},null,null,null,9407.9237518543996]
[null,10,{"$f":"[8]!heProperty(B27)","v":" Helmholtz "},{"$f":"[8]!HeCalc(B27,0,Input1,Value1,Input2,Value2,Units)","v":-6172.4483747027243},{"$f":"[8]!heunit(B27,Units)","v":" [J/kg] "}]
[null,11,{"$f":"[8]!heProperty(B28)","v":" Internal Energy "},{"$f":"[8]!HeCalc(B28,0,Input1,Value1,Input2,Value2,Units)","v":9484.3353808611573},{"$f":"[8]!heunit(B28,Units)","v":" [J/kg] "}]
[null,12,{"$f":"[8]!heProperty(B29)","v":" Gibbs Energy "},{"$f":"[8]!HeCalc(B29,0,Input1,Value1,Input2,Value2,Units)","v":-5206.0181605200396},{"$f":"[8]!heunit(B29,Units)","v":" [J/kg] "}]
[null,13,{"$f":"[8]!heProperty(B30)","v":" Res. for Fugacity "},{"$f":"[8]!HeCalc(B30,0,Input1,Value1,Input2,Value2,Units)","v":0}]
[null,14,{"$f":"[8]!heProperty(B31)","v":" Cp "},{"$f":"[8]!HeCalc(B31,0,Input1,Value1,Input2,Value2,Units)","v":5425.1470628853058},{"$f":"[8]!heunit(B31,Units)","v":" [J/kg-K] "}]
[null,15,{"$f":"[8]!heProperty(B32)","v":" Cv "},{"$f":"[8]!HeCalc(B32,0,Input1,Value1,Input2,Value2,Units)","v":2559.6906616530869},{"$f":"[8]!heunit(B32,Units)","v":" [J/kg-K] "}]
[null,16,{"$f":"[8]!heProperty(B33)","v":" Gamma "},{"$f":"[8]!HeCalc(B33,0,Input1,Value1,Input2,Value2,Units)","v":2.1194541763033445},{"$f":"[8]!heunit(B33,Units)","v":" [-] "}]
[null,17,{"$f":"[8]!heProperty(B34)","v":" Expansivity "},{"$f":"[8]!HeCalc(B34,0,Input1,Value1,Input2,Value2,Units)","v":0.91537940368096737},{"$f":"[8]!heunit(B34,Units)","v":" [TdV/VdT] "}]
[null,18,{"$f":"[8]!heProperty(B35)","v":" Gruneisen "},{"$f":"[8]!HeCalc(B35,0,Input1,Value1,Input2,Value2,Units)","v":1.2229400965345538},{"$f":"[8]!heunit(B35,Units)","v":" [-] "}]
[null,19,{"$f":"[8]!heProperty(B36)","v":" Compressibility "},{"$f":"[8]!HeCalc(B36,0,Input1,Value1,Input2,Value2,Units)","v":5.4768300601225417E-7},{"$f":"[8]!heunit(B36,Units)","v":" [1/Pa] "},null,null,null,{"$f":"[8]!HeCalc(19,0,1,Value1,2,Value2,1)","v":5.4768300601225417E-7}]
[null,20,{"$f":"[8]!heProperty(B37)","v":" Sound Velocity "},{"$f":"[8]!HeCalc(B37,0,Input1,Value1,Input2,Value2,Units)","v":176.53954766001985},{"$f":"[8]!heunit(B37,Units)","v":" [m/s] "},null,null,null,{"$f":"[8]!HeCalc(20,0,1,P,2,T,1)","v":{"$error":"#VALUE!"}}]
[null,21,{"$f":"[8]!heProperty(B38)","v":" JT Coefficient "},{"$f":"[8]!HeCalc(B38,0,Input1,Value1,Input2,Value2,Units)","v":-1.2561856246526891E-7},{"$f":"[8]!heunit(B38,Units)","v":" [K/Pa] "}]
[null,22,{"$f":"[8]!heProperty(B39)","v":" dPdD|T "},{"$f":"[8]!HeCalc(B39,0,Input1,Value1,Input2,Value2,Units)","v":14704.82930768671},{"$f":"[8]!heunit(B39,Units)","v":" [Pa-m3/kg] "}]
[null,23,{"$f":"[8]!heProperty(B40)","v":" dPdT|D "},{"$f":"[8]!HeCalc(B40,0,Input1,Value1,Input2,Value2,Units)","v":388690.04287460766},{"$f":"[8]!heunit(B40,Units)","v":" [Pa/K] "}]
[null,24,{"$f":"[8]!heProperty(B41)","v":" V*dHdV|P "},{"$f":"[8]!HeCalc(B41,0,Input1,Value1,Input2,Value2,Units)","v":25484.65945005821},{"$f":"[8]!heunit(B41,Units)","v":" [J/kg] "}]
[null,25,{"$f":"[8]!heProperty(B42)","v":" Viscosity "},{"$f":"[8]!HeCalc(B42,0,Input1,Value1,Input2,Value2,Units)","v":3.1583291741916663E-6},{"$f":"[8]!heunit(B42,Units)","v":" [Pa-s] "}]
[null,26,{"$f":"[8]!heProperty(B43)","v":" Conductivity "},{"$f":"[8]!HeCalc(B43,0,Input1,Value1,Input2,Value2,Units)","v":1.8812871540279791E-2},{"$f":"[8]!heunit(B43,Units)","v":" [W/m-K] "},null,null,null,{"$f":"lambda_(11,1,300)","v":0.15597330279314289}]
[null,27,{"$f":"[8]!heProperty(B44)","v":" Prandtl # "},{"$f":"[8]!HeCalc(B44,0,Input1,Value1,Input2,Value2,Units)","v":0.91078069641334847},{"$f":"[8]!heunit(B44,Units)","v":" [-] "}]
[null,28,{"$f":"[8]!heProperty(B45)","v":" Thermal Diff "},{"$f":"[8]!HeCalc(B45,0,Input1,Value1,Input2,Value2,Units)","v":2.7927549338271232E-8},{"$f":"[8]!heunit(B45,Units)","v":" [m2/s] "}]
[null,29,{"$f":"[8]!heProperty(B46)","v":" Surface Tension "},{"$f":"[8]!HeCalc(B46,0,Input1,Value1,Input2,Value2,Units)","v":0},{"$f":"[8]!heunit(B46,Units)","v":" [N/m] "}]
[null,30,{"$f":"[8]!heProperty(B47)","v":" Dielectric - 1 "},{"$f":"[8]!HeCalc(B47,0,Input1,Value1,Input2,Value2,Units)","v":4.8633787972894187E-2},{"$f":"[8]!heunit(B47,Units)","v":" [-] "}]
[null,31,{"$f":"[8]!heProperty(B48)","v":" Refraction - 1 "},{"$f":"[8]!HeCalc(B48,0,Input1,Value1,Input2,Value2,Units)","v":2.4031400647372435E-2},{"$f":"[8]!heunit(B48,Units)","v":" [-] "}]
[null,32,{"$f":"[8]!heProperty(B49)","v":" dT(P) "},{"$f":"[8]!HeCalc(B49,0,Input1,Value1,Input2,Value2,Units)","v":0},{"$f":"[8]!heunit(B49,Units)","v":" [K] "}]
[null,33,{"$f":"[8]!heProperty(B50)","v":" dT(V) "},{"$f":"[8]!HeCalc(B50,0,Input1,Value1,Input2,Value2,Units)","v":0},{"$f":"[8]!heunit(B50,Units)","v":" [K] "}]
[null,34,{"$f":"[8]!heProperty(B51)","v":" RhoS/Rho "},{"$f":"[8]!HeCalc(B51,0,Input1,Value1,Input2,Value2,Units)","v":0},{"$f":"[8]!heunit(B51,Units)","v":" [-] "}]
[null,35,{"$f":"[8]!heProperty(B52)","v":" 2nd Sound Vel. "},{"$f":"[8]!HeCalc(B52,0,Input1,Value1,Input2,Value2,Units)","v":0},{"$f":"[8]!heunit(B52,Units)","v":" [m/s] "}]
[null,36,{"$f":"[8]!heProperty(B53)","v":" 4th Sound Vel. "},{"$f":"[8]!HeCalc(B53,0,Input1,Value1,Input2,Value2,Units)","v":0},{"$f":"[8]!heunit(B53,Units)","v":" [m/s] "}]
[null,37,{"$f":"[8]!heProperty(B54)","v":" Gorter-Mellink "},{"$f":"[8]!HeCalc(B54,0,Input1,Value1,Input2,Value2,Units)","v":0},{"$f":"[8]!heunit(B54,Units)","v":" [m-s/kg] "}]
[null,38,{"$f":"[8]!heProperty(B55)","v":" SFTC "},{"$f":"[8]!HeCalc(B55,0,Input1,Value1,Input2,Value2,Units)","v":0},{"$f":"[8]!heunit(B55,Units)","v":" [W3/m5-K] "}]
[null,39,{"$f":"[8]!heProperty(B56)","v":" (T-Tlambda) "},{"$f":"[8]!HeCalc(B56,0,Input1,Value1,Input2,Value2,Units)","v":0},{"$f":"[8]!heunit(B56,Units)","v":" [K] "}]
[null,40," reserved"]
[null,41,{"$f":"[8]!heProperty(B58)","v":" Lambda line "},"Input only"," N/A"]
[null,42,{"$f":"[8]!heProperty(B59)","v":" Melting line "},"Input only"," N/A"]
[null,43,{"$f":"[8]!heProperty(B60)","v":" Saturated liquid "},"Input only"," N/A"]
[null,44,{"$f":"[8]!heProperty(B61)","v":" Saturated vapor "},"Input only"," N/A"]

{"sheet":"Fluides","index":2,"n_rows":53,"n_cols":8,"rows_kept":53,"cut":false,"hidden":false,"merged":[]}
[null,null,"Liste des fluides disponibles"]
[1,1,"Ammoniac","C:\\Program files\\GaspakDemo5\\NH379.gas",null,null,null,1]
[2,2,"Argon","C:\\Program files\\GaspakDemo5\\ARGON83.gas",null,null,null,2]
[3,21,"Nitrogen","C:\\Program files\\GaspakDemo5\\N273.gas",null,null,null,21]
[4,22,"Nitrogen","C:\\Program files\\GaspakDemo5\\N286.gas",null,null,null,22]
[5,4,"Butane Normal","C:\\Program files\\GaspakDemo5\\NORB86.gas",null,null,null,4]
[6,7,"Deutérium","C:\\Program files\\GaspakDemo5\\D286.gas",null,null,null,7]
[7,5,"Dioxide de carbone","C:\\Program files\\GaspakDemo5\\CO289.gas",null,null,null,5]
[8,27,"Eau","C:\\Program files\\GaspakDemo5\\H2O89.gas",null,null,null,27]
[9,8,"Ethane","C:\\Program files\\GaspakDemo5\\C2H686.gas",null,null,null,8]
[10,9,"Ethylène","C:\\Program files\\GaspakDemo5\\C2H481.gas",null,null,null,9]
[11,10,"Ethylène","C:\\Program files\\GaspakDemo5\\C2H486.gas",null,null,null,10]
[12,11,"Helium","C:\\Program files\\GaspakDemo5\\HE89.gas",null,null,null,11]
[13,16,"Hydrogen Sulfide","C:\\Program files\\GaspakDemo5\\H2S93.gas",null,null,null,16]
[14,3,"Isobutane","C:\\Program files\\GaspakDemo5\\ISOB86.gas",null,null,null,3]
[15,17,"Krypton","C:\\Program files\\GaspakDemo5\\KR90.gas",null,null,null,17]
[16,18,"Methane","C:\\Program files\\GaspakDemo5\\METH86.gas",null,null,null,18]
[17,19,"Methane","C:\\Program files\\GaspakDemo5\\CH489.gas",null,null,null,19]
[18,6,"Monoxide de carbone","C:\\Program files\\GaspakDemo5\\CO85.gas",null,null,null,6]
[19,20,"Néon","C:\\Program files\\GaspakDemo5\\NE91.gas",null,null,null,20]
[20,23,"Nitrogene Trifluoride","C:\\Program files\\GaspakDemo5\\NF380.gas",null,null,null,23]
[21,13,"Normal Hydrogene","C:\\Program files\\GaspakDemo5\\NH291.gas",null,null,null,13]
[22,24,"Oxygène","C:\\Program files\\GaspakDemo5\\O278.gas",null,null,null,24]
[23,25,"Oxygène","C:\\Program files\\GaspakDemo5\\O285.gas",null,null,null,25]
[24,15,"Hydrogène Para","C:\\Program files\\GaspakDemo5\\PH275.gas",null,null,null,15]
[25,26,"Propane","C:\\Program files\\GaspakDemo5\\C3H886.gas",null,null,null,26]
[26,29,"R11","C:\\Program files\\GaspakDemo5\\R1191.gas",null,null,null,29]
[27,30,"R12","C:\\Program files\\GaspakDemo5\\R1291.gas",null,null,null,30]
[28,33,"R123","C:\\Program files\\GaspakDemo5\\R123N93.gas",null,null,null,33]
[29,34,"R124","C:\\Program files\\GaspakDemo5\\R124N93.gas",null,null,null,34]
[30,35,"R125","C:\\Program files\\GaspakDemo5\\R125N93.gas",null,null,null,35]
[31,36,"R134","C:\\Program files\\GaspakDemo5\\R134AN92.gas",null,null,null,36]
[32,37,"R134","C:\\Program files\\GaspakDemo5\\R134AT93.gas",null,null,null,37]
[33,38,"R152","C:\\Program files\\GaspakDemo5\\R152AT94.gas",null,null,null,38]
[34,31,"R22","C:\\Program files\\GaspakDemo5\\R2291.gas",null,null,null,31]
[35,32,"R32","C:\\Program files\\GaspakDemo5\\R32N93.gas",null,null,null,32]
[36,50,"R32","C:\\Program files\\GaspakDemo5\\R32N94.gas",null,null,null,50]
[37,28,"Xénon","C:\\Program files\\GaspakDemo5\\\\XE90.gas",null,null,null,28]
[38,"Phosphine",1.45,10.6]
[39,"Protoxyde d'azote",1.8720000000000001,13.6]
[40,"R11 gaz",6.2,10.16]
[41,"R12 gaz",5.75,11.99]
[42,"R22 gaz",4.2300000000000004,11.8]
[43,"Silane",1.36,10.8]
[44,"Sulfure d'hydrogène",1.45,11.79]
[45,"R11 liq",1500,567.5]
[46,"R12 liq",1350,260]
[47,"R22 liq",1250,210]
[48,"R32 liq",1000,193.2]
[49,"R123 liq",1500,569.6]
[50,"R124 liq",1400,346]
[51,"R125 liq",1250,205]
[52,"R152a liq",950,214]

{"sheet":"Pipe diameter","index":3,"n_rows":56,"n_cols":9,"rows_kept":56,"cut":false,"hidden":false,"merged":[[3,2,3,6],[3,7,3,8],[26,2,26,6],[26,7,26,8]]}
[]
["I/ PN10"]
[]
[null,null,"Service limit",null,null,null,null,"Design data*"]
[null,"Pressure (Bar)",10,10,10,10,"Vacuum",10,"Vacuum"]
[null,"Temperature (°C)",-273,38,50,100,20,100,100]
[]
[]
[null,"Diam","DN","D out","Ep","D in"]
[null,"3/8\"",10,17.2,1.6,{"$f":"D10-2*E10","v":14}]
[null,"1/2\"",15,21.3,1.6,18.100000000000001]
[null,"3/4\"",20,26.9,1.6,23.7]
[null,"1\"",25,33.700000000000003,1.6,30.500000000000004]
[null,"1\"1/4",32,42.4,1.6,39.199999999999996]
[null,"1\"1/2",40,48.3,1.6,45.099999999999994]
[null,"2\"",50,60.3,2,56.3]
[null,"2\"1/2",65,76.099999999999994,2.9,70.3]
[null,"3\"",80,86.9,3.05,80.800000000000011]
[null,"4\"",100,114.3,6.02,102.25999999999999]
[null,"6\"",150,168.3,7.11,154.08000000000001]
[null,"8\"",200,219.1,8.18,202.74]
[null,"10\"",250,273,9.27,254.46]
[null,"12\"",300,323.89999999999998,9.5299999999999994,304.83999999999997]
[]
["II/ PN27"]
[]
[null,null,"Service limit",null,null,null,null,"Design data*"]
[null,"Pressure (Bar)",27,27,27,27,"Vacuum",27,"Vacuum"]
[null,"Temperature (°C)",-273,38,50,100,20,100,100]
[]
[]
[null,"Diam","DN","D out","Ep","D in"]
[null,"3/8\"",10,17.2,1.6,{"$f":"D33-2*E33","v":14}]
[null,"1/2\"",15,21.3,1.6,18.100000000000001]
[null,"3/4\"",20,26.9,1.6,23.7]
[null,"1\"",25,33.700000000000003,1.6,30.500000000000004]
[null,"1\"1/4",32,42.4,1.6,39.199999999999996]
[null,"1\"1/2",40,48.3,1.6,45.099999999999994]
[null,"2\"",50,60.3,1.6,57.099999999999994]
[null,"2\"1/2",65,76.099999999999994,1.6,72.899999999999991]
[null,"3\"",80,86.9,1.6,83.7]
[null,"4\"",100,114.3,2,110.3]
[null,"6\"",150,168.3,3.4,161.5]
[null,"8\"",200,219.1,3.76,211.57999999999998]
[null,"10\"",250,273,4.1900000000000004,264.62]
[null,"12\"",300,323.89999999999998,4.57,314.76]
[]
[]
["III/ Nombre de coudes"]
[]
[null,0]
[null,1]
[null,2]
[null,3]
[null,4]
[null,5]