{"text_format":"1","workbook":"xlsx","n_sheets":4,"sheets":["Sheet1","Sheet2","Sheet3","Sheet4"],"not_rendered":{"charts":2,"images":5,"macros":1,"external_links":1,"defined_names":39,"comments":0,"pivot_tables":0},"unopened":[],"bounds":{"document_bytes":16777216,"sheet_cells":100000,"rows_first":2000,"rows_last":500,"rows_between":2000,"halvings":0,"cell_chars":16384,"cell_head_chars":4096},"cells_cut":0,"cells_raw":0,"read":"whole","date_system":"1900"}

{"sheet":"Sheet1","index":0,"n_rows":20,"n_cols":10,"rows_kept":20,"cut":false,"hidden":false,"merged":[]}
[null,null,null,null,120,120,{"$f":"E1-210","v":-90},{"$f":"F1-210","v":-90},210,210]
["L","m",0.35,0.35,{"$f":"C2+E1/1000","v":0.47},{"$f":"D2+F1/1000","v":0.47},{"$f":"C2+G1/1000","v":0.26},{"$f":"D2+H1/1000","v":0.26},{"$f":"C2+I1/1000","v":0.55999999999999994},{"$f":"D2+J1/1000","v":0.55999999999999994}]
["D","mm",70,15,70,15,70,15,70,15]
["e","mm",4,{"$f":"D3/2","v":7.5},4,{"$f":"F3/2","v":7.5},4,{"$f":"H3/2","v":7.5},4,7.5]
["S",null,{"$f":"PI()*((C3/2000)^2-((C3-2*C4)/2000)^2)","v":8.293804605477061E-4},{"$f":"PI()*((D3/2000)^2-((D3-2*D4)/2000)^2)","v":1.7671458676442585E-4},{"$f":"PI()*((E3/2000)^2-((E3-2*E4)/2000)^2)","v":8.293804605477061E-4},1.7671458676442585E-4,8.293804605477061E-4,1.7671458676442585E-4,{"$f":"PI()*((I3/2000)^2-((I3-2*I4)/2000)^2)","v":8.293804605477061E-4},1.7671458676442585E-4]
["Tcold",null,2,2,2,2,2,2,2,2]
["Twarm",null,300,300,300,300,300,300,300,300]
[]
[null,null,{"$f":"[1]!Conduction_cyl_304L(C2,C3,C4,C6,C7)","v":-7.1903488407228},{"$f":"[1]!Conduction_cyl_304L(D2,D3,D4,D6,D7)","v":-1.532034554131277},{"$f":"[1]!Conduction_cyl_304L(E2,E3,E4,E6,E7)","v":-5.3545153002957662},{"$f":"[1]!Conduction_cyl_304L(F2,F3,F4,F6,F7)","v":-1.1408768395516538},{"$f":"[1]!Conduction_cyl_304L(G2,G3,G4,G6,G7)","v":-9.6793162820571208},{"$f":"[1]!Conduction_cyl_304L(H2,H3,H4,H6,H7)","v":-2.062354321461032},{"$f":"[1]!Conduction_cyl_304L(I2,I3,I4,I6,I7)","v":-4.493967905870786},{"$f":"[1]!Conduction_cyl_304L(J2,J3,J4,J6,J7)","v":-0.9575215708531496}]
[]
[null,null,null,{"$f":"C9+D9","v":-8.7223833948540772},null,{"$f":"E9+F9","v":-6.4953921398474197},null,{"$f":"G9+H9","v":-11.741670603518152},null,{"$f":"I9+J9","v":-5.4514894767239355}]
[null,null,null,null,null,{"$f":"(-D11+F11)/D11","v":-0.25531912026711756},null,{"$f":"(-D11+H11)/F11","v":0.46483524684238686},null,{"$f":"(-F11+J11)/H11","v":-8.8905803813871268E-2}]
[]
[null,null,null,null,null,{"$f":"(-D2+F2)/D2","v":0.34285714285714286},null,{"$f":"(-D2+H2)/D2","v":-0.25714285714285706},null,{"$f":"(-F2+J2)/F2","v":0.1914893617021276}]
[]
[null,null,{"$f":"[1]!Conduction_S_L($C$2,C5,\"304L\",$C$6,C7)","v":-7.1903489335879023},{"$f":"[1]!Conduction_S_L($C$2,D5,\"304L\",$D$6,D7)","v":-1.5320345624489278}]
[]
[]
[]
[null,null,{"$f":"0.002002","v":2.0019999999999999E-3},{"$f":"4.253*10^-6","v":4.2529999999999998E-6}]

{"sheet":"Sheet2","index":1,"n_rows":67,"n_cols":30,"rows_kept":67,"cut":false,"hidden":false,"merged":[]}
[]
[]
[]
[]
[]
[null,"No Collar",null,"Stem",null,null,"Collar at 1/3"]
[null,null,null,"External","internal",null,null,null,"internal",{"$f":"1/3","v":0.33333333333333331},{"$f":"1-J7","v":0.66666666666666674}]
[null,"L","m",0.5,{"$f":"D8","v":0.5},null,"L","m",0.5,{"$f":"J7*I8","v":0.16666666666666666},{"$f":"K7*I8","v":0.33333333333333337}]
[null,"D","mm",70,15,null,"D","mm",15,70,70]
[null,"e","mm",4,{"$f":"E9/2","v":7.5},null,"e","mm","1900-01-07T12:00:00",4,4]
[null,"S",null,{"$f":"PI()*((D9/2000)^2-((D9-2*D10)/2000)^2)","v":8.293804605477061E-4},{"$f":"PI()*((E9/2000)^2-((E9-2*E10)/2000)^2)","v":1.7671458676442585E-4},null,"S",null,{"$f":"PI()*((I9/2000)^2-((I9-2*I10)/2000)^2)","v":1.7671458676442585E-4},{"$f":"PI()*((J9/2000)^2-((J9-2*J10)/2000)^2)","v":8.293804605477061E-4},{"$f":"PI()*((K9/2000)^2-((K9-2*K10)/2000)^2)","v":8.293804605477061E-4}]
[null,"Tcold",null,2,2,null,"Tcold",null,2,55,2]
[null,"Twarm",null,300,300,null,"Twarm",null,300,300,55]
[]
[null,"Heat Losses",null,{"$f":"[1]!Conduction_cyl_304L(D8,D9,D10,D12,D13)","v":-5.0332441349336872},{"$f":"[1]!Conduction_cyl_304L(E8,E9,E10,E12,E13)","v":-1.0724241764773472},null,null,null,{"$f":"[1]!Conduction_cyl_304L(I8,I9,I10,I12,I13)","v":-1.0724241764773472},{"$f":"[1]!Conduction_cyl_304L(J8,J9,J10,J12,J13)","v":-14.243007788827274},{"$f":"[1]!Conduction_cyl_304L(K8,K9,K10,K12,K13)","v":-0.42243388831138512}]
[]
[null,"Total losses at 2K",null,null,{"$f":"D15+E15","v":-6.1056683114110344},null,"Losses at 55K",null,null,{"$f":"H15+J15","v":-14.243007788827274}]
[null,null,null,null,null,null,"Losses at 2K",null,null,null,{"$f":"I15+K15","v":-1.4948580647887324}]
[]
[null,"Heat Losses equivalent at 4.5K",null,null,{"$f":"E17*D25/D24","v":-13.853978351272753},null,"Heat Losses equivalent at 4.5K",null,null,null,{"$f":"K18*$D$25/$D$24  + J17/$D$24*$D$23","v":-4.3580707196694997}]
[null,null,null,null,null,null,null,null,null,null,{"$f":"K20/E20","v":0.3145717864694893}]
[]
[null,"Carnot 55K",null,{"$f":"(300-55)/55","v":4.4545454545454541}]
[null,"Carnot 4.5K",null,{"$f":"(300-4.5)/4.5","v":65.666666666666671}]
[null,"carnot 2 K",null,{"$f":"(300-2)/2","v":149}]
[]
[]
[]
[]
[]
[]
[]
[]
[]
[]
[null,null,"Collar at 1/3"]
[null,null,null,null,null,0.05,{"$f":"F37+5%","v":0.1},{"$f":"G37+5%","v":0.15000000000000002},0.2,0.25,0.3,0.35,0.39999999999999997,0.44999999999999996,0.49999999999999994,0.54999999999999993,0.6,0.65,0.70000000000000007,0.75000000000000011,0.80000000000000016,0.8500000000000002,0.90000000000000024,{"$f":"W37+5%","v":0.95000000000000029}]
[null,null,"L","m",0.5,{"$f":"F37*$E$38","v":2.5000000000000001E-2},{"$f":"G37*$E$38","v":0.05},{"$f":"H37*$E$38","v":7.5000000000000011E-2},{"$f":"I37*$E$38","v":0.1},{"$f":"J37*$E$38","v":0.125},{"$f":"K37*$E$38","v":0.15},{"$f":"L37*$E$38","v":0.17499999999999999},{"$f":"M37*$E$38","v":0.19999999999999998},{"$f":"N37*$E$38","v":0.22499999999999998},{"$f":"O37*$E$38","v":0.24999999999999997},{"$f":"P37*$E$38","v":0.27499999999999997},{"$f":"Q37*$E$38","v":0.3},{"$f":"R37*$E$38","v":0.32500000000000001},{"$f":"S37*$E$38","v":0.35000000000000003},{"$f":"T37*$E$38","v":0.37500000000000006},{"$f":"U37*$E$38","v":0.40000000000000008},{"$f":"V37*$E$38","v":0.4250000000000001},{"$f":"W37*$E$38","v":0.45000000000000012},0.47500000000000014]
[null,null,"D","mm",15,70,70,70,70,70,70,70,70,70,70,70,70,70,70,70,70,70,70,70]
[null,null,"e","mm","1900-01-07T12:00:00",4,4,4,4,4,4,4,4,4,4,4,4,4,4,4,4,4,4,4]
[null,null,"S",null,{"$f":"PI()*((E39/2000)^2-((E39-2*E40)/2000)^2)","v":1.7671458676442585E-4},{"$f":"PI()*((F39/2000)^2-((F39-2*F40)/2000)^2)","v":8.293804605477061E-4},{"$f":"PI()*((G39/2000)^2-((G39-2*G40)/2000)^2)","v":8.293804605477061E-4},{"$f":"PI()*((H39/2000)^2-((H39-2*H40)/2000)^2)","v":8.293804605477061E-4},{"$f":"PI()*((I39/2000)^2-((I39-2*I40)/2000)^2)","v":8.293804605477061E-4},{"$f":"PI()*((J39/2000)^2-((J39-2*J40)/2000)^2)","v":8.293804605477061E-4},{"$f":"PI()*((K39/2000)^2-((K39-2*K40)/2000)^2)","v":8.293804605477061E-4},{"$f":"PI()*((L39/2000)^2-((L39-2*L40)/2000)^2)","v":8.293804605477061E-4},{"$f":"PI()*((M39/2000)^2-((M39-2*M40)/2000)^2)","v":8.293804605477061E-4},{"$f":"PI()*((N39/2000)^2-((N39-2*N40)/2000)^2)","v":8.293804605477061E-4},{"$f":"PI()*((O39/2000)^2-((O39-2*O40)/2000)^2)","v":8.293804605477061E-4},{"$f":"PI()*((P39/2000)^2-((P39-2*P40)/2000)^2)","v":8.293804605477061E-4},{"$f":"PI()*((Q39/2000)^2-((Q39-2*Q40)/2000)^2)","v":8.293804605477061E-4},{"$f":"PI()*((R39/2000)^2-((R39-2*R40)/2000)^2)","v":8.293804605477061E-4},{"$f":"PI()*((S39/2000)^2-((S39-2*S40)/2000)^2)","v":8.293804605477061E-4},{"$f":"PI()*((T39/2000)^2-((T39-2*T40)/2000)^2)","v":8.293804605477061E-4},{"$f":"PI()*((U39/2000)^2-((U39-2*U40)/2000)^2)","v":8.293804605477061E-4},{"$f":"PI()*((V39/2000)^2-((V39-2*V40)/2000)^2)","v":8.293804605477061E-4},{"$f":"PI()*((W39/2000)^2-((W39-2*W40)/2000)^2)","v":8.293804605477061E-4},8.293804605477061E-4]
[null,null,"Tcold",null,2,55,55,55,55,55,55,55,55,55,55,55,55,55,55,55,55,55,55,55]
[null,null,"Twarm",null,300,300,300,300,300,300,300,300,300,300,300,300,300,300,300,300,300,300,300,300]
[]
[null,null,null,null,{"$f":"[1]!Conduction_cyl_304L(E38,E39,E40,E42,E43)","v":-1.0724241764773472},{"$f":"[1]!Conduction_cyl_304L(F38,F39,F40,F42,F43)","v":-94.953392333427146},{"$f":"[1]!Conduction_cyl_304L(G38,G39,G40,G42,G43)","v":-47.476696166713573},{"$f":"[1]!Conduction_cyl_304L(H38,H39,H40,H42,H43)","v":-31.651128812648288},{"$f":"[1]!Conduction_cyl_304L(I38,I39,I40,I42,I43)","v":-23.738348083356787},{"$f":"[1]!Conduction_cyl_304L(J38,J39,J40,J42,J43)","v":-18.990677759227538},{"$f":"[1]!Conduction_cyl_304L(K38,K39,K40,K42,K43)","v":-15.825564406324144},{"$f":"[1]!Conduction_cyl_304L(L38,L39,L40,L42,L43)","v":-13.564769972398828},{"$f":"[1]!Conduction_cyl_304L(M38,M39,M40,M42,M43)","v":-11.869174041678393},{"$f":"[1]!Conduction_cyl_304L(N38,N39,N40,N42,N43)","v":-10.550377144287564},{"$f":"[1]!Conduction_cyl_304L(O38,O39,O40,O42,O43)","v":-9.4953388796137688},{"$f":"[1]!Conduction_cyl_304L(P38,P39,P40,P42,P43)","v":-8.6321264295971165},{"$f":"[1]!Conduction_cyl_304L(Q38,Q39,Q40,Q42,Q43)","v":-7.912782203162072},{"$f":"[1]!Conduction_cyl_304L(R38,R39,R40,R42,R43)","v":-7.3041072072248596},{"$f":"[1]!Conduction_cyl_304L(S38,S39,S40,S42,S43)","v":-6.7823849861994141},{"$f":"[1]!Conduction_cyl_304L(T38,T39,T40,T42,T43)","v":-6.3302257625296576},{"$f":"[1]!Conduction_cyl_304L(U38,U39,U40,U42,U43)","v":-5.9345870208391966},{"$f":"[1]!Conduction_cyl_304L(V38,V39,V40,V42,V43)","v":-5.5854934830758456},{"$f":"[1]!Conduction_cyl_304L(W38,W39,W40,W42,W43)","v":-5.2751885721437821},{"$f":"[1]!Conduction_cyl_304L(X38,X39,X40,X42,X43)","v":-4.9975469159242882}]
[]
[null,null,null,null,null,{"$f":"[1]!Conduction_S_L($C$2,F36,\"304L\",$C$6,F38)","v":{"$error":"#VALUE!"}}]
[]
[]
[null,null,"Heat Losses equivalent at 4.5K",null,null,{"$f":"1-F37","v":0.95},{"$f":"1-G37","v":0.9},{"$f":"1-H37","v":0.85},0.8,0.75,0.7,0.65,0.60000000000000009,0.55000000000000004,0.5,0.45000000000000007,0.4,0.35,0.29999999999999993,0.24999999999999989,0.19999999999999984,0.1499999999999998,9.9999999999999756E-2,4.9999999999999711E-2]
[null,null,null,null,null,{"$f":"F50*$E$38","v":0.47499999999999998},{"$f":"G50*$E$38","v":0.45},{"$f":"H50*$E$38","v":0.42499999999999999},{"$f":"I50*$E$38","v":0.4},{"$f":"J50*$E$38","v":0.375},{"$f":"K50*$E$38","v":0.35},{"$f":"L50*$E$38","v":0.32500000000000001},{"$f":"M50*$E$38","v":0.30000000000000004},{"$f":"N50*$E$38","v":0.27500000000000002},{"$f":"O50*$E$38","v":0.25},{"$f":"P50*$E$38","v":0.22500000000000003},{"$f":"Q50*$E$38","v":0.2},{"$f":"R50*$E$38","v":0.17499999999999999},{"$f":"S50*$E$38","v":0.14999999999999997},{"$f":"T50*$E$38","v":0.12499999999999994},{"$f":"U50*$E$38","v":9.9999999999999922E-2},{"$f":"V50*$E$38","v":7.49999999999999E-2},{"$f":"W50*$E$38","v":4.9999999999999878E-2},2.4999999999999856E-2]
[null,null,null,null,null,70,70,70,70,70,70,70,70,70,70,70,70,70,70,70,70,70,70,70]
[null,null,null,null,null,4,4,4,4,4,4,4,4,4,4,4,4,4,4,4,4,4,4,4]
[null,null,null,null,null,{"$f":"PI()*((F52/2000)^2-((F52-2*F53)/2000)^2)","v":8.293804605477061E-4},{"$f":"PI()*((G52/2000)^2-((G52-2*G53)/2000)^2)","v":8.293804605477061E-4},{"$f":"PI()*((H52/2000)^2-((H52-2*H53)/2000)^2)","v":8.293804605477061E-4},{"$f":"PI()*((I52/2000)^2-((I52-2*I53)/2000)^2)","v":8.293804605477061E-4},{"$f":"PI()*((J52/2000)^2-((J52-2*J53)/2000)^2)","v":8.293804605477061E-4},{"$f":"PI()*((K52/2000)^2-((K52-2*K53)/2000)^2)","v":8.293804605477061E-4},{"$f":"PI()*((L52/2000)^2-((L52-2*L53)/2000)^2)","v":8.293804605477061E-4},{"$f":"PI()*((M52/2000)^2-((M52-2*M53)/2000)^2)","v":8.293804605477061E-4},{"$f":"PI()*((N52/2000)^2-((N52-2*N53)/2000)^2)","v":8.293804605477061E-4},{"$f":"PI()*((O52/2000)^2-((O52-2*O53)/2000)^2)","v":8.293804605477061E-4},{"$f":"PI()*((P52/2000)^2-((P52-2*P53)/2000)^2)","v":8.293804605477061E-4},{"$f":"PI()*((Q52/2000)^2-((Q52-2*Q53)/2000)^2)","v":8.293804605477061E-4},{"$f":"PI()*((R52/2000)^2-((R52-2*R53)/2000)^2)","v":8.293804605477061E-4},{"$f":"PI()*((S52/2000)^2-((S52-2*S53)/2000)^2)","v":8.293804605477061E-4},{"$f":"PI()*((T52/2000)^2-((T52-2*T53)/2000)^2)","v":8.293804605477061E-4},{"$f":"PI()*((U52/2000)^2-((U52-2*U53)/2000)^2)","v":8.293804605477061E-4},{"$f":"PI()*((V52/2000)^2-((V52-2*V53)/2000)^2)","v":8.293804605477061E-4},{"$f":"PI()*((W52/2000)^2-((W52-2*W53)/2000)^2)","v":8.293804605477061E-4},8.293804605477061E-4]
[null,null,null,null,null,2,2,2,2,2,2,2,2,2,2,2,2,2,2,2,2,2,2,2]
[null,null,null,null,null,55,55,55,55,55,55,55,55,55,55,55,55,55,55,55,55,55,55,55]
[]
[null,null,null,null,null,{"$f":"[1]!Conduction_cyl_304L(F51,F52,F53,F55,F56)","v":-0.29644485308342194},{"$f":"[1]!Conduction_cyl_304L(G51,G52,G53,G55,G56)","v":-0.31291402113176303},{"$f":"[1]!Conduction_cyl_304L(H51,H52,H53,H55,H56)","v":-0.33132071050954687},{"$f":"[1]!Conduction_cyl_304L(I51,I52,I53,I55,I56)","v":-0.35202826648763591},{"$f":"[1]!Conduction_cyl_304L(J51,J52,J53,J55,J56)","v":-0.37549679427290172},{"$f":"[1]!Conduction_cyl_304L(K51,K52,K53,K55,K56)","v":-0.40231800813764529},{"$f":"[1]!Conduction_cyl_304L(L51,L52,L53,L55,L56)","v":-0.43326556496185975},{"$f":"[1]!Conduction_cyl_304L(M51,M52,M53,M55,M56)","v":-0.46937099284112715},{"$f":"[1]!Conduction_cyl_304L(N51,N52,N53,N55,N56)","v":-0.51204110622064403},{"$f":"[1]!Conduction_cyl_304L(O51,O52,O53,O55,O56)","v":-0.56324520539769807},{"$f":"[1]!Conduction_cyl_304L(P51,P52,P53,P55,P56)","v":-0.62582804226352606},{"$f":"[1]!Conduction_cyl_304L(Q51,Q52,Q53,Q55,Q56)","v":-0.70405653297527182},{"$f":"[1]!Conduction_cyl_304L(R51,R52,R53,R55,R56)","v":-0.80463601627529058},{"$f":"[1]!Conduction_cyl_304L(S51,S52,S53,S55,S56)","v":-0.93874198568225431},{"$f":"[1]!Conduction_cyl_304L(T51,T52,T53,T55,T56)","v":-1.1264904107953961},{"$f":"[1]!Conduction_cyl_304L(U51,U52,U53,U55,U56)","v":-1.4081130659505436},{"$f":"[1]!Conduction_cyl_304L(V51,V52,V53,V55,V56)","v":-1.8774839713645086},{"$f":"[1]!Conduction_cyl_304L(W51,W52,W53,W55,W56)","v":-2.8162261319010873},{"$f":"[1]!Conduction_cyl_304L(X51,X52,X53,X55,X56)","v":-5.6324522638021746}]
[]
[null,null,null,null,null,{"$f":"$E$45+F58","v":-1.3688690295607691},{"$f":"$E$45+G58","v":-1.3853381976091104},{"$f":"$E$45+H58","v":-1.403744886986894},-1.4244524429649832,-1.4479209707502489,-1.4747421846149926,-1.505689741439207,-1.5417951693184744,-1.5844652826979913,-1.6356693818750454,-1.6982522187408733,-1.7764807094526192,-1.8770601927526378,-2.0111661621596015,-2.1989145872727436,-2.4805372424278911,-2.9499081478418558,-3.8886503083784345,-6.7048764402795218]
[]
[]
[null,null,null,null,null,{"$f":"F60*$D$25/$D$24  + F45/$D$24*$D$23","v":-9.5472439738643704},{"$f":"G60*$D$25/$D$24  + G45/$D$24*$D$23","v":-6.363997348477568},{"$f":"H60*$D$25/$D$24  + H45/$D$24*$D$23","v":-5.3322240631166835},-4.8424410845926484,-4.5736303847648454,-4.4197809365397172,-4.3366394299027267,-4.3035419620053821,-4.310900431581123,-4.3555150742883342,-4.4389611189200044,-4.5676671122488939,-4.7545956286233375,-5.0234954371527802,-5.418830739599418,-6.0310041130970475,-7.0723423649979473,-9.181331927273602,-15.552615068525739,null,null,null,null,null,{"$f":"2/3","v":0.66666666666666663}]
[null,null,null,null,null,{"$f":"F63/A50","v":{"$error":"#DIV/0!"}}]
[]
[]
[null,null,null,null,null,{"$f":"F60+F45","v":-96.322261362987916},{"$f":"G60+G45","v":-48.862034364322682},-33.054873699635181,-25.162800526321771,-20.438598729977787,-17.300306590939137,-15.070459713838035,-13.410969210996868,-12.134842426985555,-11.131008261488814,-10.330378648337989,-9.6892629126146907,-9.1811673999774968,-8.7935511483590147,-8.5291403498024003,-8.4151242632670886,-8.5354016309177005,-9.1638388805222171,-11.702423356203809]

{"sheet":"Sheet3","index":2,"n_rows":19,"n_cols":7,"rows_kept":19,"cut":false,"hidden":false,"merged":[]}
[]
[]
[]
[null,null,null,null,null,0.5,{"$f":"1-F4","v":0.5}]
[null,"L","m",{"$f":"(230+229+100+100+200)/1000","v":0.85899999999999999},null,{"$f":"F4*D5","v":0.42949999999999999},{"$f":"G4*D5","v":0.42949999999999999}]
[null,"D","mm",60.3,null,70,70]
[null,"e","mm",2.77,null,4,4]
[null,"S",null,{"$f":"PI()*((D6/2000)^2-((D6-2*D7)/2000)^2)","v":5.0063823625002798E-4},null,{"$f":"PI()*((F6/2000)^2-((F6-2*F7)/2000)^2)","v":8.293804605477061E-4},{"$f":"PI()*((G6/2000)^2-((G6-2*G7)/2000)^2)","v":8.293804605477061E-4}]
[null,"Tcold",null,2,null,55,2]
[null,"Twarm",null,300,null,300,55]
[]
[null,null,null,{"$f":"[1]!Conduction_cyl_304L(D5,D6,D7,D9,D10)","v":-1.7684591993247778},null,{"$f":"[1]!Conduction_cyl_304L(F5,F6,F7,F9,F10)","v":-5.5269725758899018},{"$f":"[1]!Conduction_cyl_304L(G5,G6,G7,G9,G10)","v":-0.32784936306150847}]
[]
[null,null,null,null,null,{"$f":"D13+F12","v":-5.5269725758899018},{"$f":"E13+G12","v":-0.32784936306150847}]
[]
[]
[]
[]
[null,null,null,{"$f":"[1]!Conduction_S_L($D$5,D8,\"304L\",$D$9,D10)","v":-1.7684591506251974}]

{"sheet":"Sheet4","index":3,"n_rows":9,"n_cols":10,"rows_kept":9,"cut":false,"hidden":false,"merged":[]}
[]
[]
[]
[null,null,null,"Beam Line","A","B","C","D","E","F"]
[null,null,null,null,2,2,5,8,35,55]
[null,null,"Heat Losses :"]
[]
[null,null,"VAT Valve",1.5,null,null,null,null,null,15]
[null,null,"2 \"L-Shape\"",{"$f":"2*0.5","v":1},null,null,null,null,null,12]